BEGIN:VCALENDAR
VERSION:2.0
PRODID:https://www.kufer.de/kuferweb / DE
METHOD:PUBLISH
CALSCALE:GREGORIAN
X-WR-TIMEZONE:Europe/Berlin
BEGIN:VTIMEZONE
TZID:Europe/Berlin
X-LIC-LOCATION:Europe/Berlin
BEGIN:DAYLIGHT
TZOFFSETFROM:+0100
TZOFFSETTO:+0200
TZNAME:CEST
DTSTART:19700329T020000
RRULE:FREQ=YEARLY;INTERVAL=1;BYDAY=-1SU;BYMONTH=3
END:DAYLIGHT
BEGIN:STANDARD
TZOFFSETFROM:+0200
TZOFFSETTO:+0100
TZNAME:CET
DTSTART:19701025T030000
RRULE:FREQ=YEARLY;INTERVAL=1;BYDAY=-1SU;BYMONTH=10
END:STANDARD
END:VTIMEZONE
BEGIN:VEVENT
DTSTAMP:20260425T131245
DTSTART;TZID=Europe/Berlin:20260506T180000
DTEND;TZID=Europe/Berlin:20260506T210000
UID:261M71-112-20260506T180000@VHSBREMEN
SUMMARY:Stadtfotografie - Kreative Bildideen für die nächste Städtereise Für Einsteiger*innen und Fortgeschrittene (261M71-112) 
LOCATION:vhs im Bamberger, Raum 415, Faulenstraße 69, 28195 Bremen
END:VEVENT
BEGIN:VEVENT
DTSTAMP:20260425T131245
DTSTART;TZID=Europe/Berlin:20260513T180000
DTEND;TZID=Europe/Berlin:20260513T210000
UID:261M71-112-20260513T180000@VHSBREMEN
SUMMARY:Stadtfotografie - Kreative Bildideen für die nächste Städtereise Für Einsteiger*innen und Fortgeschrittene (261M71-112) 
LOCATION:vhs im Bamberger, Raum 415, Faulenstraße 69, 28195 Bremen
END:VEVENT
BEGIN:VEVENT
DTSTAMP:20260425T131245
DTSTART;TZID=Europe/Berlin:20260520T180000
DTEND;TZID=Europe/Berlin:20260520T210000
UID:261M71-112-20260520T180000@VHSBREMEN
SUMMARY:Stadtfotografie - Kreative Bildideen für die nächste Städtereise Für Einsteiger*innen und Fortgeschrittene (261M71-112) 
LOCATION:vhs im Bamberger, Raum 415, Faulenstraße 69, 28195 Bremen
END:VEVENT
BEGIN:VEVENT
DTSTAMP:20260425T131245
DTSTART;TZID=Europe/Berlin:20260527T180000
DTEND;TZID=Europe/Berlin:20260527T210000
UID:261M71-112-20260527T180000@VHSBREMEN
SUMMARY:Stadtfotografie - Kreative Bildideen für die nächste Städtereise Für Einsteiger*innen und Fortgeschrittene (261M71-112) 
LOCATION:vhs im Bamberger, Raum 415, Faulenstraße 69, 28195 Bremen
END:VEVENT
BEGIN:VEVENT
DTSTAMP:20260425T131245
DTSTART;TZID=Europe/Berlin:20260603T180000
DTEND;TZID=Europe/Berlin:20260603T210000
UID:261M71-112-20260603T180000@VHSBREMEN
SUMMARY:Stadtfotografie - Kreative Bildideen für die nächste Städtereise Für Einsteiger*innen und Fortgeschrittene (261M71-112) 
LOCATION:vhs im Bamberger, Raum 415, Faulenstraße 69, 28195 Bremen
END:VEVENT
END:VCALENDAR