BEGIN:VCALENDAR
VERSION:2.0
PRODID:https://www.kufer.de/kuferweb / DE
METHOD:PUBLISH
CALSCALE:GREGORIAN
X-WR-TIMEZONE:Europe/Berlin
BEGIN:VTIMEZONE
TZID:Europe/Berlin
X-LIC-LOCATION:Europe/Berlin
BEGIN:DAYLIGHT
TZOFFSETFROM:+0100
TZOFFSETTO:+0200
TZNAME:CEST
DTSTART:19700329T020000
RRULE:FREQ=YEARLY;INTERVAL=1;BYDAY=-1SU;BYMONTH=3
END:DAYLIGHT
BEGIN:STANDARD
TZOFFSETFROM:+0200
TZOFFSETTO:+0100
TZNAME:CET
DTSTART:19701025T030000
RRULE:FREQ=YEARLY;INTERVAL=1;BYDAY=-1SU;BYMONTH=10
END:STANDARD
END:VTIMEZONE
BEGIN:VEVENT
DTSTAMP:20260421T035914
DTSTART;TZID=Europe/Berlin:20260810T090000
DTEND;TZID=Europe/Berlin:20260810T140000
UID:261M69-154-20260810T090000@VHSBREMEN
SUMMARY:Aufbaukurs Programmieren mit Python (261M69-154) 
LOCATION:vhs - Plantage, Zugang vom Innenhof, Raum Eingang 5, Plantage 13, 28215 Bremen
END:VEVENT
BEGIN:VEVENT
DTSTAMP:20260421T035914
DTSTART;TZID=Europe/Berlin:20260811T090000
DTEND;TZID=Europe/Berlin:20260811T140000
UID:261M69-154-20260811T090000@VHSBREMEN
SUMMARY:Aufbaukurs Programmieren mit Python (261M69-154) 
LOCATION:vhs - Plantage, Zugang vom Innenhof, Raum Eingang 5, Plantage 13, 28215 Bremen
END:VEVENT
BEGIN:VEVENT
DTSTAMP:20260421T035914
DTSTART;TZID=Europe/Berlin:20260812T090000
DTEND;TZID=Europe/Berlin:20260812T140000
UID:261M69-154-20260812T090000@VHSBREMEN
SUMMARY:Aufbaukurs Programmieren mit Python (261M69-154) 
LOCATION:vhs - Plantage, Zugang vom Innenhof, Raum Eingang 5, Plantage 13, 28215 Bremen
END:VEVENT
BEGIN:VEVENT
DTSTAMP:20260421T035914
DTSTART;TZID=Europe/Berlin:20260813T090000
DTEND;TZID=Europe/Berlin:20260813T140000
UID:261M69-154-20260813T090000@VHSBREMEN
SUMMARY:Aufbaukurs Programmieren mit Python (261M69-154) 
LOCATION:vhs - Plantage, Zugang vom Innenhof, Raum Eingang 5, Plantage 13, 28215 Bremen
END:VEVENT
END:VCALENDAR