BEGIN:VCALENDAR
VERSION:2.0
PRODID:https://www.kufer.de/kuferweb / DE
METHOD:PUBLISH
CALSCALE:GREGORIAN
X-WR-TIMEZONE:Europe/Berlin
BEGIN:VTIMEZONE
TZID:Europe/Berlin
X-LIC-LOCATION:Europe/Berlin
BEGIN:DAYLIGHT
TZOFFSETFROM:+0100
TZOFFSETTO:+0200
TZNAME:CEST
DTSTART:19700329T020000
RRULE:FREQ=YEARLY;INTERVAL=1;BYDAY=-1SU;BYMONTH=3
END:DAYLIGHT
BEGIN:STANDARD
TZOFFSETFROM:+0200
TZOFFSETTO:+0100
TZNAME:CET
DTSTART:19701025T030000
RRULE:FREQ=YEARLY;INTERVAL=1;BYDAY=-1SU;BYMONTH=10
END:STANDARD
END:VTIMEZONE
BEGIN:VEVENT
DTSTAMP:20260420T001536
DTSTART;TZID=Europe/Berlin:20260624T090000
DTEND;TZID=Europe/Berlin:20260624T160000
UID:261M67-408-20260624T090000@VHSBREMEN
SUMMARY:Excel III Fortgeschrittene Techniken (261M67-408) 
LOCATION:vhs - Plantage, Zugang vom Innenhof, Raum Eingang 5, Plantage 13, 28215 Bremen
END:VEVENT
BEGIN:VEVENT
DTSTAMP:20260420T001536
DTSTART;TZID=Europe/Berlin:20260625T090000
DTEND;TZID=Europe/Berlin:20260625T160000
UID:261M67-408-20260625T090000@VHSBREMEN
SUMMARY:Excel III Fortgeschrittene Techniken (261M67-408) 
LOCATION:vhs - Plantage, Zugang vom Innenhof, Raum Eingang 5, Plantage 13, 28215 Bremen
END:VEVENT
BEGIN:VEVENT
DTSTAMP:20260420T001536
DTSTART;TZID=Europe/Berlin:20260626T090000
DTEND;TZID=Europe/Berlin:20260626T160000
UID:261M67-408-20260626T090000@VHSBREMEN
SUMMARY:Excel III Fortgeschrittene Techniken (261M67-408) 
LOCATION:vhs - Plantage, Zugang vom Innenhof, Raum Eingang 5, Plantage 13, 28215 Bremen
END:VEVENT
END:VCALENDAR