BEGIN:VCALENDAR
VERSION:2.0
PRODID:https://www.kufer.de/kuferweb / DE
METHOD:PUBLISH
CALSCALE:GREGORIAN
X-WR-TIMEZONE:Europe/Berlin
BEGIN:VTIMEZONE
TZID:Europe/Berlin
X-LIC-LOCATION:Europe/Berlin
BEGIN:DAYLIGHT
TZOFFSETFROM:+0100
TZOFFSETTO:+0200
TZNAME:CEST
DTSTART:19700329T020000
RRULE:FREQ=YEARLY;INTERVAL=1;BYDAY=-1SU;BYMONTH=3
END:DAYLIGHT
BEGIN:STANDARD
TZOFFSETFROM:+0200
TZOFFSETTO:+0100
TZNAME:CET
DTSTART:19701025T030000
RRULE:FREQ=YEARLY;INTERVAL=1;BYDAY=-1SU;BYMONTH=10
END:STANDARD
END:VTIMEZONE
BEGIN:VEVENT
DTSTAMP:20260422T070848
DTSTART;TZID=Europe/Berlin:20260218T144500
DTEND;TZID=Europe/Berlin:20260218T161500
UID:261M57-964-20260218T144500@VHSBREMEN
SUMMARY:Spanisch Mittelstufe 3 - für Ältere (A2) (261M57-964) 
LOCATION:vhs im Bamberger, Raum 106, Faulenstraße 69, 28195 Bremen
END:VEVENT
BEGIN:VEVENT
DTSTAMP:20260422T070848
DTSTART;TZID=Europe/Berlin:20260225T144500
DTEND;TZID=Europe/Berlin:20260225T161500
UID:261M57-964-20260225T144500@VHSBREMEN
SUMMARY:Spanisch Mittelstufe 3 - für Ältere (A2) (261M57-964) 
LOCATION:vhs im Bamberger, Raum 106, Faulenstraße 69, 28195 Bremen
END:VEVENT
BEGIN:VEVENT
DTSTAMP:20260422T070848
DTSTART;TZID=Europe/Berlin:20260304T144500
DTEND;TZID=Europe/Berlin:20260304T161500
UID:261M57-964-20260304T144500@VHSBREMEN
SUMMARY:Spanisch Mittelstufe 3 - für Ältere (A2) (261M57-964) 
LOCATION:vhs im Bamberger, Raum 106, Faulenstraße 69, 28195 Bremen
END:VEVENT
BEGIN:VEVENT
DTSTAMP:20260422T070848
DTSTART;TZID=Europe/Berlin:20260311T144500
DTEND;TZID=Europe/Berlin:20260311T161500
UID:261M57-964-20260311T144500@VHSBREMEN
SUMMARY:Spanisch Mittelstufe 3 - für Ältere (A2) (261M57-964) 
LOCATION:vhs im Bamberger, Raum 106, Faulenstraße 69, 28195 Bremen
END:VEVENT
BEGIN:VEVENT
DTSTAMP:20260422T070848
DTSTART;TZID=Europe/Berlin:20260318T144500
DTEND;TZID=Europe/Berlin:20260318T161500
UID:261M57-964-20260318T144500@VHSBREMEN
SUMMARY:Spanisch Mittelstufe 3 - für Ältere (A2) (261M57-964) 
LOCATION:vhs im Bamberger, Raum 106, Faulenstraße 69, 28195 Bremen
END:VEVENT
BEGIN:VEVENT
DTSTAMP:20260422T070848
DTSTART;TZID=Europe/Berlin:20260408T144500
DTEND;TZID=Europe/Berlin:20260408T161500
UID:261M57-964-20260408T144500@VHSBREMEN
SUMMARY:Spanisch Mittelstufe 3 - für Ältere (A2) (261M57-964) 
LOCATION:vhs im Bamberger, Raum 106, Faulenstraße 69, 28195 Bremen
END:VEVENT
BEGIN:VEVENT
DTSTAMP:20260422T070848
DTSTART;TZID=Europe/Berlin:20260415T144500
DTEND;TZID=Europe/Berlin:20260415T161500
UID:261M57-964-20260415T144500@VHSBREMEN
SUMMARY:Spanisch Mittelstufe 3 - für Ältere (A2) (261M57-964) 
LOCATION:vhs im Bamberger, Raum 106, Faulenstraße 69, 28195 Bremen
END:VEVENT
BEGIN:VEVENT
DTSTAMP:20260422T070848
DTSTART;TZID=Europe/Berlin:20260422T144500
DTEND;TZID=Europe/Berlin:20260422T161500
UID:261M57-964-20260422T144500@VHSBREMEN
SUMMARY:Spanisch Mittelstufe 3 - für Ältere (A2) (261M57-964) 
LOCATION:vhs im Bamberger, Raum 106, Faulenstraße 69, 28195 Bremen
END:VEVENT
BEGIN:VEVENT
DTSTAMP:20260422T070848
DTSTART;TZID=Europe/Berlin:20260429T144500
DTEND;TZID=Europe/Berlin:20260429T161500
UID:261M57-964-20260429T144500@VHSBREMEN
SUMMARY:Spanisch Mittelstufe 3 - für Ältere (A2) (261M57-964) 
LOCATION:vhs im Bamberger, Raum 106, Faulenstraße 69, 28195 Bremen
END:VEVENT
BEGIN:VEVENT
DTSTAMP:20260422T070848
DTSTART;TZID=Europe/Berlin:20260506T144500
DTEND;TZID=Europe/Berlin:20260506T161500
UID:261M57-964-20260506T144500@VHSBREMEN
SUMMARY:Spanisch Mittelstufe 3 - für Ältere (A2) (261M57-964) 
LOCATION:vhs im Bamberger, Raum 106, Faulenstraße 69, 28195 Bremen
END:VEVENT
BEGIN:VEVENT
DTSTAMP:20260422T070848
DTSTART;TZID=Europe/Berlin:20260513T144500
DTEND;TZID=Europe/Berlin:20260513T161500
UID:261M57-964-20260513T144500@VHSBREMEN
SUMMARY:Spanisch Mittelstufe 3 - für Ältere (A2) (261M57-964) 
LOCATION:vhs im Bamberger, Raum 106, Faulenstraße 69, 28195 Bremen
END:VEVENT
BEGIN:VEVENT
DTSTAMP:20260422T070848
DTSTART;TZID=Europe/Berlin:20260520T144500
DTEND;TZID=Europe/Berlin:20260520T161500
UID:261M57-964-20260520T144500@VHSBREMEN
SUMMARY:Spanisch Mittelstufe 3 - für Ältere (A2) (261M57-964) 
LOCATION:vhs im Bamberger, Raum 106, Faulenstraße 69, 28195 Bremen
END:VEVENT
BEGIN:VEVENT
DTSTAMP:20260422T070848
DTSTART;TZID=Europe/Berlin:20260527T144500
DTEND;TZID=Europe/Berlin:20260527T161500
UID:261M57-964-20260527T144500@VHSBREMEN
SUMMARY:Spanisch Mittelstufe 3 - für Ältere (A2) (261M57-964) 
LOCATION:vhs im Bamberger, Raum 106, Faulenstraße 69, 28195 Bremen
END:VEVENT
BEGIN:VEVENT
DTSTAMP:20260422T070848
DTSTART;TZID=Europe/Berlin:20260603T144500
DTEND;TZID=Europe/Berlin:20260603T161500
UID:261M57-964-20260603T144500@VHSBREMEN
SUMMARY:Spanisch Mittelstufe 3 - für Ältere (A2) (261M57-964) 
LOCATION:vhs im Bamberger, Raum 106, Faulenstraße 69, 28195 Bremen
END:VEVENT
BEGIN:VEVENT
DTSTAMP:20260422T070848
DTSTART;TZID=Europe/Berlin:20260610T144500
DTEND;TZID=Europe/Berlin:20260610T161500
UID:261M57-964-20260610T144500@VHSBREMEN
SUMMARY:Spanisch Mittelstufe 3 - für Ältere (A2) (261M57-964) 
LOCATION:vhs im Bamberger, Raum 106, Faulenstraße 69, 28195 Bremen
END:VEVENT
END:VCALENDAR