BEGIN:VCALENDAR
VERSION:2.0
PRODID:https://www.kufer.de/kuferweb / DE
METHOD:PUBLISH
CALSCALE:GREGORIAN
X-WR-TIMEZONE:Europe/Berlin
BEGIN:VTIMEZONE
TZID:Europe/Berlin
X-LIC-LOCATION:Europe/Berlin
BEGIN:DAYLIGHT
TZOFFSETFROM:+0100
TZOFFSETTO:+0200
TZNAME:CEST
DTSTART:19700329T020000
RRULE:FREQ=YEARLY;INTERVAL=1;BYDAY=-1SU;BYMONTH=3
END:DAYLIGHT
BEGIN:STANDARD
TZOFFSETFROM:+0200
TZOFFSETTO:+0100
TZNAME:CET
DTSTART:19701025T030000
RRULE:FREQ=YEARLY;INTERVAL=1;BYDAY=-1SU;BYMONTH=10
END:STANDARD
END:VTIMEZONE
BEGIN:VEVENT
DTSTAMP:20260420T225953
DTSTART;TZID=Europe/Berlin:20260408T151500
DTEND;TZID=Europe/Berlin:20260408T164500
UID:261M57-911-20260408T151500@VHSBREMEN
SUMMARY:Spanisch Grundstufe 1 - für Ältere (A1) (261M57-911) 
LOCATION:Haus im Viertel, Altes Fundamt, VHS-Raum 3, Auf der Kuhlen 1A, 28203 Bremen
END:VEVENT
BEGIN:VEVENT
DTSTAMP:20260420T225953
DTSTART;TZID=Europe/Berlin:20260415T151500
DTEND;TZID=Europe/Berlin:20260415T164500
UID:261M57-911-20260415T151500@VHSBREMEN
SUMMARY:Spanisch Grundstufe 1 - für Ältere (A1) (261M57-911) 
LOCATION:Haus im Viertel, Altes Fundamt, VHS-Raum 3, Auf der Kuhlen 1A, 28203 Bremen
END:VEVENT
BEGIN:VEVENT
DTSTAMP:20260420T225953
DTSTART;TZID=Europe/Berlin:20260422T151500
DTEND;TZID=Europe/Berlin:20260422T164500
UID:261M57-911-20260422T151500@VHSBREMEN
SUMMARY:Spanisch Grundstufe 1 - für Ältere (A1) (261M57-911) 
LOCATION:Haus im Viertel, Altes Fundamt, VHS-Raum 3, Auf der Kuhlen 1A, 28203 Bremen
END:VEVENT
BEGIN:VEVENT
DTSTAMP:20260420T225953
DTSTART;TZID=Europe/Berlin:20260429T151500
DTEND;TZID=Europe/Berlin:20260429T164500
UID:261M57-911-20260429T151500@VHSBREMEN
SUMMARY:Spanisch Grundstufe 1 - für Ältere (A1) (261M57-911) 
LOCATION:Haus im Viertel, Altes Fundamt, VHS-Raum 3, Auf der Kuhlen 1A, 28203 Bremen
END:VEVENT
BEGIN:VEVENT
DTSTAMP:20260420T225953
DTSTART;TZID=Europe/Berlin:20260506T151500
DTEND;TZID=Europe/Berlin:20260506T164500
UID:261M57-911-20260506T151500@VHSBREMEN
SUMMARY:Spanisch Grundstufe 1 - für Ältere (A1) (261M57-911) 
LOCATION:Haus im Viertel, Altes Fundamt, VHS-Raum 3, Auf der Kuhlen 1A, 28203 Bremen
END:VEVENT
BEGIN:VEVENT
DTSTAMP:20260420T225953
DTSTART;TZID=Europe/Berlin:20260513T151500
DTEND;TZID=Europe/Berlin:20260513T164500
UID:261M57-911-20260513T151500@VHSBREMEN
SUMMARY:Spanisch Grundstufe 1 - für Ältere (A1) (261M57-911) 
LOCATION:Haus im Viertel, Altes Fundamt, VHS-Raum 3, Auf der Kuhlen 1A, 28203 Bremen
END:VEVENT
BEGIN:VEVENT
DTSTAMP:20260420T225953
DTSTART;TZID=Europe/Berlin:20260520T151500
DTEND;TZID=Europe/Berlin:20260520T164500
UID:261M57-911-20260520T151500@VHSBREMEN
SUMMARY:Spanisch Grundstufe 1 - für Ältere (A1) (261M57-911) 
LOCATION:Haus im Viertel, Altes Fundamt, VHS-Raum 3, Auf der Kuhlen 1A, 28203 Bremen
END:VEVENT
BEGIN:VEVENT
DTSTAMP:20260420T225953
DTSTART;TZID=Europe/Berlin:20260527T151500
DTEND;TZID=Europe/Berlin:20260527T164500
UID:261M57-911-20260527T151500@VHSBREMEN
SUMMARY:Spanisch Grundstufe 1 - für Ältere (A1) (261M57-911) 
LOCATION:Haus im Viertel, Altes Fundamt, VHS-Raum 3, Auf der Kuhlen 1A, 28203 Bremen
END:VEVENT
BEGIN:VEVENT
DTSTAMP:20260420T225953
DTSTART;TZID=Europe/Berlin:20260603T151500
DTEND;TZID=Europe/Berlin:20260603T164500
UID:261M57-911-20260603T151500@VHSBREMEN
SUMMARY:Spanisch Grundstufe 1 - für Ältere (A1) (261M57-911) 
LOCATION:Haus im Viertel, Altes Fundamt, VHS-Raum 3, Auf der Kuhlen 1A, 28203 Bremen
END:VEVENT
BEGIN:VEVENT
DTSTAMP:20260420T225953
DTSTART;TZID=Europe/Berlin:20260610T151500
DTEND;TZID=Europe/Berlin:20260610T164500
UID:261M57-911-20260610T151500@VHSBREMEN
SUMMARY:Spanisch Grundstufe 1 - für Ältere (A1) (261M57-911) 
LOCATION:Haus im Viertel, Altes Fundamt, VHS-Raum 3, Auf der Kuhlen 1A, 28203 Bremen
END:VEVENT
BEGIN:VEVENT
DTSTAMP:20260420T225953
DTSTART;TZID=Europe/Berlin:20260617T151500
DTEND;TZID=Europe/Berlin:20260617T164500
UID:261M57-911-20260617T151500@VHSBREMEN
SUMMARY:Spanisch Grundstufe 1 - für Ältere (A1) (261M57-911) 
LOCATION:Haus im Viertel, Altes Fundamt, VHS-Raum 3, Auf der Kuhlen 1A, 28203 Bremen
END:VEVENT
END:VCALENDAR