BEGIN:VCALENDAR
VERSION:2.0
PRODID:https://www.kufer.de/kuferweb / DE
METHOD:PUBLISH
CALSCALE:GREGORIAN
X-WR-TIMEZONE:Europe/Berlin
BEGIN:VTIMEZONE
TZID:Europe/Berlin
X-LIC-LOCATION:Europe/Berlin
BEGIN:DAYLIGHT
TZOFFSETFROM:+0100
TZOFFSETTO:+0200
TZNAME:CEST
DTSTART:19700329T020000
RRULE:FREQ=YEARLY;INTERVAL=1;BYDAY=-1SU;BYMONTH=3
END:DAYLIGHT
BEGIN:STANDARD
TZOFFSETFROM:+0200
TZOFFSETTO:+0100
TZNAME:CET
DTSTART:19701025T030000
RRULE:FREQ=YEARLY;INTERVAL=1;BYDAY=-1SU;BYMONTH=10
END:STANDARD
END:VTIMEZONE
BEGIN:VEVENT
DTSTAMP:20260421T174121
DTSTART;TZID=Europe/Berlin:20260212T200000
DTEND;TZID=Europe/Berlin:20260212T213000
UID:261M57-789-20260212T200000@VHSBREMEN
SUMMARY:Spanisch Auffrischkurs für Fortgeschrittene (B2) (261M57-789) 
LOCATION:vhs im Bamberger, Raum 302, Faulenstraße 69, 28195 Bremen
END:VEVENT
BEGIN:VEVENT
DTSTAMP:20260421T174121
DTSTART;TZID=Europe/Berlin:20260219T200000
DTEND;TZID=Europe/Berlin:20260219T213000
UID:261M57-789-20260219T200000@VHSBREMEN
SUMMARY:Spanisch Auffrischkurs für Fortgeschrittene (B2) (261M57-789) 
LOCATION:vhs im Bamberger, Raum 302, Faulenstraße 69, 28195 Bremen
END:VEVENT
BEGIN:VEVENT
DTSTAMP:20260421T174121
DTSTART;TZID=Europe/Berlin:20260226T200000
DTEND;TZID=Europe/Berlin:20260226T213000
UID:261M57-789-20260226T200000@VHSBREMEN
SUMMARY:Spanisch Auffrischkurs für Fortgeschrittene (B2) (261M57-789) 
LOCATION:vhs im Bamberger, Raum 302, Faulenstraße 69, 28195 Bremen
END:VEVENT
BEGIN:VEVENT
DTSTAMP:20260421T174121
DTSTART;TZID=Europe/Berlin:20260305T200000
DTEND;TZID=Europe/Berlin:20260305T213000
UID:261M57-789-20260305T200000@VHSBREMEN
SUMMARY:Spanisch Auffrischkurs für Fortgeschrittene (B2) (261M57-789) 
LOCATION:vhs im Bamberger, Raum 302, Faulenstraße 69, 28195 Bremen
END:VEVENT
BEGIN:VEVENT
DTSTAMP:20260421T174121
DTSTART;TZID=Europe/Berlin:20260312T200000
DTEND;TZID=Europe/Berlin:20260312T213000
UID:261M57-789-20260312T200000@VHSBREMEN
SUMMARY:Spanisch Auffrischkurs für Fortgeschrittene (B2) (261M57-789) 
LOCATION:vhs im Bamberger, Raum 302, Faulenstraße 69, 28195 Bremen
END:VEVENT
BEGIN:VEVENT
DTSTAMP:20260421T174121
DTSTART;TZID=Europe/Berlin:20260319T200000
DTEND;TZID=Europe/Berlin:20260319T213000
UID:261M57-789-20260319T200000@VHSBREMEN
SUMMARY:Spanisch Auffrischkurs für Fortgeschrittene (B2) (261M57-789) 
LOCATION:vhs im Bamberger, Raum 302, Faulenstraße 69, 28195 Bremen
END:VEVENT
BEGIN:VEVENT
DTSTAMP:20260421T174121
DTSTART;TZID=Europe/Berlin:20260409T200000
DTEND;TZID=Europe/Berlin:20260409T213000
UID:261M57-789-20260409T200000@VHSBREMEN
SUMMARY:Spanisch Auffrischkurs für Fortgeschrittene (B2) (261M57-789) 
LOCATION:vhs im Bamberger, Raum 302, Faulenstraße 69, 28195 Bremen
END:VEVENT
BEGIN:VEVENT
DTSTAMP:20260421T174121
DTSTART;TZID=Europe/Berlin:20260416T200000
DTEND;TZID=Europe/Berlin:20260416T213000
UID:261M57-789-20260416T200000@VHSBREMEN
SUMMARY:Spanisch Auffrischkurs für Fortgeschrittene (B2) (261M57-789) 
LOCATION:vhs im Bamberger, Raum 302, Faulenstraße 69, 28195 Bremen
END:VEVENT
BEGIN:VEVENT
DTSTAMP:20260421T174121
DTSTART;TZID=Europe/Berlin:20260423T200000
DTEND;TZID=Europe/Berlin:20260423T213000
UID:261M57-789-20260423T200000@VHSBREMEN
SUMMARY:Spanisch Auffrischkurs für Fortgeschrittene (B2) (261M57-789) 
LOCATION:vhs im Bamberger, Raum 302, Faulenstraße 69, 28195 Bremen
END:VEVENT
BEGIN:VEVENT
DTSTAMP:20260421T174121
DTSTART;TZID=Europe/Berlin:20260430T200000
DTEND;TZID=Europe/Berlin:20260430T213000
UID:261M57-789-20260430T200000@VHSBREMEN
SUMMARY:Spanisch Auffrischkurs für Fortgeschrittene (B2) (261M57-789) 
LOCATION:vhs im Bamberger, Raum 302, Faulenstraße 69, 28195 Bremen
END:VEVENT
BEGIN:VEVENT
DTSTAMP:20260421T174121
DTSTART;TZID=Europe/Berlin:20260507T200000
DTEND;TZID=Europe/Berlin:20260507T213000
UID:261M57-789-20260507T200000@VHSBREMEN
SUMMARY:Spanisch Auffrischkurs für Fortgeschrittene (B2) (261M57-789) 
LOCATION:vhs im Bamberger, Raum 302, Faulenstraße 69, 28195 Bremen
END:VEVENT
BEGIN:VEVENT
DTSTAMP:20260421T174121
DTSTART;TZID=Europe/Berlin:20260521T200000
DTEND;TZID=Europe/Berlin:20260521T213000
UID:261M57-789-20260521T200000@VHSBREMEN
SUMMARY:Spanisch Auffrischkurs für Fortgeschrittene (B2) (261M57-789) 
LOCATION:vhs im Bamberger, Raum 302, Faulenstraße 69, 28195 Bremen
END:VEVENT
BEGIN:VEVENT
DTSTAMP:20260421T174121
DTSTART;TZID=Europe/Berlin:20260528T200000
DTEND;TZID=Europe/Berlin:20260528T213000
UID:261M57-789-20260528T200000@VHSBREMEN
SUMMARY:Spanisch Auffrischkurs für Fortgeschrittene (B2) (261M57-789) 
LOCATION:vhs im Bamberger, Raum 302, Faulenstraße 69, 28195 Bremen
END:VEVENT
BEGIN:VEVENT
DTSTAMP:20260421T174121
DTSTART;TZID=Europe/Berlin:20260604T200000
DTEND;TZID=Europe/Berlin:20260604T213000
UID:261M57-789-20260604T200000@VHSBREMEN
SUMMARY:Spanisch Auffrischkurs für Fortgeschrittene (B2) (261M57-789) 
LOCATION:vhs im Bamberger, Raum 302, Faulenstraße 69, 28195 Bremen
END:VEVENT
BEGIN:VEVENT
DTSTAMP:20260421T174121
DTSTART;TZID=Europe/Berlin:20260611T200000
DTEND;TZID=Europe/Berlin:20260611T213000
UID:261M57-789-20260611T200000@VHSBREMEN
SUMMARY:Spanisch Auffrischkurs für Fortgeschrittene (B2) (261M57-789) 
LOCATION:vhs im Bamberger, Raum 302, Faulenstraße 69, 28195 Bremen
END:VEVENT
END:VCALENDAR