BEGIN:VCALENDAR
VERSION:2.0
PRODID:https://www.kufer.de/kuferweb / DE
METHOD:PUBLISH
CALSCALE:GREGORIAN
X-WR-TIMEZONE:Europe/Berlin
BEGIN:VTIMEZONE
TZID:Europe/Berlin
X-LIC-LOCATION:Europe/Berlin
BEGIN:DAYLIGHT
TZOFFSETFROM:+0100
TZOFFSETTO:+0200
TZNAME:CEST
DTSTART:19700329T020000
RRULE:FREQ=YEARLY;INTERVAL=1;BYDAY=-1SU;BYMONTH=3
END:DAYLIGHT
BEGIN:STANDARD
TZOFFSETFROM:+0200
TZOFFSETTO:+0100
TZNAME:CET
DTSTART:19701025T030000
RRULE:FREQ=YEARLY;INTERVAL=1;BYDAY=-1SU;BYMONTH=10
END:STANDARD
END:VTIMEZONE
BEGIN:VEVENT
DTSTAMP:20260421T140749
DTSTART;TZID=Europe/Berlin:20260209T180500
DTEND;TZID=Europe/Berlin:20260209T193500
UID:261M51-191-20260209T180500@VHSBREMEN
SUMMARY:Japanisch für Fortgeschrittene (C1) (261M51-191) 
LOCATION:vhs im Bamberger, Raum 106, Faulenstraße 69, 28195 Bremen
END:VEVENT
BEGIN:VEVENT
DTSTAMP:20260421T140750
DTSTART;TZID=Europe/Berlin:20260216T180500
DTEND;TZID=Europe/Berlin:20260216T193500
UID:261M51-191-20260216T180500@VHSBREMEN
SUMMARY:Japanisch für Fortgeschrittene (C1) (261M51-191) 
LOCATION:vhs im Bamberger, Raum 106, Faulenstraße 69, 28195 Bremen
END:VEVENT
BEGIN:VEVENT
DTSTAMP:20260421T140750
DTSTART;TZID=Europe/Berlin:20260223T180500
DTEND;TZID=Europe/Berlin:20260223T193500
UID:261M51-191-20260223T180500@VHSBREMEN
SUMMARY:Japanisch für Fortgeschrittene (C1) (261M51-191) 
LOCATION:vhs im Bamberger, Raum 106, Faulenstraße 69, 28195 Bremen
END:VEVENT
BEGIN:VEVENT
DTSTAMP:20260421T140750
DTSTART;TZID=Europe/Berlin:20260302T180500
DTEND;TZID=Europe/Berlin:20260302T193500
UID:261M51-191-20260302T180500@VHSBREMEN
SUMMARY:Japanisch für Fortgeschrittene (C1) (261M51-191) 
LOCATION:vhs im Bamberger, Raum 106, Faulenstraße 69, 28195 Bremen
END:VEVENT
BEGIN:VEVENT
DTSTAMP:20260421T140750
DTSTART;TZID=Europe/Berlin:20260309T180500
DTEND;TZID=Europe/Berlin:20260309T193500
UID:261M51-191-20260309T180500@VHSBREMEN
SUMMARY:Japanisch für Fortgeschrittene (C1) (261M51-191) 
LOCATION:vhs im Bamberger, Raum 106, Faulenstraße 69, 28195 Bremen
END:VEVENT
BEGIN:VEVENT
DTSTAMP:20260421T140750
DTSTART;TZID=Europe/Berlin:20260316T180500
DTEND;TZID=Europe/Berlin:20260316T193500
UID:261M51-191-20260316T180500@VHSBREMEN
SUMMARY:Japanisch für Fortgeschrittene (C1) (261M51-191) 
LOCATION:vhs im Bamberger, Raum 106, Faulenstraße 69, 28195 Bremen
END:VEVENT
BEGIN:VEVENT
DTSTAMP:20260421T140750
DTSTART;TZID=Europe/Berlin:20260323T180500
DTEND;TZID=Europe/Berlin:20260323T193500
UID:261M51-191-20260323T180500@VHSBREMEN
DESCRIPTION:Ersatz für Ausfall am 15.06.2026
SUMMARY:Japanisch für Fortgeschrittene (C1) (261M51-191) 
LOCATION:vhs im Bamberger, Raum 106, Faulenstraße 69, 28195 Bremen
END:VEVENT
BEGIN:VEVENT
DTSTAMP:20260421T140750
DTSTART;TZID=Europe/Berlin:20260413T180500
DTEND;TZID=Europe/Berlin:20260413T193500
UID:261M51-191-20260413T180500@VHSBREMEN
SUMMARY:Japanisch für Fortgeschrittene (C1) (261M51-191) 
LOCATION:vhs im Bamberger, Raum 106, Faulenstraße 69, 28195 Bremen
END:VEVENT
BEGIN:VEVENT
DTSTAMP:20260421T140750
DTSTART;TZID=Europe/Berlin:20260420T180500
DTEND;TZID=Europe/Berlin:20260420T193500
UID:261M51-191-20260420T180500@VHSBREMEN
SUMMARY:Japanisch für Fortgeschrittene (C1) (261M51-191) 
LOCATION:vhs im Bamberger, Raum 106, Faulenstraße 69, 28195 Bremen
END:VEVENT
BEGIN:VEVENT
DTSTAMP:20260421T140750
DTSTART;TZID=Europe/Berlin:20260427T180500
DTEND;TZID=Europe/Berlin:20260427T193500
UID:261M51-191-20260427T180500@VHSBREMEN
SUMMARY:Japanisch für Fortgeschrittene (C1) (261M51-191) 
LOCATION:vhs im Bamberger, Raum 106, Faulenstraße 69, 28195 Bremen
END:VEVENT
BEGIN:VEVENT
DTSTAMP:20260421T140750
DTSTART;TZID=Europe/Berlin:20260504T180500
DTEND;TZID=Europe/Berlin:20260504T193500
UID:261M51-191-20260504T180500@VHSBREMEN
SUMMARY:Japanisch für Fortgeschrittene (C1) (261M51-191) 
LOCATION:vhs im Bamberger, Raum 106, Faulenstraße 69, 28195 Bremen
END:VEVENT
BEGIN:VEVENT
DTSTAMP:20260421T140750
DTSTART;TZID=Europe/Berlin:20260511T180500
DTEND;TZID=Europe/Berlin:20260511T193500
UID:261M51-191-20260511T180500@VHSBREMEN
SUMMARY:Japanisch für Fortgeschrittene (C1) (261M51-191) 
LOCATION:vhs im Bamberger, Raum 106, Faulenstraße 69, 28195 Bremen
END:VEVENT
BEGIN:VEVENT
DTSTAMP:20260421T140750
DTSTART;TZID=Europe/Berlin:20260518T180500
DTEND;TZID=Europe/Berlin:20260518T193500
UID:261M51-191-20260518T180500@VHSBREMEN
SUMMARY:Japanisch für Fortgeschrittene (C1) (261M51-191) 
LOCATION:vhs im Bamberger, Raum 106, Faulenstraße 69, 28195 Bremen
END:VEVENT
BEGIN:VEVENT
DTSTAMP:20260421T140750
DTSTART;TZID=Europe/Berlin:20260601T180500
DTEND;TZID=Europe/Berlin:20260601T193500
UID:261M51-191-20260601T180500@VHSBREMEN
SUMMARY:Japanisch für Fortgeschrittene (C1) (261M51-191) 
LOCATION:vhs im Bamberger, Raum 106, Faulenstraße 69, 28195 Bremen
END:VEVENT
BEGIN:VEVENT
DTSTAMP:20260421T140750
DTSTART;TZID=Europe/Berlin:20260608T180500
DTEND;TZID=Europe/Berlin:20260608T193500
UID:261M51-191-20260608T180500@VHSBREMEN
SUMMARY:Japanisch für Fortgeschrittene (C1) (261M51-191) 
LOCATION:vhs im Bamberger, Raum 106, Faulenstraße 69, 28195 Bremen
END:VEVENT
END:VCALENDAR