BEGIN:VCALENDAR
VERSION:2.0
PRODID:https://www.kufer.de/kuferweb / DE
METHOD:PUBLISH
CALSCALE:GREGORIAN
X-WR-TIMEZONE:Europe/Berlin
BEGIN:VTIMEZONE
TZID:Europe/Berlin
X-LIC-LOCATION:Europe/Berlin
BEGIN:DAYLIGHT
TZOFFSETFROM:+0100
TZOFFSETTO:+0200
TZNAME:CEST
DTSTART:19700329T020000
RRULE:FREQ=YEARLY;INTERVAL=1;BYDAY=-1SU;BYMONTH=3
END:DAYLIGHT
BEGIN:STANDARD
TZOFFSETFROM:+0200
TZOFFSETTO:+0100
TZNAME:CET
DTSTART:19701025T030000
RRULE:FREQ=YEARLY;INTERVAL=1;BYDAY=-1SU;BYMONTH=10
END:STANDARD
END:VTIMEZONE
BEGIN:VEVENT
DTSTAMP:20260421T082344
DTSTART;TZID=Europe/Berlin:20260212T195000
DTEND;TZID=Europe/Berlin:20260212T212000
UID:261M51-165-20260212T195000@VHSBREMEN
SUMMARY:Japanisch Mittelstufe 5 (A2) (261M51-165) 
LOCATION:vhs im Bamberger, Raum 106, Faulenstraße 69, 28195 Bremen
END:VEVENT
BEGIN:VEVENT
DTSTAMP:20260421T082344
DTSTART;TZID=Europe/Berlin:20260219T195000
DTEND;TZID=Europe/Berlin:20260219T212000
UID:261M51-165-20260219T195000@VHSBREMEN
SUMMARY:Japanisch Mittelstufe 5 (A2) (261M51-165) 
LOCATION:vhs im Bamberger, Raum 106, Faulenstraße 69, 28195 Bremen
END:VEVENT
BEGIN:VEVENT
DTSTAMP:20260421T082344
DTSTART;TZID=Europe/Berlin:20260226T195000
DTEND;TZID=Europe/Berlin:20260226T212000
UID:261M51-165-20260226T195000@VHSBREMEN
SUMMARY:Japanisch Mittelstufe 5 (A2) (261M51-165) 
LOCATION:vhs im Bamberger, Raum 106, Faulenstraße 69, 28195 Bremen
END:VEVENT
BEGIN:VEVENT
DTSTAMP:20260421T082344
DTSTART;TZID=Europe/Berlin:20260305T195000
DTEND;TZID=Europe/Berlin:20260305T212000
UID:261M51-165-20260305T195000@VHSBREMEN
SUMMARY:Japanisch Mittelstufe 5 (A2) (261M51-165) 
LOCATION:vhs im Bamberger, Raum 106, Faulenstraße 69, 28195 Bremen
END:VEVENT
BEGIN:VEVENT
DTSTAMP:20260421T082344
DTSTART;TZID=Europe/Berlin:20260312T195000
DTEND;TZID=Europe/Berlin:20260312T212000
UID:261M51-165-20260312T195000@VHSBREMEN
SUMMARY:Japanisch Mittelstufe 5 (A2) (261M51-165) 
LOCATION:vhs im Bamberger, Raum 106, Faulenstraße 69, 28195 Bremen
END:VEVENT
BEGIN:VEVENT
DTSTAMP:20260421T082344
DTSTART;TZID=Europe/Berlin:20260319T195000
DTEND;TZID=Europe/Berlin:20260319T212000
UID:261M51-165-20260319T195000@VHSBREMEN
SUMMARY:Japanisch Mittelstufe 5 (A2) (261M51-165) 
LOCATION:vhs im Bamberger, Raum 106, Faulenstraße 69, 28195 Bremen
END:VEVENT
BEGIN:VEVENT
DTSTAMP:20260421T082344
DTSTART;TZID=Europe/Berlin:20260409T195000
DTEND;TZID=Europe/Berlin:20260409T212000
UID:261M51-165-20260409T195000@VHSBREMEN
SUMMARY:Japanisch Mittelstufe 5 (A2) (261M51-165) 
LOCATION:vhs im Bamberger, Raum 106, Faulenstraße 69, 28195 Bremen
END:VEVENT
BEGIN:VEVENT
DTSTAMP:20260421T082344
DTSTART;TZID=Europe/Berlin:20260416T195000
DTEND;TZID=Europe/Berlin:20260416T212000
UID:261M51-165-20260416T195000@VHSBREMEN
SUMMARY:Japanisch Mittelstufe 5 (A2) (261M51-165) 
LOCATION:vhs im Bamberger, Raum 106, Faulenstraße 69, 28195 Bremen
END:VEVENT
BEGIN:VEVENT
DTSTAMP:20260421T082344
DTSTART;TZID=Europe/Berlin:20260423T195000
DTEND;TZID=Europe/Berlin:20260423T212000
UID:261M51-165-20260423T195000@VHSBREMEN
SUMMARY:Japanisch Mittelstufe 5 (A2) (261M51-165) 
LOCATION:vhs im Bamberger, Raum 106, Faulenstraße 69, 28195 Bremen
END:VEVENT
BEGIN:VEVENT
DTSTAMP:20260421T082344
DTSTART;TZID=Europe/Berlin:20260430T195000
DTEND;TZID=Europe/Berlin:20260430T212000
UID:261M51-165-20260430T195000@VHSBREMEN
SUMMARY:Japanisch Mittelstufe 5 (A2) (261M51-165) 
LOCATION:vhs im Bamberger, Raum 106, Faulenstraße 69, 28195 Bremen
END:VEVENT
BEGIN:VEVENT
DTSTAMP:20260421T082344
DTSTART;TZID=Europe/Berlin:20260507T195000
DTEND;TZID=Europe/Berlin:20260507T212000
UID:261M51-165-20260507T195000@VHSBREMEN
SUMMARY:Japanisch Mittelstufe 5 (A2) (261M51-165) 
LOCATION:vhs im Bamberger, Raum 106, Faulenstraße 69, 28195 Bremen
END:VEVENT
BEGIN:VEVENT
DTSTAMP:20260421T082344
DTSTART;TZID=Europe/Berlin:20260521T195000
DTEND;TZID=Europe/Berlin:20260521T212000
UID:261M51-165-20260521T195000@VHSBREMEN
SUMMARY:Japanisch Mittelstufe 5 (A2) (261M51-165) 
LOCATION:vhs im Bamberger, Raum 106, Faulenstraße 69, 28195 Bremen
END:VEVENT
BEGIN:VEVENT
DTSTAMP:20260421T082344
DTSTART;TZID=Europe/Berlin:20260528T195000
DTEND;TZID=Europe/Berlin:20260528T212000
UID:261M51-165-20260528T195000@VHSBREMEN
SUMMARY:Japanisch Mittelstufe 5 (A2) (261M51-165) 
LOCATION:vhs im Bamberger, Raum 106, Faulenstraße 69, 28195 Bremen
END:VEVENT
BEGIN:VEVENT
DTSTAMP:20260421T082344
DTSTART;TZID=Europe/Berlin:20260604T195000
DTEND;TZID=Europe/Berlin:20260604T212000
UID:261M51-165-20260604T195000@VHSBREMEN
SUMMARY:Japanisch Mittelstufe 5 (A2) (261M51-165) 
LOCATION:vhs im Bamberger, Raum 106, Faulenstraße 69, 28195 Bremen
END:VEVENT
BEGIN:VEVENT
DTSTAMP:20260421T082344
DTSTART;TZID=Europe/Berlin:20260611T195000
DTEND;TZID=Europe/Berlin:20260611T212000
UID:261M51-165-20260611T195000@VHSBREMEN
SUMMARY:Japanisch Mittelstufe 5 (A2) (261M51-165) 
LOCATION:vhs im Bamberger, Raum 106, Faulenstraße 69, 28195 Bremen
END:VEVENT
END:VCALENDAR