BEGIN:VCALENDAR
VERSION:2.0
PRODID:https://www.kufer.de/kuferweb / DE
METHOD:PUBLISH
CALSCALE:GREGORIAN
X-WR-TIMEZONE:Europe/Berlin
BEGIN:VTIMEZONE
TZID:Europe/Berlin
X-LIC-LOCATION:Europe/Berlin
BEGIN:DAYLIGHT
TZOFFSETFROM:+0100
TZOFFSETTO:+0200
TZNAME:CEST
DTSTART:19700329T020000
RRULE:FREQ=YEARLY;INTERVAL=1;BYDAY=-1SU;BYMONTH=3
END:DAYLIGHT
BEGIN:STANDARD
TZOFFSETFROM:+0200
TZOFFSETTO:+0100
TZNAME:CET
DTSTART:19701025T030000
RRULE:FREQ=YEARLY;INTERVAL=1;BYDAY=-1SU;BYMONTH=10
END:STANDARD
END:VTIMEZONE
BEGIN:VEVENT
DTSTAMP:20260422T100440
DTSTART;TZID=Europe/Berlin:20260210T194500
DTEND;TZID=Europe/Berlin:20260210T211500
UID:261M51-131-20260210T194500@VHSBREMEN
SUMMARY:Japanisch Grundstufe 3 (A1) (261M51-131) 
LOCATION:vhs im Bamberger, Raum 106, Faulenstraße 69, 28195 Bremen
END:VEVENT
BEGIN:VEVENT
DTSTAMP:20260422T100440
DTSTART;TZID=Europe/Berlin:20260217T194500
DTEND;TZID=Europe/Berlin:20260217T211500
UID:261M51-131-20260217T194500@VHSBREMEN
SUMMARY:Japanisch Grundstufe 3 (A1) (261M51-131) 
LOCATION:vhs im Bamberger, Raum 106, Faulenstraße 69, 28195 Bremen
END:VEVENT
BEGIN:VEVENT
DTSTAMP:20260422T100440
DTSTART;TZID=Europe/Berlin:20260224T194500
DTEND;TZID=Europe/Berlin:20260224T211500
UID:261M51-131-20260224T194500@VHSBREMEN
SUMMARY:Japanisch Grundstufe 3 (A1) (261M51-131) 
LOCATION:vhs im Bamberger, Raum 106, Faulenstraße 69, 28195 Bremen
END:VEVENT
BEGIN:VEVENT
DTSTAMP:20260422T100440
DTSTART;TZID=Europe/Berlin:20260303T194500
DTEND;TZID=Europe/Berlin:20260303T211500
UID:261M51-131-20260303T194500@VHSBREMEN
SUMMARY:Japanisch Grundstufe 3 (A1) (261M51-131) 
LOCATION:vhs im Bamberger, Raum 106, Faulenstraße 69, 28195 Bremen
END:VEVENT
BEGIN:VEVENT
DTSTAMP:20260422T100440
DTSTART;TZID=Europe/Berlin:20260310T194500
DTEND;TZID=Europe/Berlin:20260310T211500
UID:261M51-131-20260310T194500@VHSBREMEN
SUMMARY:Japanisch Grundstufe 3 (A1) (261M51-131) 
LOCATION:vhs im Bamberger, Raum 106, Faulenstraße 69, 28195 Bremen
END:VEVENT
BEGIN:VEVENT
DTSTAMP:20260422T100440
DTSTART;TZID=Europe/Berlin:20260317T194500
DTEND;TZID=Europe/Berlin:20260317T211500
UID:261M51-131-20260317T194500@VHSBREMEN
SUMMARY:Japanisch Grundstufe 3 (A1) (261M51-131) 
LOCATION:vhs im Bamberger, Raum 106, Faulenstraße 69, 28195 Bremen
END:VEVENT
BEGIN:VEVENT
DTSTAMP:20260422T100440
DTSTART;TZID=Europe/Berlin:20260324T194500
DTEND;TZID=Europe/Berlin:20260324T211500
UID:261M51-131-20260324T194500@VHSBREMEN
DESCRIPTION:Ersatz für Ausfall am 16.06.2026
SUMMARY:Japanisch Grundstufe 3 (A1) (261M51-131) 
LOCATION:vhs im Bamberger, Raum 106, Faulenstraße 69, 28195 Bremen
END:VEVENT
BEGIN:VEVENT
DTSTAMP:20260422T100440
DTSTART;TZID=Europe/Berlin:20260414T194500
DTEND;TZID=Europe/Berlin:20260414T211500
UID:261M51-131-20260414T194500@VHSBREMEN
SUMMARY:Japanisch Grundstufe 3 (A1) (261M51-131) 
LOCATION:vhs im Bamberger, Raum 106, Faulenstraße 69, 28195 Bremen
END:VEVENT
BEGIN:VEVENT
DTSTAMP:20260422T100440
DTSTART;TZID=Europe/Berlin:20260421T194500
DTEND;TZID=Europe/Berlin:20260421T211500
UID:261M51-131-20260421T194500@VHSBREMEN
SUMMARY:Japanisch Grundstufe 3 (A1) (261M51-131) 
LOCATION:vhs im Bamberger, Raum 106, Faulenstraße 69, 28195 Bremen
END:VEVENT
BEGIN:VEVENT
DTSTAMP:20260422T100440
DTSTART;TZID=Europe/Berlin:20260428T194500
DTEND;TZID=Europe/Berlin:20260428T211500
UID:261M51-131-20260428T194500@VHSBREMEN
SUMMARY:Japanisch Grundstufe 3 (A1) (261M51-131) 
LOCATION:vhs im Bamberger, Raum 106, Faulenstraße 69, 28195 Bremen
END:VEVENT
BEGIN:VEVENT
DTSTAMP:20260422T100440
DTSTART;TZID=Europe/Berlin:20260505T194500
DTEND;TZID=Europe/Berlin:20260505T211500
UID:261M51-131-20260505T194500@VHSBREMEN
SUMMARY:Japanisch Grundstufe 3 (A1) (261M51-131) 
LOCATION:vhs im Bamberger, Raum 106, Faulenstraße 69, 28195 Bremen
END:VEVENT
BEGIN:VEVENT
DTSTAMP:20260422T100440
DTSTART;TZID=Europe/Berlin:20260512T194500
DTEND;TZID=Europe/Berlin:20260512T211500
UID:261M51-131-20260512T194500@VHSBREMEN
SUMMARY:Japanisch Grundstufe 3 (A1) (261M51-131) 
LOCATION:vhs im Bamberger, Raum 106, Faulenstraße 69, 28195 Bremen
END:VEVENT
BEGIN:VEVENT
DTSTAMP:20260422T100440
DTSTART;TZID=Europe/Berlin:20260519T194500
DTEND;TZID=Europe/Berlin:20260519T211500
UID:261M51-131-20260519T194500@VHSBREMEN
SUMMARY:Japanisch Grundstufe 3 (A1) (261M51-131) 
LOCATION:vhs im Bamberger, Raum 106, Faulenstraße 69, 28195 Bremen
END:VEVENT
BEGIN:VEVENT
DTSTAMP:20260422T100440
DTSTART;TZID=Europe/Berlin:20260602T194500
DTEND;TZID=Europe/Berlin:20260602T211500
UID:261M51-131-20260602T194500@VHSBREMEN
SUMMARY:Japanisch Grundstufe 3 (A1) (261M51-131) 
LOCATION:vhs im Bamberger, Raum 106, Faulenstraße 69, 28195 Bremen
END:VEVENT
BEGIN:VEVENT
DTSTAMP:20260422T100440
DTSTART;TZID=Europe/Berlin:20260609T194500
DTEND;TZID=Europe/Berlin:20260609T211500
UID:261M51-131-20260609T194500@VHSBREMEN
SUMMARY:Japanisch Grundstufe 3 (A1) (261M51-131) 
LOCATION:vhs im Bamberger, Raum 106, Faulenstraße 69, 28195 Bremen
END:VEVENT
END:VCALENDAR