BEGIN:VCALENDAR
VERSION:2.0
PRODID:https://www.kufer.de/kuferweb / DE
METHOD:PUBLISH
CALSCALE:GREGORIAN
X-WR-TIMEZONE:Europe/Berlin
BEGIN:VTIMEZONE
TZID:Europe/Berlin
X-LIC-LOCATION:Europe/Berlin
BEGIN:DAYLIGHT
TZOFFSETFROM:+0100
TZOFFSETTO:+0200
TZNAME:CEST
DTSTART:19700329T020000
RRULE:FREQ=YEARLY;INTERVAL=1;BYDAY=-1SU;BYMONTH=3
END:DAYLIGHT
BEGIN:STANDARD
TZOFFSETFROM:+0200
TZOFFSETTO:+0100
TZNAME:CET
DTSTART:19701025T030000
RRULE:FREQ=YEARLY;INTERVAL=1;BYDAY=-1SU;BYMONTH=10
END:STANDARD
END:VTIMEZONE
BEGIN:VEVENT
DTSTAMP:20260424T161412
DTSTART;TZID=Europe/Berlin:20260409T150000
DTEND;TZID=Europe/Berlin:20260409T163000
UID:261M50-911-20260409T150000@VHSBREMEN
SUMMARY:Italienisch Grundstufe 1 - für Ältere (A1) (261M50-911) 
LOCATION:vhs im Bamberger, Raum 101, Faulenstraße 69, 28195 Bremen
END:VEVENT
BEGIN:VEVENT
DTSTAMP:20260424T161412
DTSTART;TZID=Europe/Berlin:20260416T150000
DTEND;TZID=Europe/Berlin:20260416T163000
UID:261M50-911-20260416T150000@VHSBREMEN
SUMMARY:Italienisch Grundstufe 1 - für Ältere (A1) (261M50-911) 
LOCATION:vhs im Bamberger, Raum 101, Faulenstraße 69, 28195 Bremen
END:VEVENT
BEGIN:VEVENT
DTSTAMP:20260424T161412
DTSTART;TZID=Europe/Berlin:20260423T150000
DTEND;TZID=Europe/Berlin:20260423T163000
UID:261M50-911-20260423T150000@VHSBREMEN
SUMMARY:Italienisch Grundstufe 1 - für Ältere (A1) (261M50-911) 
LOCATION:vhs im Bamberger, Raum 101, Faulenstraße 69, 28195 Bremen
END:VEVENT
BEGIN:VEVENT
DTSTAMP:20260424T161412
DTSTART;TZID=Europe/Berlin:20260430T150000
DTEND;TZID=Europe/Berlin:20260430T163000
UID:261M50-911-20260430T150000@VHSBREMEN
SUMMARY:Italienisch Grundstufe 1 - für Ältere (A1) (261M50-911) 
LOCATION:vhs im Bamberger, Raum 101, Faulenstraße 69, 28195 Bremen
END:VEVENT
BEGIN:VEVENT
DTSTAMP:20260424T161412
DTSTART;TZID=Europe/Berlin:20260507T150000
DTEND;TZID=Europe/Berlin:20260507T163000
UID:261M50-911-20260507T150000@VHSBREMEN
SUMMARY:Italienisch Grundstufe 1 - für Ältere (A1) (261M50-911) 
LOCATION:vhs im Bamberger, Raum 101, Faulenstraße 69, 28195 Bremen
END:VEVENT
BEGIN:VEVENT
DTSTAMP:20260424T161412
DTSTART;TZID=Europe/Berlin:20260521T150000
DTEND;TZID=Europe/Berlin:20260521T163000
UID:261M50-911-20260521T150000@VHSBREMEN
SUMMARY:Italienisch Grundstufe 1 - für Ältere (A1) (261M50-911) 
LOCATION:vhs im Bamberger, Raum 101, Faulenstraße 69, 28195 Bremen
END:VEVENT
BEGIN:VEVENT
DTSTAMP:20260424T161412
DTSTART;TZID=Europe/Berlin:20260528T150000
DTEND;TZID=Europe/Berlin:20260528T163000
UID:261M50-911-20260528T150000@VHSBREMEN
SUMMARY:Italienisch Grundstufe 1 - für Ältere (A1) (261M50-911) 
LOCATION:vhs im Bamberger, Raum 101, Faulenstraße 69, 28195 Bremen
END:VEVENT
BEGIN:VEVENT
DTSTAMP:20260424T161412
DTSTART;TZID=Europe/Berlin:20260604T150000
DTEND;TZID=Europe/Berlin:20260604T163000
UID:261M50-911-20260604T150000@VHSBREMEN
SUMMARY:Italienisch Grundstufe 1 - für Ältere (A1) (261M50-911) 
LOCATION:vhs im Bamberger, Raum 101, Faulenstraße 69, 28195 Bremen
END:VEVENT
BEGIN:VEVENT
DTSTAMP:20260424T161412
DTSTART;TZID=Europe/Berlin:20260611T150000
DTEND;TZID=Europe/Berlin:20260611T163000
UID:261M50-911-20260611T150000@VHSBREMEN
SUMMARY:Italienisch Grundstufe 1 - für Ältere (A1) (261M50-911) 
LOCATION:vhs im Bamberger, Raum 101, Faulenstraße 69, 28195 Bremen
END:VEVENT
END:VCALENDAR