BEGIN:VCALENDAR
VERSION:2.0
PRODID:https://www.kufer.de/kuferweb / DE
METHOD:PUBLISH
CALSCALE:GREGORIAN
X-WR-TIMEZONE:Europe/Berlin
BEGIN:VTIMEZONE
TZID:Europe/Berlin
X-LIC-LOCATION:Europe/Berlin
BEGIN:DAYLIGHT
TZOFFSETFROM:+0100
TZOFFSETTO:+0200
TZNAME:CEST
DTSTART:19700329T020000
RRULE:FREQ=YEARLY;INTERVAL=1;BYDAY=-1SU;BYMONTH=3
END:DAYLIGHT
BEGIN:STANDARD
TZOFFSETFROM:+0200
TZOFFSETTO:+0100
TZNAME:CET
DTSTART:19701025T030000
RRULE:FREQ=YEARLY;INTERVAL=1;BYDAY=-1SU;BYMONTH=10
END:STANDARD
END:VTIMEZONE
BEGIN:VEVENT
DTSTAMP:20260424T001541
DTSTART;TZID=Europe/Berlin:20260217T104500
DTEND;TZID=Europe/Berlin:20260217T121500
UID:261M50-107-20260217T104500@VHSBREMEN
SUMMARY:Italienisch Grundstufe 4 am Vormittag (A1) (261M50-107) 
LOCATION:vhs im Bamberger, Raum 304, Faulenstraße 69, 28195 Bremen
END:VEVENT
BEGIN:VEVENT
DTSTAMP:20260424T001541
DTSTART;TZID=Europe/Berlin:20260224T104500
DTEND;TZID=Europe/Berlin:20260224T121500
UID:261M50-107-20260224T104500@VHSBREMEN
SUMMARY:Italienisch Grundstufe 4 am Vormittag (A1) (261M50-107) 
LOCATION:vhs im Bamberger, Raum 304, Faulenstraße 69, 28195 Bremen
END:VEVENT
BEGIN:VEVENT
DTSTAMP:20260424T001541
DTSTART;TZID=Europe/Berlin:20260303T104500
DTEND;TZID=Europe/Berlin:20260303T121500
UID:261M50-107-20260303T104500@VHSBREMEN
SUMMARY:Italienisch Grundstufe 4 am Vormittag (A1) (261M50-107) 
LOCATION:vhs im Bamberger, Raum 304, Faulenstraße 69, 28195 Bremen
END:VEVENT
BEGIN:VEVENT
DTSTAMP:20260424T001541
DTSTART;TZID=Europe/Berlin:20260310T104500
DTEND;TZID=Europe/Berlin:20260310T121500
UID:261M50-107-20260310T104500@VHSBREMEN
SUMMARY:Italienisch Grundstufe 4 am Vormittag (A1) (261M50-107) 
LOCATION:vhs im Bamberger, Raum 304, Faulenstraße 69, 28195 Bremen
END:VEVENT
BEGIN:VEVENT
DTSTAMP:20260424T001541
DTSTART;TZID=Europe/Berlin:20260317T104500
DTEND;TZID=Europe/Berlin:20260317T121500
UID:261M50-107-20260317T104500@VHSBREMEN
SUMMARY:Italienisch Grundstufe 4 am Vormittag (A1) (261M50-107) 
LOCATION:vhs im Bamberger, Raum 304, Faulenstraße 69, 28195 Bremen
END:VEVENT
BEGIN:VEVENT
DTSTAMP:20260424T001541
DTSTART;TZID=Europe/Berlin:20260414T104500
DTEND;TZID=Europe/Berlin:20260414T121500
UID:261M50-107-20260414T104500@VHSBREMEN
SUMMARY:Italienisch Grundstufe 4 am Vormittag (A1) (261M50-107) 
LOCATION:vhs im Bamberger, Raum 304, Faulenstraße 69, 28195 Bremen
END:VEVENT
BEGIN:VEVENT
DTSTAMP:20260424T001541
DTSTART;TZID=Europe/Berlin:20260421T104500
DTEND;TZID=Europe/Berlin:20260421T121500
UID:261M50-107-20260421T104500@VHSBREMEN
SUMMARY:Italienisch Grundstufe 4 am Vormittag (A1) (261M50-107) 
LOCATION:vhs im Bamberger, Raum 304, Faulenstraße 69, 28195 Bremen
END:VEVENT
BEGIN:VEVENT
DTSTAMP:20260424T001541
DTSTART;TZID=Europe/Berlin:20260428T104500
DTEND;TZID=Europe/Berlin:20260428T121500
UID:261M50-107-20260428T104500@VHSBREMEN
SUMMARY:Italienisch Grundstufe 4 am Vormittag (A1) (261M50-107) 
LOCATION:vhs im Bamberger, Raum 304, Faulenstraße 69, 28195 Bremen
END:VEVENT
BEGIN:VEVENT
DTSTAMP:20260424T001541
DTSTART;TZID=Europe/Berlin:20260505T104500
DTEND;TZID=Europe/Berlin:20260505T121500
UID:261M50-107-20260505T104500@VHSBREMEN
SUMMARY:Italienisch Grundstufe 4 am Vormittag (A1) (261M50-107) 
LOCATION:vhs im Bamberger, Raum 304, Faulenstraße 69, 28195 Bremen
END:VEVENT
BEGIN:VEVENT
DTSTAMP:20260424T001541
DTSTART;TZID=Europe/Berlin:20260512T104500
DTEND;TZID=Europe/Berlin:20260512T121500
UID:261M50-107-20260512T104500@VHSBREMEN
SUMMARY:Italienisch Grundstufe 4 am Vormittag (A1) (261M50-107) 
LOCATION:vhs im Bamberger, Raum 304, Faulenstraße 69, 28195 Bremen
END:VEVENT
BEGIN:VEVENT
DTSTAMP:20260424T001541
DTSTART;TZID=Europe/Berlin:20260519T104500
DTEND;TZID=Europe/Berlin:20260519T121500
UID:261M50-107-20260519T104500@VHSBREMEN
SUMMARY:Italienisch Grundstufe 4 am Vormittag (A1) (261M50-107) 
LOCATION:vhs im Bamberger, Raum 304, Faulenstraße 69, 28195 Bremen
END:VEVENT
BEGIN:VEVENT
DTSTAMP:20260424T001541
DTSTART;TZID=Europe/Berlin:20260602T104500
DTEND;TZID=Europe/Berlin:20260602T121500
UID:261M50-107-20260602T104500@VHSBREMEN
SUMMARY:Italienisch Grundstufe 4 am Vormittag (A1) (261M50-107) 
LOCATION:vhs im Bamberger, Raum 304, Faulenstraße 69, 28195 Bremen
END:VEVENT
END:VCALENDAR