BEGIN:VCALENDAR
VERSION:2.0
PRODID:https://www.kufer.de/kuferweb / DE
METHOD:PUBLISH
CALSCALE:GREGORIAN
X-WR-TIMEZONE:Europe/Berlin
BEGIN:VTIMEZONE
TZID:Europe/Berlin
X-LIC-LOCATION:Europe/Berlin
BEGIN:DAYLIGHT
TZOFFSETFROM:+0100
TZOFFSETTO:+0200
TZNAME:CEST
DTSTART:19700329T020000
RRULE:FREQ=YEARLY;INTERVAL=1;BYDAY=-1SU;BYMONTH=3
END:DAYLIGHT
BEGIN:STANDARD
TZOFFSETFROM:+0200
TZOFFSETTO:+0100
TZNAME:CET
DTSTART:19701025T030000
RRULE:FREQ=YEARLY;INTERVAL=1;BYDAY=-1SU;BYMONTH=10
END:STANDARD
END:VTIMEZONE
BEGIN:VEVENT
DTSTAMP:20260422T064919
DTSTART;TZID=Europe/Berlin:20260212T104500
DTEND;TZID=Europe/Berlin:20260212T121500
UID:261M48-951-20260212T104500@VHSBREMEN
SUMMARY:Französisch Konversation auf Niveau B1 - für Ältere - Conversation en français au niveau B1 (261M48-951) 
LOCATION:vhs im Bamberger, Raum 304, Faulenstraße 69, 28195 Bremen
END:VEVENT
BEGIN:VEVENT
DTSTAMP:20260422T064919
DTSTART;TZID=Europe/Berlin:20260219T104500
DTEND;TZID=Europe/Berlin:20260219T121500
UID:261M48-951-20260219T104500@VHSBREMEN
SUMMARY:Französisch Konversation auf Niveau B1 - für Ältere - Conversation en français au niveau B1 (261M48-951) 
LOCATION:vhs im Bamberger, Raum 304, Faulenstraße 69, 28195 Bremen
END:VEVENT
BEGIN:VEVENT
DTSTAMP:20260422T064919
DTSTART;TZID=Europe/Berlin:20260226T104500
DTEND;TZID=Europe/Berlin:20260226T121500
UID:261M48-951-20260226T104500@VHSBREMEN
SUMMARY:Französisch Konversation auf Niveau B1 - für Ältere - Conversation en français au niveau B1 (261M48-951) 
LOCATION:vhs im Bamberger, Raum 304, Faulenstraße 69, 28195 Bremen
END:VEVENT
BEGIN:VEVENT
DTSTAMP:20260422T064919
DTSTART;TZID=Europe/Berlin:20260305T104500
DTEND;TZID=Europe/Berlin:20260305T121500
UID:261M48-951-20260305T104500@VHSBREMEN
SUMMARY:Französisch Konversation auf Niveau B1 - für Ältere - Conversation en français au niveau B1 (261M48-951) 
LOCATION:vhs im Bamberger, Raum 304, Faulenstraße 69, 28195 Bremen
END:VEVENT
BEGIN:VEVENT
DTSTAMP:20260422T064919
DTSTART;TZID=Europe/Berlin:20260312T104500
DTEND;TZID=Europe/Berlin:20260312T121500
UID:261M48-951-20260312T104500@VHSBREMEN
SUMMARY:Französisch Konversation auf Niveau B1 - für Ältere - Conversation en français au niveau B1 (261M48-951) 
LOCATION:vhs im Bamberger, Raum 304, Faulenstraße 69, 28195 Bremen
END:VEVENT
BEGIN:VEVENT
DTSTAMP:20260422T064919
DTSTART;TZID=Europe/Berlin:20260319T104500
DTEND;TZID=Europe/Berlin:20260319T121500
UID:261M48-951-20260319T104500@VHSBREMEN
SUMMARY:Französisch Konversation auf Niveau B1 - für Ältere - Conversation en français au niveau B1 (261M48-951) 
LOCATION:vhs im Bamberger, Raum 304, Faulenstraße 69, 28195 Bremen
END:VEVENT
BEGIN:VEVENT
DTSTAMP:20260422T064919
DTSTART;TZID=Europe/Berlin:20260409T104500
DTEND;TZID=Europe/Berlin:20260409T121500
UID:261M48-951-20260409T104500@VHSBREMEN
SUMMARY:Französisch Konversation auf Niveau B1 - für Ältere - Conversation en français au niveau B1 (261M48-951) 
LOCATION:vhs im Bamberger, Raum 304, Faulenstraße 69, 28195 Bremen
END:VEVENT
BEGIN:VEVENT
DTSTAMP:20260422T064919
DTSTART;TZID=Europe/Berlin:20260416T104500
DTEND;TZID=Europe/Berlin:20260416T121500
UID:261M48-951-20260416T104500@VHSBREMEN
SUMMARY:Französisch Konversation auf Niveau B1 - für Ältere - Conversation en français au niveau B1 (261M48-951) 
LOCATION:vhs im Bamberger, Raum 304, Faulenstraße 69, 28195 Bremen
END:VEVENT
BEGIN:VEVENT
DTSTAMP:20260422T064919
DTSTART;TZID=Europe/Berlin:20260423T104500
DTEND;TZID=Europe/Berlin:20260423T121500
UID:261M48-951-20260423T104500@VHSBREMEN
SUMMARY:Französisch Konversation auf Niveau B1 - für Ältere - Conversation en français au niveau B1 (261M48-951) 
LOCATION:vhs im Bamberger, Raum 304, Faulenstraße 69, 28195 Bremen
END:VEVENT
BEGIN:VEVENT
DTSTAMP:20260422T064919
DTSTART;TZID=Europe/Berlin:20260430T104500
DTEND;TZID=Europe/Berlin:20260430T121500
UID:261M48-951-20260430T104500@VHSBREMEN
SUMMARY:Französisch Konversation auf Niveau B1 - für Ältere - Conversation en français au niveau B1 (261M48-951) 
LOCATION:vhs im Bamberger, Raum 304, Faulenstraße 69, 28195 Bremen
END:VEVENT
BEGIN:VEVENT
DTSTAMP:20260422T064919
DTSTART;TZID=Europe/Berlin:20260507T104500
DTEND;TZID=Europe/Berlin:20260507T121500
UID:261M48-951-20260507T104500@VHSBREMEN
SUMMARY:Französisch Konversation auf Niveau B1 - für Ältere - Conversation en français au niveau B1 (261M48-951) 
LOCATION:vhs im Bamberger, Raum 304, Faulenstraße 69, 28195 Bremen
END:VEVENT
BEGIN:VEVENT
DTSTAMP:20260422T064919
DTSTART;TZID=Europe/Berlin:20260521T104500
DTEND;TZID=Europe/Berlin:20260521T121500
UID:261M48-951-20260521T104500@VHSBREMEN
SUMMARY:Französisch Konversation auf Niveau B1 - für Ältere - Conversation en français au niveau B1 (261M48-951) 
LOCATION:vhs im Bamberger, Raum 304, Faulenstraße 69, 28195 Bremen
END:VEVENT
BEGIN:VEVENT
DTSTAMP:20260422T064919
DTSTART;TZID=Europe/Berlin:20260528T104500
DTEND;TZID=Europe/Berlin:20260528T121500
UID:261M48-951-20260528T104500@VHSBREMEN
SUMMARY:Französisch Konversation auf Niveau B1 - für Ältere - Conversation en français au niveau B1 (261M48-951) 
LOCATION:vhs im Bamberger, Raum 304, Faulenstraße 69, 28195 Bremen
END:VEVENT
BEGIN:VEVENT
DTSTAMP:20260422T064919
DTSTART;TZID=Europe/Berlin:20260604T104500
DTEND;TZID=Europe/Berlin:20260604T121500
UID:261M48-951-20260604T104500@VHSBREMEN
SUMMARY:Französisch Konversation auf Niveau B1 - für Ältere - Conversation en français au niveau B1 (261M48-951) 
LOCATION:vhs im Bamberger, Raum 304, Faulenstraße 69, 28195 Bremen
END:VEVENT
BEGIN:VEVENT
DTSTAMP:20260422T064919
DTSTART;TZID=Europe/Berlin:20260611T104500
DTEND;TZID=Europe/Berlin:20260611T121500
UID:261M48-951-20260611T104500@VHSBREMEN
SUMMARY:Französisch Konversation auf Niveau B1 - für Ältere - Conversation en français au niveau B1 (261M48-951) 
LOCATION:vhs im Bamberger, Raum 304, Faulenstraße 69, 28195 Bremen
END:VEVENT
END:VCALENDAR