BEGIN:VCALENDAR
VERSION:2.0
PRODID:https://www.kufer.de/kuferweb / DE
METHOD:PUBLISH
CALSCALE:GREGORIAN
X-WR-TIMEZONE:Europe/Berlin
BEGIN:VTIMEZONE
TZID:Europe/Berlin
X-LIC-LOCATION:Europe/Berlin
BEGIN:DAYLIGHT
TZOFFSETFROM:+0100
TZOFFSETTO:+0200
TZNAME:CEST
DTSTART:19700329T020000
RRULE:FREQ=YEARLY;INTERVAL=1;BYDAY=-1SU;BYMONTH=3
END:DAYLIGHT
BEGIN:STANDARD
TZOFFSETFROM:+0200
TZOFFSETTO:+0100
TZNAME:CET
DTSTART:19701025T030000
RRULE:FREQ=YEARLY;INTERVAL=1;BYDAY=-1SU;BYMONTH=10
END:STANDARD
END:VTIMEZONE
BEGIN:VEVENT
DTSTAMP:20260420T215533
DTSTART;TZID=Europe/Berlin:20260220T104500
DTEND;TZID=Europe/Berlin:20260220T121500
UID:261M48-105-20260220T104500@VHSBREMEN
SUMMARY:Französisch Grundstufe 2 am Vormittag (A1) (261M48-105) 
LOCATION:vhs im Bamberger, Raum 304, Faulenstraße 69, 28195 Bremen
END:VEVENT
BEGIN:VEVENT
DTSTAMP:20260420T215533
DTSTART;TZID=Europe/Berlin:20260227T104500
DTEND;TZID=Europe/Berlin:20260227T121500
UID:261M48-105-20260227T104500@VHSBREMEN
SUMMARY:Französisch Grundstufe 2 am Vormittag (A1) (261M48-105) 
LOCATION:vhs im Bamberger, Raum 304, Faulenstraße 69, 28195 Bremen
END:VEVENT
BEGIN:VEVENT
DTSTAMP:20260420T215533
DTSTART;TZID=Europe/Berlin:20260306T104500
DTEND;TZID=Europe/Berlin:20260306T121500
UID:261M48-105-20260306T104500@VHSBREMEN
SUMMARY:Französisch Grundstufe 2 am Vormittag (A1) (261M48-105) 
LOCATION:vhs im Bamberger, Raum 304, Faulenstraße 69, 28195 Bremen
END:VEVENT
BEGIN:VEVENT
DTSTAMP:20260420T215533
DTSTART;TZID=Europe/Berlin:20260313T104500
DTEND;TZID=Europe/Berlin:20260313T121500
UID:261M48-105-20260313T104500@VHSBREMEN
SUMMARY:Französisch Grundstufe 2 am Vormittag (A1) (261M48-105) 
LOCATION:vhs im Bamberger, Raum 304, Faulenstraße 69, 28195 Bremen
END:VEVENT
BEGIN:VEVENT
DTSTAMP:20260420T215533
DTSTART;TZID=Europe/Berlin:20260320T104500
DTEND;TZID=Europe/Berlin:20260320T121500
UID:261M48-105-20260320T104500@VHSBREMEN
SUMMARY:Französisch Grundstufe 2 am Vormittag (A1) (261M48-105) 
LOCATION:vhs im Bamberger, Raum 304, Faulenstraße 69, 28195 Bremen
END:VEVENT
BEGIN:VEVENT
DTSTAMP:20260420T215533
DTSTART;TZID=Europe/Berlin:20260410T104500
DTEND;TZID=Europe/Berlin:20260410T121500
UID:261M48-105-20260410T104500@VHSBREMEN
SUMMARY:Französisch Grundstufe 2 am Vormittag (A1) (261M48-105) 
LOCATION:vhs im Bamberger, Raum 304, Faulenstraße 69, 28195 Bremen
END:VEVENT
BEGIN:VEVENT
DTSTAMP:20260420T215533
DTSTART;TZID=Europe/Berlin:20260417T104500
DTEND;TZID=Europe/Berlin:20260417T121500
UID:261M48-105-20260417T104500@VHSBREMEN
SUMMARY:Französisch Grundstufe 2 am Vormittag (A1) (261M48-105) 
LOCATION:vhs im Bamberger, Raum 304, Faulenstraße 69, 28195 Bremen
END:VEVENT
BEGIN:VEVENT
DTSTAMP:20260420T215533
DTSTART;TZID=Europe/Berlin:20260424T104500
DTEND;TZID=Europe/Berlin:20260424T121500
UID:261M48-105-20260424T104500@VHSBREMEN
SUMMARY:Französisch Grundstufe 2 am Vormittag (A1) (261M48-105) 
LOCATION:vhs im Bamberger, Raum 304, Faulenstraße 69, 28195 Bremen
END:VEVENT
BEGIN:VEVENT
DTSTAMP:20260420T215533
DTSTART;TZID=Europe/Berlin:20260508T104500
DTEND;TZID=Europe/Berlin:20260508T121500
UID:261M48-105-20260508T104500@VHSBREMEN
SUMMARY:Französisch Grundstufe 2 am Vormittag (A1) (261M48-105) 
LOCATION:vhs im Bamberger, Raum 304, Faulenstraße 69, 28195 Bremen
END:VEVENT
BEGIN:VEVENT
DTSTAMP:20260420T215533
DTSTART;TZID=Europe/Berlin:20260522T104500
DTEND;TZID=Europe/Berlin:20260522T121500
UID:261M48-105-20260522T104500@VHSBREMEN
SUMMARY:Französisch Grundstufe 2 am Vormittag (A1) (261M48-105) 
LOCATION:vhs im Bamberger, Raum 304, Faulenstraße 69, 28195 Bremen
END:VEVENT
BEGIN:VEVENT
DTSTAMP:20260420T215533
DTSTART;TZID=Europe/Berlin:20260529T104500
DTEND;TZID=Europe/Berlin:20260529T121500
UID:261M48-105-20260529T104500@VHSBREMEN
SUMMARY:Französisch Grundstufe 2 am Vormittag (A1) (261M48-105) 
LOCATION:vhs im Bamberger, Raum 304, Faulenstraße 69, 28195 Bremen
END:VEVENT
BEGIN:VEVENT
DTSTAMP:20260420T215533
DTSTART;TZID=Europe/Berlin:20260605T104500
DTEND;TZID=Europe/Berlin:20260605T121500
UID:261M48-105-20260605T104500@VHSBREMEN
SUMMARY:Französisch Grundstufe 2 am Vormittag (A1) (261M48-105) 
LOCATION:vhs im Bamberger, Raum 304, Faulenstraße 69, 28195 Bremen
END:VEVENT
BEGIN:VEVENT
DTSTAMP:20260420T215533
DTSTART;TZID=Europe/Berlin:20260612T104500
DTEND;TZID=Europe/Berlin:20260612T121500
UID:261M48-105-20260612T104500@VHSBREMEN
SUMMARY:Französisch Grundstufe 2 am Vormittag (A1) (261M48-105) 
LOCATION:vhs im Bamberger, Raum 304, Faulenstraße 69, 28195 Bremen
END:VEVENT
END:VCALENDAR