BEGIN:VCALENDAR
VERSION:2.0
PRODID:https://www.kufer.de/kuferweb / DE
METHOD:PUBLISH
CALSCALE:GREGORIAN
X-WR-TIMEZONE:Europe/Berlin
BEGIN:VTIMEZONE
TZID:Europe/Berlin
X-LIC-LOCATION:Europe/Berlin
BEGIN:DAYLIGHT
TZOFFSETFROM:+0100
TZOFFSETTO:+0200
TZNAME:CEST
DTSTART:19700329T020000
RRULE:FREQ=YEARLY;INTERVAL=1;BYDAY=-1SU;BYMONTH=3
END:DAYLIGHT
BEGIN:STANDARD
TZOFFSETFROM:+0200
TZOFFSETTO:+0100
TZNAME:CET
DTSTART:19701025T030000
RRULE:FREQ=YEARLY;INTERVAL=1;BYDAY=-1SU;BYMONTH=10
END:STANDARD
END:VTIMEZONE
BEGIN:VEVENT
DTSTAMP:20260420T215915
DTSTART;TZID=Europe/Berlin:20260224T163000
DTEND;TZID=Europe/Berlin:20260224T180000
UID:261M47-521-20260224T163000@VHSBREMEN
SUMMARY:Finnisch Grundstufe 2 (A1) (261M47-521) 
LOCATION:vhs am Bahnhof, Raum 5.1, Breitenweg 2, 28195 Bremen
END:VEVENT
BEGIN:VEVENT
DTSTAMP:20260420T215915
DTSTART;TZID=Europe/Berlin:20260303T163000
DTEND;TZID=Europe/Berlin:20260303T180000
UID:261M47-521-20260303T163000@VHSBREMEN
SUMMARY:Finnisch Grundstufe 2 (A1) (261M47-521) 
LOCATION:vhs am Bahnhof, Raum 5.1, Breitenweg 2, 28195 Bremen
END:VEVENT
BEGIN:VEVENT
DTSTAMP:20260420T215915
DTSTART;TZID=Europe/Berlin:20260310T163000
DTEND;TZID=Europe/Berlin:20260310T180000
UID:261M47-521-20260310T163000@VHSBREMEN
SUMMARY:Finnisch Grundstufe 2 (A1) (261M47-521) 
LOCATION:vhs am Bahnhof, Raum 1.1, Breitenweg 2, 28195 Bremen
END:VEVENT
BEGIN:VEVENT
DTSTAMP:20260420T215915
DTSTART;TZID=Europe/Berlin:20260317T163000
DTEND;TZID=Europe/Berlin:20260317T180000
UID:261M47-521-20260317T163000@VHSBREMEN
SUMMARY:Finnisch Grundstufe 2 (A1) (261M47-521) 
LOCATION:vhs am Bahnhof, Raum 1.1, Breitenweg 2, 28195 Bremen
END:VEVENT
BEGIN:VEVENT
DTSTAMP:20260420T215915
DTSTART;TZID=Europe/Berlin:20260414T163000
DTEND;TZID=Europe/Berlin:20260414T180000
UID:261M47-521-20260414T163000@VHSBREMEN
SUMMARY:Finnisch Grundstufe 2 (A1) (261M47-521) 
LOCATION:vhs am Bahnhof, Raum 1.1, Breitenweg 2, 28195 Bremen
END:VEVENT
BEGIN:VEVENT
DTSTAMP:20260420T215915
DTSTART;TZID=Europe/Berlin:20260421T163000
DTEND;TZID=Europe/Berlin:20260421T180000
UID:261M47-521-20260421T163000@VHSBREMEN
SUMMARY:Finnisch Grundstufe 2 (A1) (261M47-521) 
LOCATION:vhs am Bahnhof, Raum 1.1, Breitenweg 2, 28195 Bremen
END:VEVENT
BEGIN:VEVENT
DTSTAMP:20260420T215915
DTSTART;TZID=Europe/Berlin:20260428T163000
DTEND;TZID=Europe/Berlin:20260428T180000
UID:261M47-521-20260428T163000@VHSBREMEN
SUMMARY:Finnisch Grundstufe 2 (A1) (261M47-521) 
LOCATION:vhs am Bahnhof, Raum 1.1, Breitenweg 2, 28195 Bremen
END:VEVENT
BEGIN:VEVENT
DTSTAMP:20260420T215915
DTSTART;TZID=Europe/Berlin:20260505T163000
DTEND;TZID=Europe/Berlin:20260505T180000
UID:261M47-521-20260505T163000@VHSBREMEN
SUMMARY:Finnisch Grundstufe 2 (A1) (261M47-521) 
LOCATION:vhs am Bahnhof, Raum 1.1, Breitenweg 2, 28195 Bremen
END:VEVENT
BEGIN:VEVENT
DTSTAMP:20260420T215915
DTSTART;TZID=Europe/Berlin:20260512T163000
DTEND;TZID=Europe/Berlin:20260512T180000
UID:261M47-521-20260512T163000@VHSBREMEN
SUMMARY:Finnisch Grundstufe 2 (A1) (261M47-521) 
LOCATION:vhs am Bahnhof, Raum 1.1, Breitenweg 2, 28195 Bremen
END:VEVENT
BEGIN:VEVENT
DTSTAMP:20260420T215915
DTSTART;TZID=Europe/Berlin:20260519T163000
DTEND;TZID=Europe/Berlin:20260519T180000
UID:261M47-521-20260519T163000@VHSBREMEN
SUMMARY:Finnisch Grundstufe 2 (A1) (261M47-521) 
LOCATION:vhs am Bahnhof, Raum 1.1, Breitenweg 2, 28195 Bremen
END:VEVENT
BEGIN:VEVENT
DTSTAMP:20260420T215915
DTSTART;TZID=Europe/Berlin:20260602T163000
DTEND;TZID=Europe/Berlin:20260602T180000
UID:261M47-521-20260602T163000@VHSBREMEN
SUMMARY:Finnisch Grundstufe 2 (A1) (261M47-521) 
LOCATION:vhs am Bahnhof, Raum 1.1, Breitenweg 2, 28195 Bremen
END:VEVENT
BEGIN:VEVENT
DTSTAMP:20260420T215915
DTSTART;TZID=Europe/Berlin:20260609T163000
DTEND;TZID=Europe/Berlin:20260609T180000
UID:261M47-521-20260609T163000@VHSBREMEN
SUMMARY:Finnisch Grundstufe 2 (A1) (261M47-521) 
LOCATION:vhs am Bahnhof, Raum 1.1, Breitenweg 2, 28195 Bremen
END:VEVENT
END:VCALENDAR