BEGIN:VCALENDAR
VERSION:2.0
PRODID:https://www.kufer.de/kuferweb / DE
METHOD:PUBLISH
CALSCALE:GREGORIAN
X-WR-TIMEZONE:Europe/Berlin
BEGIN:VTIMEZONE
TZID:Europe/Berlin
X-LIC-LOCATION:Europe/Berlin
BEGIN:DAYLIGHT
TZOFFSETFROM:+0100
TZOFFSETTO:+0200
TZNAME:CEST
DTSTART:19700329T020000
RRULE:FREQ=YEARLY;INTERVAL=1;BYDAY=-1SU;BYMONTH=3
END:DAYLIGHT
BEGIN:STANDARD
TZOFFSETFROM:+0200
TZOFFSETTO:+0100
TZNAME:CET
DTSTART:19701025T030000
RRULE:FREQ=YEARLY;INTERVAL=1;BYDAY=-1SU;BYMONTH=10
END:STANDARD
END:VTIMEZONE
BEGIN:VEVENT
DTSTAMP:20260420T025921
DTSTART;TZID=Europe/Berlin:20260213T143000
DTEND;TZID=Europe/Berlin:20260213T160000
UID:261M46-621-20260213T143000@VHSBREMEN
SUMMARY:Englisch Mittelstufe 2 – für Ältere (A2) (261M46-621) 
LOCATION:vhs im Bamberger, Raum 111, Faulenstraße 69, 28195 Bremen
END:VEVENT
BEGIN:VEVENT
DTSTAMP:20260420T025921
DTSTART;TZID=Europe/Berlin:20260220T143000
DTEND;TZID=Europe/Berlin:20260220T160000
UID:261M46-621-20260220T143000@VHSBREMEN
SUMMARY:Englisch Mittelstufe 2 – für Ältere (A2) (261M46-621) 
LOCATION:vhs im Bamberger, Raum 111, Faulenstraße 69, 28195 Bremen
END:VEVENT
BEGIN:VEVENT
DTSTAMP:20260420T025921
DTSTART;TZID=Europe/Berlin:20260227T143000
DTEND;TZID=Europe/Berlin:20260227T160000
UID:261M46-621-20260227T143000@VHSBREMEN
SUMMARY:Englisch Mittelstufe 2 – für Ältere (A2) (261M46-621) 
LOCATION:vhs im Bamberger, Raum 111, Faulenstraße 69, 28195 Bremen
END:VEVENT
BEGIN:VEVENT
DTSTAMP:20260420T025921
DTSTART;TZID=Europe/Berlin:20260306T143000
DTEND;TZID=Europe/Berlin:20260306T160000
UID:261M46-621-20260306T143000@VHSBREMEN
SUMMARY:Englisch Mittelstufe 2 – für Ältere (A2) (261M46-621) 
LOCATION:vhs im Bamberger, Raum 111, Faulenstraße 69, 28195 Bremen
END:VEVENT
BEGIN:VEVENT
DTSTAMP:20260420T025921
DTSTART;TZID=Europe/Berlin:20260313T143000
DTEND;TZID=Europe/Berlin:20260313T160000
UID:261M46-621-20260313T143000@VHSBREMEN
SUMMARY:Englisch Mittelstufe 2 – für Ältere (A2) (261M46-621) 
LOCATION:vhs im Bamberger, Raum 303, Faulenstraße 69, 28195 Bremen
END:VEVENT
BEGIN:VEVENT
DTSTAMP:20260420T025921
DTSTART;TZID=Europe/Berlin:20260320T143000
DTEND;TZID=Europe/Berlin:20260320T160000
UID:261M46-621-20260320T143000@VHSBREMEN
SUMMARY:Englisch Mittelstufe 2 – für Ältere (A2) (261M46-621) 
LOCATION:vhs im Bamberger, Raum 304, Faulenstraße 69, 28195 Bremen
END:VEVENT
BEGIN:VEVENT
DTSTAMP:20260420T025921
DTSTART;TZID=Europe/Berlin:20260410T143000
DTEND;TZID=Europe/Berlin:20260410T160000
UID:261M46-621-20260410T143000@VHSBREMEN
SUMMARY:Englisch Mittelstufe 2 – für Ältere (A2) (261M46-621) 
LOCATION:vhs im Bamberger, Raum 304, Faulenstraße 69, 28195 Bremen
END:VEVENT
BEGIN:VEVENT
DTSTAMP:20260420T025921
DTSTART;TZID=Europe/Berlin:20260417T143000
DTEND;TZID=Europe/Berlin:20260417T160000
UID:261M46-621-20260417T143000@VHSBREMEN
SUMMARY:Englisch Mittelstufe 2 – für Ältere (A2) (261M46-621) 
LOCATION:vhs im Bamberger, Raum 304, Faulenstraße 69, 28195 Bremen
END:VEVENT
BEGIN:VEVENT
DTSTAMP:20260420T025921
DTSTART;TZID=Europe/Berlin:20260424T143000
DTEND;TZID=Europe/Berlin:20260424T160000
UID:261M46-621-20260424T143000@VHSBREMEN
SUMMARY:Englisch Mittelstufe 2 – für Ältere (A2) (261M46-621) 
LOCATION:vhs im Bamberger, Raum 304, Faulenstraße 69, 28195 Bremen
END:VEVENT
BEGIN:VEVENT
DTSTAMP:20260420T025921
DTSTART;TZID=Europe/Berlin:20260508T143000
DTEND;TZID=Europe/Berlin:20260508T160000
UID:261M46-621-20260508T143000@VHSBREMEN
SUMMARY:Englisch Mittelstufe 2 – für Ältere (A2) (261M46-621) 
LOCATION:vhs im Bamberger, Raum 304, Faulenstraße 69, 28195 Bremen
END:VEVENT
BEGIN:VEVENT
DTSTAMP:20260420T025921
DTSTART;TZID=Europe/Berlin:20260522T143000
DTEND;TZID=Europe/Berlin:20260522T160000
UID:261M46-621-20260522T143000@VHSBREMEN
SUMMARY:Englisch Mittelstufe 2 – für Ältere (A2) (261M46-621) 
LOCATION:vhs im Bamberger, Raum 304, Faulenstraße 69, 28195 Bremen
END:VEVENT
BEGIN:VEVENT
DTSTAMP:20260420T025921
DTSTART;TZID=Europe/Berlin:20260529T143000
DTEND;TZID=Europe/Berlin:20260529T160000
UID:261M46-621-20260529T143000@VHSBREMEN
SUMMARY:Englisch Mittelstufe 2 – für Ältere (A2) (261M46-621) 
LOCATION:vhs im Bamberger, Raum 304, Faulenstraße 69, 28195 Bremen
END:VEVENT
BEGIN:VEVENT
DTSTAMP:20260420T025921
DTSTART;TZID=Europe/Berlin:20260605T143000
DTEND;TZID=Europe/Berlin:20260605T160000
UID:261M46-621-20260605T143000@VHSBREMEN
SUMMARY:Englisch Mittelstufe 2 – für Ältere (A2) (261M46-621) 
LOCATION:vhs im Bamberger, Raum 304, Faulenstraße 69, 28195 Bremen
END:VEVENT
BEGIN:VEVENT
DTSTAMP:20260420T025921
DTSTART;TZID=Europe/Berlin:20260612T143000
DTEND;TZID=Europe/Berlin:20260612T160000
UID:261M46-621-20260612T143000@VHSBREMEN
SUMMARY:Englisch Mittelstufe 2 – für Ältere (A2) (261M46-621) 
LOCATION:vhs im Bamberger, Raum 304, Faulenstraße 69, 28195 Bremen
END:VEVENT
END:VCALENDAR