BEGIN:VCALENDAR
VERSION:2.0
PRODID:https://www.kufer.de/kuferweb / DE
METHOD:PUBLISH
CALSCALE:GREGORIAN
X-WR-TIMEZONE:Europe/Berlin
BEGIN:VTIMEZONE
TZID:Europe/Berlin
X-LIC-LOCATION:Europe/Berlin
BEGIN:DAYLIGHT
TZOFFSETFROM:+0100
TZOFFSETTO:+0200
TZNAME:CEST
DTSTART:19700329T020000
RRULE:FREQ=YEARLY;INTERVAL=1;BYDAY=-1SU;BYMONTH=3
END:DAYLIGHT
BEGIN:STANDARD
TZOFFSETFROM:+0200
TZOFFSETTO:+0100
TZNAME:CET
DTSTART:19701025T030000
RRULE:FREQ=YEARLY;INTERVAL=1;BYDAY=-1SU;BYMONTH=10
END:STANDARD
END:VTIMEZONE
BEGIN:VEVENT
DTSTAMP:20260419T191132
DTSTART;TZID=Europe/Berlin:20260211T113000
DTEND;TZID=Europe/Berlin:20260211T130000
UID:261M44-611-20260211T113000@VHSBREMEN
SUMMARY:Englisch - Lektüre und Konversation (B1) (261M44-611) 
LOCATION:Haus im Viertel, Altes Fundamt, VHS-Raum 4, Auf der Kuhlen 1A, 28203 Bremen
END:VEVENT
BEGIN:VEVENT
DTSTAMP:20260419T191132
DTSTART;TZID=Europe/Berlin:20260218T113000
DTEND;TZID=Europe/Berlin:20260218T130000
UID:261M44-611-20260218T113000@VHSBREMEN
SUMMARY:Englisch - Lektüre und Konversation (B1) (261M44-611) 
LOCATION:Haus im Viertel, Altes Fundamt, VHS-Raum 4, Auf der Kuhlen 1A, 28203 Bremen
END:VEVENT
BEGIN:VEVENT
DTSTAMP:20260419T191132
DTSTART;TZID=Europe/Berlin:20260225T113000
DTEND;TZID=Europe/Berlin:20260225T130000
UID:261M44-611-20260225T113000@VHSBREMEN
SUMMARY:Englisch - Lektüre und Konversation (B1) (261M44-611) 
LOCATION:Haus im Viertel, Altes Fundamt, VHS-Raum 4, Auf der Kuhlen 1A, 28203 Bremen
END:VEVENT
BEGIN:VEVENT
DTSTAMP:20260419T191132
DTSTART;TZID=Europe/Berlin:20260304T113000
DTEND;TZID=Europe/Berlin:20260304T130000
UID:261M44-611-20260304T113000@VHSBREMEN
SUMMARY:Englisch - Lektüre und Konversation (B1) (261M44-611) 
LOCATION:Haus im Viertel, Altes Fundamt, VHS-Raum 4, Auf der Kuhlen 1A, 28203 Bremen
END:VEVENT
BEGIN:VEVENT
DTSTAMP:20260419T191132
DTSTART;TZID=Europe/Berlin:20260311T113000
DTEND;TZID=Europe/Berlin:20260311T130000
UID:261M44-611-20260311T113000@VHSBREMEN
SUMMARY:Englisch - Lektüre und Konversation (B1) (261M44-611) 
LOCATION:Haus im Viertel, Altes Fundamt, VHS-Raum 4, Auf der Kuhlen 1A, 28203 Bremen
END:VEVENT
BEGIN:VEVENT
DTSTAMP:20260419T191132
DTSTART;TZID=Europe/Berlin:20260318T113000
DTEND;TZID=Europe/Berlin:20260318T130000
UID:261M44-611-20260318T113000@VHSBREMEN
SUMMARY:Englisch - Lektüre und Konversation (B1) (261M44-611) 
LOCATION:Haus im Viertel, Altes Fundamt, VHS-Raum 4, Auf der Kuhlen 1A, 28203 Bremen
END:VEVENT
BEGIN:VEVENT
DTSTAMP:20260419T191132
DTSTART;TZID=Europe/Berlin:20260408T113000
DTEND;TZID=Europe/Berlin:20260408T130000
UID:261M44-611-20260408T113000@VHSBREMEN
SUMMARY:Englisch - Lektüre und Konversation (B1) (261M44-611) 
LOCATION:Haus im Viertel, Altes Fundamt, VHS-Raum 4, Auf der Kuhlen 1A, 28203 Bremen
END:VEVENT
BEGIN:VEVENT
DTSTAMP:20260419T191132
DTSTART;TZID=Europe/Berlin:20260415T113000
DTEND;TZID=Europe/Berlin:20260415T130000
UID:261M44-611-20260415T113000@VHSBREMEN
SUMMARY:Englisch - Lektüre und Konversation (B1) (261M44-611) 
LOCATION:Haus im Viertel, Altes Fundamt, VHS-Raum 4, Auf der Kuhlen 1A, 28203 Bremen
END:VEVENT
BEGIN:VEVENT
DTSTAMP:20260419T191132
DTSTART;TZID=Europe/Berlin:20260422T113000
DTEND;TZID=Europe/Berlin:20260422T130000
UID:261M44-611-20260422T113000@VHSBREMEN
SUMMARY:Englisch - Lektüre und Konversation (B1) (261M44-611) 
LOCATION:Haus im Viertel, Altes Fundamt, VHS-Raum 4, Auf der Kuhlen 1A, 28203 Bremen
END:VEVENT
BEGIN:VEVENT
DTSTAMP:20260419T191132
DTSTART;TZID=Europe/Berlin:20260429T113000
DTEND;TZID=Europe/Berlin:20260429T130000
UID:261M44-611-20260429T113000@VHSBREMEN
SUMMARY:Englisch - Lektüre und Konversation (B1) (261M44-611) 
LOCATION:Haus im Viertel, Altes Fundamt, VHS-Raum 4, Auf der Kuhlen 1A, 28203 Bremen
END:VEVENT
BEGIN:VEVENT
DTSTAMP:20260419T191132
DTSTART;TZID=Europe/Berlin:20260506T113000
DTEND;TZID=Europe/Berlin:20260506T130000
UID:261M44-611-20260506T113000@VHSBREMEN
SUMMARY:Englisch - Lektüre und Konversation (B1) (261M44-611) 
LOCATION:Haus im Viertel, Altes Fundamt, VHS-Raum 4, Auf der Kuhlen 1A, 28203 Bremen
END:VEVENT
BEGIN:VEVENT
DTSTAMP:20260419T191132
DTSTART;TZID=Europe/Berlin:20260513T113000
DTEND;TZID=Europe/Berlin:20260513T130000
UID:261M44-611-20260513T113000@VHSBREMEN
SUMMARY:Englisch - Lektüre und Konversation (B1) (261M44-611) 
LOCATION:Haus im Viertel, Altes Fundamt, VHS-Raum 4, Auf der Kuhlen 1A, 28203 Bremen
END:VEVENT
END:VCALENDAR