BEGIN:VCALENDAR
VERSION:2.0
PRODID:https://www.kufer.de/kuferweb / DE
METHOD:PUBLISH
CALSCALE:GREGORIAN
X-WR-TIMEZONE:Europe/Berlin
BEGIN:VTIMEZONE
TZID:Europe/Berlin
X-LIC-LOCATION:Europe/Berlin
BEGIN:DAYLIGHT
TZOFFSETFROM:+0100
TZOFFSETTO:+0200
TZNAME:CEST
DTSTART:19700329T020000
RRULE:FREQ=YEARLY;INTERVAL=1;BYDAY=-1SU;BYMONTH=3
END:DAYLIGHT
BEGIN:STANDARD
TZOFFSETFROM:+0200
TZOFFSETTO:+0100
TZNAME:CET
DTSTART:19701025T030000
RRULE:FREQ=YEARLY;INTERVAL=1;BYDAY=-1SU;BYMONTH=10
END:STANDARD
END:VTIMEZONE
BEGIN:VEVENT
DTSTAMP:20260420T233021
DTSTART;TZID=Europe/Berlin:20260212T090000
DTEND;TZID=Europe/Berlin:20260212T103000
UID:261M44-561-20260212T090000@VHSBREMEN
SUMMARY:Englisch für Fortgeschrittene am Vormittag (B2) (261M44-561) 
LOCATION:vhs im Bamberger, Raum 106, Faulenstraße 69, 28195 Bremen
END:VEVENT
BEGIN:VEVENT
DTSTAMP:20260420T233021
DTSTART;TZID=Europe/Berlin:20260219T090000
DTEND;TZID=Europe/Berlin:20260219T103000
UID:261M44-561-20260219T090000@VHSBREMEN
SUMMARY:Englisch für Fortgeschrittene am Vormittag (B2) (261M44-561) 
LOCATION:vhs im Bamberger, Raum 106, Faulenstraße 69, 28195 Bremen
END:VEVENT
BEGIN:VEVENT
DTSTAMP:20260420T233021
DTSTART;TZID=Europe/Berlin:20260226T090000
DTEND;TZID=Europe/Berlin:20260226T103000
UID:261M44-561-20260226T090000@VHSBREMEN
SUMMARY:Englisch für Fortgeschrittene am Vormittag (B2) (261M44-561) 
LOCATION:vhs im Bamberger, Raum 106, Faulenstraße 69, 28195 Bremen
END:VEVENT
BEGIN:VEVENT
DTSTAMP:20260420T233021
DTSTART;TZID=Europe/Berlin:20260305T090000
DTEND;TZID=Europe/Berlin:20260305T103000
UID:261M44-561-20260305T090000@VHSBREMEN
SUMMARY:Englisch für Fortgeschrittene am Vormittag (B2) (261M44-561) 
LOCATION:vhs im Bamberger, Raum 106, Faulenstraße 69, 28195 Bremen
END:VEVENT
BEGIN:VEVENT
DTSTAMP:20260420T233021
DTSTART;TZID=Europe/Berlin:20260312T090000
DTEND;TZID=Europe/Berlin:20260312T103000
UID:261M44-561-20260312T090000@VHSBREMEN
SUMMARY:Englisch für Fortgeschrittene am Vormittag (B2) (261M44-561) 
LOCATION:vhs im Bamberger, Raum 106, Faulenstraße 69, 28195 Bremen
END:VEVENT
BEGIN:VEVENT
DTSTAMP:20260420T233021
DTSTART;TZID=Europe/Berlin:20260319T090000
DTEND;TZID=Europe/Berlin:20260319T103000
UID:261M44-561-20260319T090000@VHSBREMEN
SUMMARY:Englisch für Fortgeschrittene am Vormittag (B2) (261M44-561) 
LOCATION:vhs im Bamberger, Raum 106, Faulenstraße 69, 28195 Bremen
END:VEVENT
BEGIN:VEVENT
DTSTAMP:20260420T233021
DTSTART;TZID=Europe/Berlin:20260409T090000
DTEND;TZID=Europe/Berlin:20260409T103000
UID:261M44-561-20260409T090000@VHSBREMEN
SUMMARY:Englisch für Fortgeschrittene am Vormittag (B2) (261M44-561) 
LOCATION:vhs im Bamberger, Raum 106, Faulenstraße 69, 28195 Bremen
END:VEVENT
BEGIN:VEVENT
DTSTAMP:20260420T233021
DTSTART;TZID=Europe/Berlin:20260416T090000
DTEND;TZID=Europe/Berlin:20260416T103000
UID:261M44-561-20260416T090000@VHSBREMEN
SUMMARY:Englisch für Fortgeschrittene am Vormittag (B2) (261M44-561) 
LOCATION:vhs im Bamberger, Raum 106, Faulenstraße 69, 28195 Bremen
END:VEVENT
BEGIN:VEVENT
DTSTAMP:20260420T233021
DTSTART;TZID=Europe/Berlin:20260423T090000
DTEND;TZID=Europe/Berlin:20260423T103000
UID:261M44-561-20260423T090000@VHSBREMEN
SUMMARY:Englisch für Fortgeschrittene am Vormittag (B2) (261M44-561) 
LOCATION:vhs im Bamberger, Raum 106, Faulenstraße 69, 28195 Bremen
END:VEVENT
BEGIN:VEVENT
DTSTAMP:20260420T233021
DTSTART;TZID=Europe/Berlin:20260430T090000
DTEND;TZID=Europe/Berlin:20260430T103000
UID:261M44-561-20260430T090000@VHSBREMEN
SUMMARY:Englisch für Fortgeschrittene am Vormittag (B2) (261M44-561) 
LOCATION:vhs im Bamberger, Raum 106, Faulenstraße 69, 28195 Bremen
END:VEVENT
BEGIN:VEVENT
DTSTAMP:20260420T233021
DTSTART;TZID=Europe/Berlin:20260507T090000
DTEND;TZID=Europe/Berlin:20260507T103000
UID:261M44-561-20260507T090000@VHSBREMEN
SUMMARY:Englisch für Fortgeschrittene am Vormittag (B2) (261M44-561) 
LOCATION:vhs im Bamberger, Raum 106, Faulenstraße 69, 28195 Bremen
END:VEVENT
BEGIN:VEVENT
DTSTAMP:20260420T233021
DTSTART;TZID=Europe/Berlin:20260521T090000
DTEND;TZID=Europe/Berlin:20260521T103000
UID:261M44-561-20260521T090000@VHSBREMEN
SUMMARY:Englisch für Fortgeschrittene am Vormittag (B2) (261M44-561) 
LOCATION:vhs im Bamberger, Raum 106, Faulenstraße 69, 28195 Bremen
END:VEVENT
BEGIN:VEVENT
DTSTAMP:20260420T233021
DTSTART;TZID=Europe/Berlin:20260528T090000
DTEND;TZID=Europe/Berlin:20260528T103000
UID:261M44-561-20260528T090000@VHSBREMEN
SUMMARY:Englisch für Fortgeschrittene am Vormittag (B2) (261M44-561) 
LOCATION:vhs im Bamberger, Raum 106, Faulenstraße 69, 28195 Bremen
END:VEVENT
BEGIN:VEVENT
DTSTAMP:20260420T233021
DTSTART;TZID=Europe/Berlin:20260604T090000
DTEND;TZID=Europe/Berlin:20260604T103000
UID:261M44-561-20260604T090000@VHSBREMEN
SUMMARY:Englisch für Fortgeschrittene am Vormittag (B2) (261M44-561) 
LOCATION:vhs im Bamberger, Raum 106, Faulenstraße 69, 28195 Bremen
END:VEVENT
END:VCALENDAR