BEGIN:VCALENDAR
VERSION:2.0
PRODID:https://www.kufer.de/kuferweb / DE
METHOD:PUBLISH
CALSCALE:GREGORIAN
X-WR-TIMEZONE:Europe/Berlin
BEGIN:VTIMEZONE
TZID:Europe/Berlin
X-LIC-LOCATION:Europe/Berlin
BEGIN:DAYLIGHT
TZOFFSETFROM:+0100
TZOFFSETTO:+0200
TZNAME:CEST
DTSTART:19700329T020000
RRULE:FREQ=YEARLY;INTERVAL=1;BYDAY=-1SU;BYMONTH=3
END:DAYLIGHT
BEGIN:STANDARD
TZOFFSETFROM:+0200
TZOFFSETTO:+0100
TZNAME:CET
DTSTART:19701025T030000
RRULE:FREQ=YEARLY;INTERVAL=1;BYDAY=-1SU;BYMONTH=10
END:STANDARD
END:VTIMEZONE
BEGIN:VEVENT
DTSTAMP:20260426T043133
DTSTART;TZID=Europe/Berlin:20260519T180000
DTEND;TZID=Europe/Berlin:20260519T201500
UID:261M37-773-20260519T180000@VHSBREMEN
SUMMARY:Deutsch Teilzeit 6 - B1.2 (261M37-773) 
LOCATION:vhs - Sprachenzentrum, Raum 3.4, Faulenstraße 67, 28195 Bremen
END:VEVENT
BEGIN:VEVENT
DTSTAMP:20260426T043133
DTSTART;TZID=Europe/Berlin:20260520T180000
DTEND;TZID=Europe/Berlin:20260520T201500
UID:261M37-773-20260520T180000@VHSBREMEN
SUMMARY:Deutsch Teilzeit 6 - B1.2 (261M37-773) 
LOCATION:vhs - Sprachenzentrum, Raum 3.4, Faulenstraße 67, 28195 Bremen
END:VEVENT
BEGIN:VEVENT
DTSTAMP:20260426T043133
DTSTART;TZID=Europe/Berlin:20260527T180000
DTEND;TZID=Europe/Berlin:20260527T201500
UID:261M37-773-20260527T180000@VHSBREMEN
SUMMARY:Deutsch Teilzeit 6 - B1.2 (261M37-773) 
LOCATION:vhs - Sprachenzentrum, Raum 3.4, Faulenstraße 67, 28195 Bremen
END:VEVENT
BEGIN:VEVENT
DTSTAMP:20260426T043133
DTSTART;TZID=Europe/Berlin:20260602T180000
DTEND;TZID=Europe/Berlin:20260602T201500
UID:261M37-773-20260602T180000@VHSBREMEN
SUMMARY:Deutsch Teilzeit 6 - B1.2 (261M37-773) 
LOCATION:vhs - Sprachenzentrum, Raum 3.4, Faulenstraße 67, 28195 Bremen
END:VEVENT
BEGIN:VEVENT
DTSTAMP:20260426T043133
DTSTART;TZID=Europe/Berlin:20260603T180000
DTEND;TZID=Europe/Berlin:20260603T201500
UID:261M37-773-20260603T180000@VHSBREMEN
SUMMARY:Deutsch Teilzeit 6 - B1.2 (261M37-773) 
LOCATION:vhs - Sprachenzentrum, Raum 3.4, Faulenstraße 67, 28195 Bremen
END:VEVENT
BEGIN:VEVENT
DTSTAMP:20260426T043133
DTSTART;TZID=Europe/Berlin:20260609T180000
DTEND;TZID=Europe/Berlin:20260609T201500
UID:261M37-773-20260609T180000@VHSBREMEN
SUMMARY:Deutsch Teilzeit 6 - B1.2 (261M37-773) 
LOCATION:vhs - Sprachenzentrum, Raum 3.4, Faulenstraße 67, 28195 Bremen
END:VEVENT
BEGIN:VEVENT
DTSTAMP:20260426T043133
DTSTART;TZID=Europe/Berlin:20260610T180000
DTEND;TZID=Europe/Berlin:20260610T201500
UID:261M37-773-20260610T180000@VHSBREMEN
SUMMARY:Deutsch Teilzeit 6 - B1.2 (261M37-773) 
LOCATION:vhs - Sprachenzentrum, Raum 3.4, Faulenstraße 67, 28195 Bremen
END:VEVENT
BEGIN:VEVENT
DTSTAMP:20260426T043133
DTSTART;TZID=Europe/Berlin:20260616T180000
DTEND;TZID=Europe/Berlin:20260616T201500
UID:261M37-773-20260616T180000@VHSBREMEN
SUMMARY:Deutsch Teilzeit 6 - B1.2 (261M37-773) 
LOCATION:vhs - Sprachenzentrum, Raum 3.4, Faulenstraße 67, 28195 Bremen
END:VEVENT
BEGIN:VEVENT
DTSTAMP:20260426T043133
DTSTART;TZID=Europe/Berlin:20260617T180000
DTEND;TZID=Europe/Berlin:20260617T201500
UID:261M37-773-20260617T180000@VHSBREMEN
SUMMARY:Deutsch Teilzeit 6 - B1.2 (261M37-773) 
LOCATION:vhs - Sprachenzentrum, Raum 3.4, Faulenstraße 67, 28195 Bremen
END:VEVENT
BEGIN:VEVENT
DTSTAMP:20260426T043133
DTSTART;TZID=Europe/Berlin:20260623T180000
DTEND;TZID=Europe/Berlin:20260623T201500
UID:261M37-773-20260623T180000@VHSBREMEN
SUMMARY:Deutsch Teilzeit 6 - B1.2 (261M37-773) 
LOCATION:vhs - Sprachenzentrum, Raum 3.4, Faulenstraße 67, 28195 Bremen
END:VEVENT
BEGIN:VEVENT
DTSTAMP:20260426T043133
DTSTART;TZID=Europe/Berlin:20260624T180000
DTEND;TZID=Europe/Berlin:20260624T201500
UID:261M37-773-20260624T180000@VHSBREMEN
SUMMARY:Deutsch Teilzeit 6 - B1.2 (261M37-773) 
LOCATION:vhs - Sprachenzentrum, Raum 3.4, Faulenstraße 67, 28195 Bremen
END:VEVENT
BEGIN:VEVENT
DTSTAMP:20260426T043133
DTSTART;TZID=Europe/Berlin:20260630T180000
DTEND;TZID=Europe/Berlin:20260630T201500
UID:261M37-773-20260630T180000@VHSBREMEN
SUMMARY:Deutsch Teilzeit 6 - B1.2 (261M37-773) 
LOCATION:vhs - Sprachenzentrum, Raum 3.4, Faulenstraße 67, 28195 Bremen
END:VEVENT
BEGIN:VEVENT
DTSTAMP:20260426T043133
DTSTART;TZID=Europe/Berlin:20260701T180000
DTEND;TZID=Europe/Berlin:20260701T201500
UID:261M37-773-20260701T180000@VHSBREMEN
SUMMARY:Deutsch Teilzeit 6 - B1.2 (261M37-773) 
LOCATION:vhs - Sprachenzentrum, Raum 3.4, Faulenstraße 67, 28195 Bremen
END:VEVENT
BEGIN:VEVENT
DTSTAMP:20260426T043133
DTSTART;TZID=Europe/Berlin:20260818T180000
DTEND;TZID=Europe/Berlin:20260818T201500
UID:261M37-773-20260818T180000@VHSBREMEN
SUMMARY:Deutsch Teilzeit 6 - B1.2 (261M37-773) 
LOCATION:vhs - Sprachenzentrum, Raum 3.4, Faulenstraße 67, 28195 Bremen
END:VEVENT
BEGIN:VEVENT
DTSTAMP:20260426T043133
DTSTART;TZID=Europe/Berlin:20260819T180000
DTEND;TZID=Europe/Berlin:20260819T201500
UID:261M37-773-20260819T180000@VHSBREMEN
SUMMARY:Deutsch Teilzeit 6 - B1.2 (261M37-773) 
LOCATION:vhs - Sprachenzentrum, Raum 3.4, Faulenstraße 67, 28195 Bremen
END:VEVENT
BEGIN:VEVENT
DTSTAMP:20260426T043133
DTSTART;TZID=Europe/Berlin:20260825T180000
DTEND;TZID=Europe/Berlin:20260825T201500
UID:261M37-773-20260825T180000@VHSBREMEN
SUMMARY:Deutsch Teilzeit 6 - B1.2 (261M37-773) 
LOCATION:vhs - Sprachenzentrum, Raum 3.4, Faulenstraße 67, 28195 Bremen
END:VEVENT
BEGIN:VEVENT
DTSTAMP:20260426T043133
DTSTART;TZID=Europe/Berlin:20260826T180000
DTEND;TZID=Europe/Berlin:20260826T201500
UID:261M37-773-20260826T180000@VHSBREMEN
SUMMARY:Deutsch Teilzeit 6 - B1.2 (261M37-773) 
LOCATION:vhs - Sprachenzentrum, Raum 3.4, Faulenstraße 67, 28195 Bremen
END:VEVENT
BEGIN:VEVENT
DTSTAMP:20260426T043133
DTSTART;TZID=Europe/Berlin:20260901T180000
DTEND;TZID=Europe/Berlin:20260901T201500
UID:261M37-773-20260901T180000@VHSBREMEN
SUMMARY:Deutsch Teilzeit 6 - B1.2 (261M37-773) 
LOCATION:vhs - Sprachenzentrum, Raum 3.4, Faulenstraße 67, 28195 Bremen
END:VEVENT
BEGIN:VEVENT
DTSTAMP:20260426T043133
DTSTART;TZID=Europe/Berlin:20260902T180000
DTEND;TZID=Europe/Berlin:20260902T201500
UID:261M37-773-20260902T180000@VHSBREMEN
SUMMARY:Deutsch Teilzeit 6 - B1.2 (261M37-773) 
LOCATION:vhs - Sprachenzentrum, Raum 3.4, Faulenstraße 67, 28195 Bremen
END:VEVENT
BEGIN:VEVENT
DTSTAMP:20260426T043133
DTSTART;TZID=Europe/Berlin:20260908T180000
DTEND;TZID=Europe/Berlin:20260908T201500
UID:261M37-773-20260908T180000@VHSBREMEN
SUMMARY:Deutsch Teilzeit 6 - B1.2 (261M37-773) 
LOCATION:vhs - Sprachenzentrum, Raum 3.4, Faulenstraße 67, 28195 Bremen
END:VEVENT
BEGIN:VEVENT
DTSTAMP:20260426T043133
DTSTART;TZID=Europe/Berlin:20260909T180000
DTEND;TZID=Europe/Berlin:20260909T201500
UID:261M37-773-20260909T180000@VHSBREMEN
SUMMARY:Deutsch Teilzeit 6 - B1.2 (261M37-773) 
LOCATION:vhs - Sprachenzentrum, Raum 3.4, Faulenstraße 67, 28195 Bremen
END:VEVENT
BEGIN:VEVENT
DTSTAMP:20260426T043133
DTSTART;TZID=Europe/Berlin:20260915T180000
DTEND;TZID=Europe/Berlin:20260915T201500
UID:261M37-773-20260915T180000@VHSBREMEN
SUMMARY:Deutsch Teilzeit 6 - B1.2 (261M37-773) 
LOCATION:vhs - Sprachenzentrum, Raum 3.4, Faulenstraße 67, 28195 Bremen
END:VEVENT
BEGIN:VEVENT
DTSTAMP:20260426T043133
DTSTART;TZID=Europe/Berlin:20260916T180000
DTEND;TZID=Europe/Berlin:20260916T201500
UID:261M37-773-20260916T180000@VHSBREMEN
SUMMARY:Deutsch Teilzeit 6 - B1.2 (261M37-773) 
LOCATION:vhs - Sprachenzentrum, Raum 3.4, Faulenstraße 67, 28195 Bremen
END:VEVENT
BEGIN:VEVENT
DTSTAMP:20260426T043133
DTSTART;TZID=Europe/Berlin:20260922T180000
DTEND;TZID=Europe/Berlin:20260922T201500
UID:261M37-773-20260922T180000@VHSBREMEN
SUMMARY:Deutsch Teilzeit 6 - B1.2 (261M37-773) 
LOCATION:vhs - Sprachenzentrum, Raum 3.4, Faulenstraße 67, 28195 Bremen
END:VEVENT
BEGIN:VEVENT
DTSTAMP:20260426T043133
DTSTART;TZID=Europe/Berlin:20260923T180000
DTEND;TZID=Europe/Berlin:20260923T201500
UID:261M37-773-20260923T180000@VHSBREMEN
SUMMARY:Deutsch Teilzeit 6 - B1.2 (261M37-773) 
LOCATION:vhs - Sprachenzentrum, Raum 3.4, Faulenstraße 67, 28195 Bremen
END:VEVENT
BEGIN:VEVENT
DTSTAMP:20260426T043133
DTSTART;TZID=Europe/Berlin:20260929T180000
DTEND;TZID=Europe/Berlin:20260929T201500
UID:261M37-773-20260929T180000@VHSBREMEN
SUMMARY:Deutsch Teilzeit 6 - B1.2 (261M37-773) 
LOCATION:vhs - Sprachenzentrum, Raum 3.4, Faulenstraße 67, 28195 Bremen
END:VEVENT
BEGIN:VEVENT
DTSTAMP:20260426T043133
DTSTART;TZID=Europe/Berlin:20260930T180000
DTEND;TZID=Europe/Berlin:20260930T201500
UID:261M37-773-20260930T180000@VHSBREMEN
SUMMARY:Deutsch Teilzeit 6 - B1.2 (261M37-773) 
LOCATION:vhs - Sprachenzentrum, Raum 3.4, Faulenstraße 67, 28195 Bremen
END:VEVENT
END:VCALENDAR