BEGIN:VCALENDAR
VERSION:2.0
PRODID:https://www.kufer.de/kuferweb / DE
METHOD:PUBLISH
CALSCALE:GREGORIAN
X-WR-TIMEZONE:Europe/Berlin
BEGIN:VTIMEZONE
TZID:Europe/Berlin
X-LIC-LOCATION:Europe/Berlin
BEGIN:DAYLIGHT
TZOFFSETFROM:+0100
TZOFFSETTO:+0200
TZNAME:CEST
DTSTART:19700329T020000
RRULE:FREQ=YEARLY;INTERVAL=1;BYDAY=-1SU;BYMONTH=3
END:DAYLIGHT
BEGIN:STANDARD
TZOFFSETFROM:+0200
TZOFFSETTO:+0100
TZNAME:CET
DTSTART:19701025T030000
RRULE:FREQ=YEARLY;INTERVAL=1;BYDAY=-1SU;BYMONTH=10
END:STANDARD
END:VTIMEZONE
BEGIN:VEVENT
DTSTAMP:20260423T152754
DTSTART;TZID=Europe/Berlin:20260512T133000
DTEND;TZID=Europe/Berlin:20260512T173000
UID:261M37-745-20260512T133000@VHSBREMEN
SUMMARY:Deutsch Intensiv - B2 (261M37-745) 
LOCATION:vhs - Sprachenzentrum, Raum 4.1, Faulenstr. 67, 28195 Bremen
END:VEVENT
BEGIN:VEVENT
DTSTAMP:20260423T152754
DTSTART;TZID=Europe/Berlin:20260513T133000
DTEND;TZID=Europe/Berlin:20260513T173000
UID:261M37-745-20260513T133000@VHSBREMEN
SUMMARY:Deutsch Intensiv - B2 (261M37-745) 
LOCATION:vhs - Sprachenzentrum, Raum 4.1, Faulenstr. 67, 28195 Bremen
END:VEVENT
BEGIN:VEVENT
DTSTAMP:20260423T152754
DTSTART;TZID=Europe/Berlin:20260514T133000
DTEND;TZID=Europe/Berlin:20260514T173000
UID:261M37-745-20260514T133000@VHSBREMEN
SUMMARY:Deutsch Intensiv - B2 (261M37-745) 
LOCATION:vhs - Sprachenzentrum, Raum 4.1, Faulenstr. 67, 28195 Bremen
END:VEVENT
BEGIN:VEVENT
DTSTAMP:20260423T152754
DTSTART;TZID=Europe/Berlin:20260518T133000
DTEND;TZID=Europe/Berlin:20260518T173000
UID:261M37-745-20260518T133000@VHSBREMEN
SUMMARY:Deutsch Intensiv - B2 (261M37-745) 
LOCATION:vhs - Sprachenzentrum, Raum 4.1, Faulenstr. 67, 28195 Bremen
END:VEVENT
BEGIN:VEVENT
DTSTAMP:20260423T152754
DTSTART;TZID=Europe/Berlin:20260519T133000
DTEND;TZID=Europe/Berlin:20260519T173000
UID:261M37-745-20260519T133000@VHSBREMEN
SUMMARY:Deutsch Intensiv - B2 (261M37-745) 
LOCATION:vhs - Sprachenzentrum, Raum 4.1, Faulenstr. 67, 28195 Bremen
END:VEVENT
BEGIN:VEVENT
DTSTAMP:20260423T152754
DTSTART;TZID=Europe/Berlin:20260520T133000
DTEND;TZID=Europe/Berlin:20260520T173000
UID:261M37-745-20260520T133000@VHSBREMEN
SUMMARY:Deutsch Intensiv - B2 (261M37-745) 
LOCATION:vhs - Sprachenzentrum, Raum 4.1, Faulenstr. 67, 28195 Bremen
END:VEVENT
BEGIN:VEVENT
DTSTAMP:20260423T152754
DTSTART;TZID=Europe/Berlin:20260521T133000
DTEND;TZID=Europe/Berlin:20260521T173000
UID:261M37-745-20260521T133000@VHSBREMEN
SUMMARY:Deutsch Intensiv - B2 (261M37-745) 
LOCATION:vhs - Sprachenzentrum, Raum 4.1, Faulenstr. 67, 28195 Bremen
END:VEVENT
BEGIN:VEVENT
DTSTAMP:20260423T152754
DTSTART;TZID=Europe/Berlin:20260525T133000
DTEND;TZID=Europe/Berlin:20260525T173000
UID:261M37-745-20260525T133000@VHSBREMEN
SUMMARY:Deutsch Intensiv - B2 (261M37-745) 
LOCATION:vhs - Sprachenzentrum, Raum 4.1, Faulenstr. 67, 28195 Bremen
END:VEVENT
BEGIN:VEVENT
DTSTAMP:20260423T152754
DTSTART;TZID=Europe/Berlin:20260526T133000
DTEND;TZID=Europe/Berlin:20260526T173000
UID:261M37-745-20260526T133000@VHSBREMEN
SUMMARY:Deutsch Intensiv - B2 (261M37-745) 
LOCATION:vhs - Sprachenzentrum, Raum 4.1, Faulenstr. 67, 28195 Bremen
END:VEVENT
BEGIN:VEVENT
DTSTAMP:20260423T152754
DTSTART;TZID=Europe/Berlin:20260527T133000
DTEND;TZID=Europe/Berlin:20260527T173000
UID:261M37-745-20260527T133000@VHSBREMEN
SUMMARY:Deutsch Intensiv - B2 (261M37-745) 
LOCATION:vhs - Sprachenzentrum, Raum 4.1, Faulenstr. 67, 28195 Bremen
END:VEVENT
BEGIN:VEVENT
DTSTAMP:20260423T152754
DTSTART;TZID=Europe/Berlin:20260528T133000
DTEND;TZID=Europe/Berlin:20260528T173000
UID:261M37-745-20260528T133000@VHSBREMEN
SUMMARY:Deutsch Intensiv - B2 (261M37-745) 
LOCATION:vhs - Sprachenzentrum, Raum 4.1, Faulenstr. 67, 28195 Bremen
END:VEVENT
BEGIN:VEVENT
DTSTAMP:20260423T152754
DTSTART;TZID=Europe/Berlin:20260601T133000
DTEND;TZID=Europe/Berlin:20260601T173000
UID:261M37-745-20260601T133000@VHSBREMEN
SUMMARY:Deutsch Intensiv - B2 (261M37-745) 
LOCATION:vhs - Sprachenzentrum, Raum 4.1, Faulenstr. 67, 28195 Bremen
END:VEVENT
BEGIN:VEVENT
DTSTAMP:20260423T152754
DTSTART;TZID=Europe/Berlin:20260602T133000
DTEND;TZID=Europe/Berlin:20260602T173000
UID:261M37-745-20260602T133000@VHSBREMEN
SUMMARY:Deutsch Intensiv - B2 (261M37-745) 
LOCATION:vhs - Sprachenzentrum, Raum 4.1, Faulenstr. 67, 28195 Bremen
END:VEVENT
BEGIN:VEVENT
DTSTAMP:20260423T152754
DTSTART;TZID=Europe/Berlin:20260603T133000
DTEND;TZID=Europe/Berlin:20260603T173000
UID:261M37-745-20260603T133000@VHSBREMEN
SUMMARY:Deutsch Intensiv - B2 (261M37-745) 
LOCATION:vhs - Sprachenzentrum, Raum 4.1, Faulenstr. 67, 28195 Bremen
END:VEVENT
BEGIN:VEVENT
DTSTAMP:20260423T152754
DTSTART;TZID=Europe/Berlin:20260604T133000
DTEND;TZID=Europe/Berlin:20260604T173000
UID:261M37-745-20260604T133000@VHSBREMEN
SUMMARY:Deutsch Intensiv - B2 (261M37-745) 
LOCATION:vhs - Sprachenzentrum, Raum 4.1, Faulenstr. 67, 28195 Bremen
END:VEVENT
BEGIN:VEVENT
DTSTAMP:20260423T152754
DTSTART;TZID=Europe/Berlin:20260608T133000
DTEND;TZID=Europe/Berlin:20260608T173000
UID:261M37-745-20260608T133000@VHSBREMEN
SUMMARY:Deutsch Intensiv - B2 (261M37-745) 
LOCATION:vhs - Sprachenzentrum, Raum 4.1, Faulenstr. 67, 28195 Bremen
END:VEVENT
BEGIN:VEVENT
DTSTAMP:20260423T152754
DTSTART;TZID=Europe/Berlin:20260609T133000
DTEND;TZID=Europe/Berlin:20260609T173000
UID:261M37-745-20260609T133000@VHSBREMEN
SUMMARY:Deutsch Intensiv - B2 (261M37-745) 
LOCATION:vhs - Sprachenzentrum, Raum 4.1, Faulenstr. 67, 28195 Bremen
END:VEVENT
BEGIN:VEVENT
DTSTAMP:20260423T152754
DTSTART;TZID=Europe/Berlin:20260610T133000
DTEND;TZID=Europe/Berlin:20260610T173000
UID:261M37-745-20260610T133000@VHSBREMEN
SUMMARY:Deutsch Intensiv - B2 (261M37-745) 
LOCATION:vhs - Sprachenzentrum, Raum 4.1, Faulenstr. 67, 28195 Bremen
END:VEVENT
BEGIN:VEVENT
DTSTAMP:20260423T152754
DTSTART;TZID=Europe/Berlin:20260611T133000
DTEND;TZID=Europe/Berlin:20260611T173000
UID:261M37-745-20260611T133000@VHSBREMEN
SUMMARY:Deutsch Intensiv - B2 (261M37-745) 
LOCATION:vhs - Sprachenzentrum, Raum 4.1, Faulenstr. 67, 28195 Bremen
END:VEVENT
BEGIN:VEVENT
DTSTAMP:20260423T152754
DTSTART;TZID=Europe/Berlin:20260615T133000
DTEND;TZID=Europe/Berlin:20260615T173000
UID:261M37-745-20260615T133000@VHSBREMEN
SUMMARY:Deutsch Intensiv - B2 (261M37-745) 
LOCATION:vhs - Sprachenzentrum, Raum 4.1, Faulenstr. 67, 28195 Bremen
END:VEVENT
BEGIN:VEVENT
DTSTAMP:20260423T152754
DTSTART;TZID=Europe/Berlin:20260616T133000
DTEND;TZID=Europe/Berlin:20260616T173000
UID:261M37-745-20260616T133000@VHSBREMEN
SUMMARY:Deutsch Intensiv - B2 (261M37-745) 
LOCATION:vhs - Sprachenzentrum, Raum 4.1, Faulenstr. 67, 28195 Bremen
END:VEVENT
BEGIN:VEVENT
DTSTAMP:20260423T152754
DTSTART;TZID=Europe/Berlin:20260617T133000
DTEND;TZID=Europe/Berlin:20260617T173000
UID:261M37-745-20260617T133000@VHSBREMEN
SUMMARY:Deutsch Intensiv - B2 (261M37-745) 
LOCATION:vhs - Sprachenzentrum, Raum 4.1, Faulenstr. 67, 28195 Bremen
END:VEVENT
BEGIN:VEVENT
DTSTAMP:20260423T152754
DTSTART;TZID=Europe/Berlin:20260618T133000
DTEND;TZID=Europe/Berlin:20260618T173000
UID:261M37-745-20260618T133000@VHSBREMEN
SUMMARY:Deutsch Intensiv - B2 (261M37-745) 
LOCATION:vhs - Sprachenzentrum, Raum 4.1, Faulenstr. 67, 28195 Bremen
END:VEVENT
BEGIN:VEVENT
DTSTAMP:20260423T152754
DTSTART;TZID=Europe/Berlin:20260622T133000
DTEND;TZID=Europe/Berlin:20260622T173000
UID:261M37-745-20260622T133000@VHSBREMEN
SUMMARY:Deutsch Intensiv - B2 (261M37-745) 
LOCATION:vhs - Sprachenzentrum, Raum 4.1, Faulenstr. 67, 28195 Bremen
END:VEVENT
BEGIN:VEVENT
DTSTAMP:20260423T152754
DTSTART;TZID=Europe/Berlin:20260623T133000
DTEND;TZID=Europe/Berlin:20260623T173000
UID:261M37-745-20260623T133000@VHSBREMEN
SUMMARY:Deutsch Intensiv - B2 (261M37-745) 
LOCATION:vhs - Sprachenzentrum, Raum 4.1, Faulenstr. 67, 28195 Bremen
END:VEVENT
BEGIN:VEVENT
DTSTAMP:20260423T152754
DTSTART;TZID=Europe/Berlin:20260624T133000
DTEND;TZID=Europe/Berlin:20260624T173000
UID:261M37-745-20260624T133000@VHSBREMEN
SUMMARY:Deutsch Intensiv - B2 (261M37-745) 
LOCATION:vhs - Sprachenzentrum, Raum 4.1, Faulenstr. 67, 28195 Bremen
END:VEVENT
BEGIN:VEVENT
DTSTAMP:20260423T152754
DTSTART;TZID=Europe/Berlin:20260625T133000
DTEND;TZID=Europe/Berlin:20260625T173000
UID:261M37-745-20260625T133000@VHSBREMEN
SUMMARY:Deutsch Intensiv - B2 (261M37-745) 
LOCATION:vhs - Sprachenzentrum, Raum 4.1, Faulenstr. 67, 28195 Bremen
END:VEVENT
BEGIN:VEVENT
DTSTAMP:20260423T152754
DTSTART;TZID=Europe/Berlin:20260629T133000
DTEND;TZID=Europe/Berlin:20260629T173000
UID:261M37-745-20260629T133000@VHSBREMEN
SUMMARY:Deutsch Intensiv - B2 (261M37-745) 
LOCATION:vhs - Sprachenzentrum, Raum 4.1, Faulenstr. 67, 28195 Bremen
END:VEVENT
BEGIN:VEVENT
DTSTAMP:20260423T152754
DTSTART;TZID=Europe/Berlin:20260630T133000
DTEND;TZID=Europe/Berlin:20260630T173000
UID:261M37-745-20260630T133000@VHSBREMEN
SUMMARY:Deutsch Intensiv - B2 (261M37-745) 
LOCATION:vhs - Sprachenzentrum, Raum 4.1, Faulenstr. 67, 28195 Bremen
END:VEVENT
BEGIN:VEVENT
DTSTAMP:20260423T152754
DTSTART;TZID=Europe/Berlin:20260701T133000
DTEND;TZID=Europe/Berlin:20260701T173000
UID:261M37-745-20260701T133000@VHSBREMEN
SUMMARY:Deutsch Intensiv - B2 (261M37-745) 
LOCATION:vhs - Sprachenzentrum, Raum 4.1, Faulenstr. 67, 28195 Bremen
END:VEVENT
BEGIN:VEVENT
DTSTAMP:20260423T152754
DTSTART;TZID=Europe/Berlin:20260702T133000
DTEND;TZID=Europe/Berlin:20260702T173000
UID:261M37-745-20260702T133000@VHSBREMEN
SUMMARY:Deutsch Intensiv - B2 (261M37-745) 
LOCATION:vhs - Sprachenzentrum, Raum 4.1, Faulenstr. 67, 28195 Bremen
END:VEVENT
BEGIN:VEVENT
DTSTAMP:20260423T152754
DTSTART;TZID=Europe/Berlin:20260706T133000
DTEND;TZID=Europe/Berlin:20260706T173000
UID:261M37-745-20260706T133000@VHSBREMEN
SUMMARY:Deutsch Intensiv - B2 (261M37-745) 
LOCATION:vhs - Sprachenzentrum, Raum 4.1, Faulenstr. 67, 28195 Bremen
END:VEVENT
BEGIN:VEVENT
DTSTAMP:20260423T152754
DTSTART;TZID=Europe/Berlin:20260707T133000
DTEND;TZID=Europe/Berlin:20260707T173000
UID:261M37-745-20260707T133000@VHSBREMEN
SUMMARY:Deutsch Intensiv - B2 (261M37-745) 
LOCATION:vhs - Sprachenzentrum, Raum 4.1, Faulenstr. 67, 28195 Bremen
END:VEVENT
BEGIN:VEVENT
DTSTAMP:20260423T152754
DTSTART;TZID=Europe/Berlin:20260708T133000
DTEND;TZID=Europe/Berlin:20260708T173000
UID:261M37-745-20260708T133000@VHSBREMEN
SUMMARY:Deutsch Intensiv - B2 (261M37-745) 
LOCATION:vhs - Sprachenzentrum, Raum 4.1, Faulenstr. 67, 28195 Bremen
END:VEVENT
BEGIN:VEVENT
DTSTAMP:20260423T152754
DTSTART;TZID=Europe/Berlin:20260709T133000
DTEND;TZID=Europe/Berlin:20260709T173000
UID:261M37-745-20260709T133000@VHSBREMEN
SUMMARY:Deutsch Intensiv - B2 (261M37-745) 
LOCATION:vhs - Sprachenzentrum, Raum 4.1, Faulenstr. 67, 28195 Bremen
END:VEVENT
BEGIN:VEVENT
DTSTAMP:20260423T152754
DTSTART;TZID=Europe/Berlin:20260713T133000
DTEND;TZID=Europe/Berlin:20260713T173000
UID:261M37-745-20260713T133000@VHSBREMEN
SUMMARY:Deutsch Intensiv - B2 (261M37-745) 
LOCATION:vhs - Sprachenzentrum, Raum 4.1, Faulenstr. 67, 28195 Bremen
END:VEVENT
BEGIN:VEVENT
DTSTAMP:20260423T152754
DTSTART;TZID=Europe/Berlin:20260714T133000
DTEND;TZID=Europe/Berlin:20260714T173000
UID:261M37-745-20260714T133000@VHSBREMEN
SUMMARY:Deutsch Intensiv - B2 (261M37-745) 
LOCATION:vhs - Sprachenzentrum, Raum 4.1, Faulenstr. 67, 28195 Bremen
END:VEVENT
BEGIN:VEVENT
DTSTAMP:20260423T152754
DTSTART;TZID=Europe/Berlin:20260715T133000
DTEND;TZID=Europe/Berlin:20260715T173000
UID:261M37-745-20260715T133000@VHSBREMEN
SUMMARY:Deutsch Intensiv - B2 (261M37-745) 
LOCATION:vhs - Sprachenzentrum, Raum 4.1, Faulenstr. 67, 28195 Bremen
END:VEVENT
BEGIN:VEVENT
DTSTAMP:20260423T152754
DTSTART;TZID=Europe/Berlin:20260716T133000
DTEND;TZID=Europe/Berlin:20260716T173000
UID:261M37-745-20260716T133000@VHSBREMEN
SUMMARY:Deutsch Intensiv - B2 (261M37-745) 
LOCATION:vhs - Sprachenzentrum, Raum 4.1, Faulenstr. 67, 28195 Bremen
END:VEVENT
BEGIN:VEVENT
DTSTAMP:20260423T152754
DTSTART;TZID=Europe/Berlin:20260720T133000
DTEND;TZID=Europe/Berlin:20260720T173000
UID:261M37-745-20260720T133000@VHSBREMEN
SUMMARY:Deutsch Intensiv - B2 (261M37-745) 
LOCATION:vhs - Sprachenzentrum, Raum 4.1, Faulenstr. 67, 28195 Bremen
END:VEVENT
END:VCALENDAR