BEGIN:VCALENDAR
VERSION:2.0
PRODID:https://www.kufer.de/kuferweb / DE
METHOD:PUBLISH
CALSCALE:GREGORIAN
X-WR-TIMEZONE:Europe/Berlin
BEGIN:VTIMEZONE
TZID:Europe/Berlin
X-LIC-LOCATION:Europe/Berlin
BEGIN:DAYLIGHT
TZOFFSETFROM:+0100
TZOFFSETTO:+0200
TZNAME:CEST
DTSTART:19700329T020000
RRULE:FREQ=YEARLY;INTERVAL=1;BYDAY=-1SU;BYMONTH=3
END:DAYLIGHT
BEGIN:STANDARD
TZOFFSETFROM:+0200
TZOFFSETTO:+0100
TZNAME:CET
DTSTART:19701025T030000
RRULE:FREQ=YEARLY;INTERVAL=1;BYDAY=-1SU;BYMONTH=10
END:STANDARD
END:VTIMEZONE
BEGIN:VEVENT
DTSTAMP:20260421T061811
DTSTART;TZID=Europe/Berlin:20260427T083000
DTEND;TZID=Europe/Berlin:20260427T123000
UID:261M37-744-20260427T083000@VHSBREMEN
SUMMARY:Deutsch Intensiv - B2 (261M37-744) 
LOCATION:vhs - Plantage, Zugang vom Innenhof, Raum 1, Eingang 27, Plantage 13, 28215 Bremen
END:VEVENT
BEGIN:VEVENT
DTSTAMP:20260421T061811
DTSTART;TZID=Europe/Berlin:20260428T083000
DTEND;TZID=Europe/Berlin:20260428T123000
UID:261M37-744-20260428T083000@VHSBREMEN
SUMMARY:Deutsch Intensiv - B2 (261M37-744) 
LOCATION:vhs - Plantage, Zugang vom Innenhof, Raum 1, Eingang 27, Plantage 13, 28215 Bremen
END:VEVENT
BEGIN:VEVENT
DTSTAMP:20260421T061811
DTSTART;TZID=Europe/Berlin:20260429T083000
DTEND;TZID=Europe/Berlin:20260429T123000
UID:261M37-744-20260429T083000@VHSBREMEN
SUMMARY:Deutsch Intensiv - B2 (261M37-744) 
LOCATION:vhs - Plantage, Zugang vom Innenhof, Raum 1, Eingang 27, Plantage 13, 28215 Bremen
END:VEVENT
BEGIN:VEVENT
DTSTAMP:20260421T061811
DTSTART;TZID=Europe/Berlin:20260430T083000
DTEND;TZID=Europe/Berlin:20260430T123000
UID:261M37-744-20260430T083000@VHSBREMEN
DESCRIPTION:evtl. auf FR verschieben. Ute bespricht mit der Gruppe
SUMMARY:Deutsch Intensiv - B2 (261M37-744) 
LOCATION:vhs - Plantage, Zugang vom Innenhof, Raum 1, Eingang 27, Plantage 13, 28215 Bremen
END:VEVENT
BEGIN:VEVENT
DTSTAMP:20260421T061811
DTSTART;TZID=Europe/Berlin:20260504T083000
DTEND;TZID=Europe/Berlin:20260504T123000
UID:261M37-744-20260504T083000@VHSBREMEN
SUMMARY:Deutsch Intensiv - B2 (261M37-744) 
LOCATION:vhs - Plantage, Zugang vom Innenhof, Raum 1, Eingang 27, Plantage 13, 28215 Bremen
END:VEVENT
BEGIN:VEVENT
DTSTAMP:20260421T061811
DTSTART;TZID=Europe/Berlin:20260505T083000
DTEND;TZID=Europe/Berlin:20260505T123000
UID:261M37-744-20260505T083000@VHSBREMEN
SUMMARY:Deutsch Intensiv - B2 (261M37-744) 
LOCATION:vhs - Plantage, Zugang vom Innenhof, Raum 1, Eingang 27, Plantage 13, 28215 Bremen
END:VEVENT
BEGIN:VEVENT
DTSTAMP:20260421T061811
DTSTART;TZID=Europe/Berlin:20260506T083000
DTEND;TZID=Europe/Berlin:20260506T123000
UID:261M37-744-20260506T083000@VHSBREMEN
SUMMARY:Deutsch Intensiv - B2 (261M37-744) 
LOCATION:vhs - Plantage, Zugang vom Innenhof, Raum 1, Eingang 27, Plantage 13, 28215 Bremen
END:VEVENT
BEGIN:VEVENT
DTSTAMP:20260421T061811
DTSTART;TZID=Europe/Berlin:20260507T083000
DTEND;TZID=Europe/Berlin:20260507T123000
UID:261M37-744-20260507T083000@VHSBREMEN
DESCRIPTION:evtl. auf FR verschieben. Ute bespricht mit der Gruppe
SUMMARY:Deutsch Intensiv - B2 (261M37-744) 
LOCATION:vhs - Plantage, Zugang vom Innenhof, Raum 1, Eingang 27, Plantage 13, 28215 Bremen
END:VEVENT
BEGIN:VEVENT
DTSTAMP:20260421T061811
DTSTART;TZID=Europe/Berlin:20260511T083000
DTEND;TZID=Europe/Berlin:20260511T123000
UID:261M37-744-20260511T083000@VHSBREMEN
SUMMARY:Deutsch Intensiv - B2 (261M37-744) 
LOCATION:vhs - Plantage, Zugang vom Innenhof, Raum 1, Eingang 27, Plantage 13, 28215 Bremen
END:VEVENT
BEGIN:VEVENT
DTSTAMP:20260421T061811
DTSTART;TZID=Europe/Berlin:20260512T083000
DTEND;TZID=Europe/Berlin:20260512T123000
UID:261M37-744-20260512T083000@VHSBREMEN
SUMMARY:Deutsch Intensiv - B2 (261M37-744) 
LOCATION:vhs - Plantage, Zugang vom Innenhof, Raum 1, Eingang 27, Plantage 13, 28215 Bremen
END:VEVENT
BEGIN:VEVENT
DTSTAMP:20260421T061811
DTSTART;TZID=Europe/Berlin:20260513T083000
DTEND;TZID=Europe/Berlin:20260513T123000
UID:261M37-744-20260513T083000@VHSBREMEN
SUMMARY:Deutsch Intensiv - B2 (261M37-744) 
LOCATION:vhs - Plantage, Zugang vom Innenhof, Raum 1, Eingang 27, Plantage 13, 28215 Bremen
END:VEVENT
BEGIN:VEVENT
DTSTAMP:20260421T061811
DTSTART;TZID=Europe/Berlin:20260518T083000
DTEND;TZID=Europe/Berlin:20260518T123000
UID:261M37-744-20260518T083000@VHSBREMEN
SUMMARY:Deutsch Intensiv - B2 (261M37-744) 
LOCATION:vhs - Plantage, Zugang vom Innenhof, Raum 1, Eingang 27, Plantage 13, 28215 Bremen
END:VEVENT
BEGIN:VEVENT
DTSTAMP:20260421T061811
DTSTART;TZID=Europe/Berlin:20260519T083000
DTEND;TZID=Europe/Berlin:20260519T123000
UID:261M37-744-20260519T083000@VHSBREMEN
SUMMARY:Deutsch Intensiv - B2 (261M37-744) 
LOCATION:vhs - Plantage, Zugang vom Innenhof, Raum 1, Eingang 27, Plantage 13, 28215 Bremen
END:VEVENT
BEGIN:VEVENT
DTSTAMP:20260421T061811
DTSTART;TZID=Europe/Berlin:20260520T083000
DTEND;TZID=Europe/Berlin:20260520T123000
UID:261M37-744-20260520T083000@VHSBREMEN
SUMMARY:Deutsch Intensiv - B2 (261M37-744) 
LOCATION:vhs - Plantage, Zugang vom Innenhof, Raum 1, Eingang 27, Plantage 13, 28215 Bremen
END:VEVENT
BEGIN:VEVENT
DTSTAMP:20260421T061811
DTSTART;TZID=Europe/Berlin:20260521T083000
DTEND;TZID=Europe/Berlin:20260521T123000
UID:261M37-744-20260521T083000@VHSBREMEN
SUMMARY:Deutsch Intensiv - B2 (261M37-744) 
LOCATION:vhs - Plantage, Zugang vom Innenhof, Raum 1, Eingang 27, Plantage 13, 28215 Bremen
END:VEVENT
BEGIN:VEVENT
DTSTAMP:20260421T061811
DTSTART;TZID=Europe/Berlin:20260527T083000
DTEND;TZID=Europe/Berlin:20260527T123000
UID:261M37-744-20260527T083000@VHSBREMEN
SUMMARY:Deutsch Intensiv - B2 (261M37-744) 
LOCATION:vhs - Plantage, Zugang vom Innenhof, Raum 1, Eingang 27, Plantage 13, 28215 Bremen
END:VEVENT
BEGIN:VEVENT
DTSTAMP:20260421T061811
DTSTART;TZID=Europe/Berlin:20260528T083000
DTEND;TZID=Europe/Berlin:20260528T123000
UID:261M37-744-20260528T083000@VHSBREMEN
SUMMARY:Deutsch Intensiv - B2 (261M37-744) 
LOCATION:vhs - Plantage, Zugang vom Innenhof, Raum 1, Eingang 27, Plantage 13, 28215 Bremen
END:VEVENT
BEGIN:VEVENT
DTSTAMP:20260421T061811
DTSTART;TZID=Europe/Berlin:20260601T083000
DTEND;TZID=Europe/Berlin:20260601T123000
UID:261M37-744-20260601T083000@VHSBREMEN
SUMMARY:Deutsch Intensiv - B2 (261M37-744) 
LOCATION:vhs - Plantage, Zugang vom Innenhof, Raum 1, Eingang 27, Plantage 13, 28215 Bremen
END:VEVENT
BEGIN:VEVENT
DTSTAMP:20260421T061811
DTSTART;TZID=Europe/Berlin:20260602T083000
DTEND;TZID=Europe/Berlin:20260602T123000
UID:261M37-744-20260602T083000@VHSBREMEN
SUMMARY:Deutsch Intensiv - B2 (261M37-744) 
LOCATION:vhs - Plantage, Zugang vom Innenhof, Raum 1, Eingang 27, Plantage 13, 28215 Bremen
END:VEVENT
BEGIN:VEVENT
DTSTAMP:20260421T061811
DTSTART;TZID=Europe/Berlin:20260603T083000
DTEND;TZID=Europe/Berlin:20260603T123000
UID:261M37-744-20260603T083000@VHSBREMEN
SUMMARY:Deutsch Intensiv - B2 (261M37-744) 
LOCATION:vhs - Plantage, Zugang vom Innenhof, Raum 1, Eingang 27, Plantage 13, 28215 Bremen
END:VEVENT
BEGIN:VEVENT
DTSTAMP:20260421T061811
DTSTART;TZID=Europe/Berlin:20260604T083000
DTEND;TZID=Europe/Berlin:20260604T123000
UID:261M37-744-20260604T083000@VHSBREMEN
SUMMARY:Deutsch Intensiv - B2 (261M37-744) 
LOCATION:vhs - Plantage, Zugang vom Innenhof, Raum 1, Eingang 27, Plantage 13, 28215 Bremen
END:VEVENT
BEGIN:VEVENT
DTSTAMP:20260421T061811
DTSTART;TZID=Europe/Berlin:20260608T083000
DTEND;TZID=Europe/Berlin:20260608T123000
UID:261M37-744-20260608T083000@VHSBREMEN
SUMMARY:Deutsch Intensiv - B2 (261M37-744) 
LOCATION:vhs - Plantage, Zugang vom Innenhof, Raum 1, Eingang 27, Plantage 13, 28215 Bremen
END:VEVENT
BEGIN:VEVENT
DTSTAMP:20260421T061811
DTSTART;TZID=Europe/Berlin:20260609T083000
DTEND;TZID=Europe/Berlin:20260609T123000
UID:261M37-744-20260609T083000@VHSBREMEN
SUMMARY:Deutsch Intensiv - B2 (261M37-744) 
LOCATION:vhs - Plantage, Zugang vom Innenhof, Raum 1, Eingang 27, Plantage 13, 28215 Bremen
END:VEVENT
BEGIN:VEVENT
DTSTAMP:20260421T061811
DTSTART;TZID=Europe/Berlin:20260610T083000
DTEND;TZID=Europe/Berlin:20260610T123000
UID:261M37-744-20260610T083000@VHSBREMEN
SUMMARY:Deutsch Intensiv - B2 (261M37-744) 
LOCATION:vhs - Plantage, Zugang vom Innenhof, Raum 1, Eingang 27, Plantage 13, 28215 Bremen
END:VEVENT
BEGIN:VEVENT
DTSTAMP:20260421T061811
DTSTART;TZID=Europe/Berlin:20260611T083000
DTEND;TZID=Europe/Berlin:20260611T123000
UID:261M37-744-20260611T083000@VHSBREMEN
SUMMARY:Deutsch Intensiv - B2 (261M37-744) 
LOCATION:vhs - Plantage, Zugang vom Innenhof, Raum 1, Eingang 27, Plantage 13, 28215 Bremen
END:VEVENT
BEGIN:VEVENT
DTSTAMP:20260421T061811
DTSTART;TZID=Europe/Berlin:20260615T083000
DTEND;TZID=Europe/Berlin:20260615T123000
UID:261M37-744-20260615T083000@VHSBREMEN
SUMMARY:Deutsch Intensiv - B2 (261M37-744) 
LOCATION:vhs - Plantage, Zugang vom Innenhof, Raum 1, Eingang 27, Plantage 13, 28215 Bremen
END:VEVENT
BEGIN:VEVENT
DTSTAMP:20260421T061811
DTSTART;TZID=Europe/Berlin:20260616T083000
DTEND;TZID=Europe/Berlin:20260616T123000
UID:261M37-744-20260616T083000@VHSBREMEN
SUMMARY:Deutsch Intensiv - B2 (261M37-744) 
LOCATION:vhs - Plantage, Zugang vom Innenhof, Raum 1, Eingang 27, Plantage 13, 28215 Bremen
END:VEVENT
BEGIN:VEVENT
DTSTAMP:20260421T061811
DTSTART;TZID=Europe/Berlin:20260617T083000
DTEND;TZID=Europe/Berlin:20260617T123000
UID:261M37-744-20260617T083000@VHSBREMEN
SUMMARY:Deutsch Intensiv - B2 (261M37-744) 
LOCATION:vhs - Plantage, Zugang vom Innenhof, Raum 1, Eingang 27, Plantage 13, 28215 Bremen
END:VEVENT
BEGIN:VEVENT
DTSTAMP:20260421T061811
DTSTART;TZID=Europe/Berlin:20260618T083000
DTEND;TZID=Europe/Berlin:20260618T123000
UID:261M37-744-20260618T083000@VHSBREMEN
SUMMARY:Deutsch Intensiv - B2 (261M37-744) 
LOCATION:vhs - Plantage, Zugang vom Innenhof, Raum 1, Eingang 27, Plantage 13, 28215 Bremen
END:VEVENT
BEGIN:VEVENT
DTSTAMP:20260421T061811
DTSTART;TZID=Europe/Berlin:20260622T083000
DTEND;TZID=Europe/Berlin:20260622T123000
UID:261M37-744-20260622T083000@VHSBREMEN
SUMMARY:Deutsch Intensiv - B2 (261M37-744) 
LOCATION:vhs - Plantage, Zugang vom Innenhof, Raum 1, Eingang 27, Plantage 13, 28215 Bremen
END:VEVENT
BEGIN:VEVENT
DTSTAMP:20260421T061811
DTSTART;TZID=Europe/Berlin:20260623T083000
DTEND;TZID=Europe/Berlin:20260623T123000
UID:261M37-744-20260623T083000@VHSBREMEN
SUMMARY:Deutsch Intensiv - B2 (261M37-744) 
LOCATION:vhs - Plantage, Zugang vom Innenhof, Raum 1, Eingang 27, Plantage 13, 28215 Bremen
END:VEVENT
BEGIN:VEVENT
DTSTAMP:20260421T061811
DTSTART;TZID=Europe/Berlin:20260624T083000
DTEND;TZID=Europe/Berlin:20260624T123000
UID:261M37-744-20260624T083000@VHSBREMEN
SUMMARY:Deutsch Intensiv - B2 (261M37-744) 
LOCATION:vhs - Plantage, Zugang vom Innenhof, Raum 1, Eingang 27, Plantage 13, 28215 Bremen
END:VEVENT
BEGIN:VEVENT
DTSTAMP:20260421T061811
DTSTART;TZID=Europe/Berlin:20260625T083000
DTEND;TZID=Europe/Berlin:20260625T123000
UID:261M37-744-20260625T083000@VHSBREMEN
SUMMARY:Deutsch Intensiv - B2 (261M37-744) 
LOCATION:vhs - Plantage, Zugang vom Innenhof, Raum 1, Eingang 27, Plantage 13, 28215 Bremen
END:VEVENT
BEGIN:VEVENT
DTSTAMP:20260421T061811
DTSTART;TZID=Europe/Berlin:20260629T083000
DTEND;TZID=Europe/Berlin:20260629T123000
UID:261M37-744-20260629T083000@VHSBREMEN
SUMMARY:Deutsch Intensiv - B2 (261M37-744) 
LOCATION:vhs - Plantage, Zugang vom Innenhof, Raum 1, Eingang 27, Plantage 13, 28215 Bremen
END:VEVENT
BEGIN:VEVENT
DTSTAMP:20260421T061811
DTSTART;TZID=Europe/Berlin:20260630T083000
DTEND;TZID=Europe/Berlin:20260630T123000
UID:261M37-744-20260630T083000@VHSBREMEN
SUMMARY:Deutsch Intensiv - B2 (261M37-744) 
LOCATION:vhs - Plantage, Zugang vom Innenhof, Raum 1, Eingang 27, Plantage 13, 28215 Bremen
END:VEVENT
BEGIN:VEVENT
DTSTAMP:20260421T061811
DTSTART;TZID=Europe/Berlin:20260701T083000
DTEND;TZID=Europe/Berlin:20260701T123000
UID:261M37-744-20260701T083000@VHSBREMEN
SUMMARY:Deutsch Intensiv - B2 (261M37-744) 
LOCATION:vhs - Plantage, Zugang vom Innenhof, Raum 1, Eingang 27, Plantage 13, 28215 Bremen
END:VEVENT
BEGIN:VEVENT
DTSTAMP:20260421T061811
DTSTART;TZID=Europe/Berlin:20260702T083000
DTEND;TZID=Europe/Berlin:20260702T123000
UID:261M37-744-20260702T083000@VHSBREMEN
SUMMARY:Deutsch Intensiv - B2 (261M37-744) 
LOCATION:vhs - Plantage, Zugang vom Innenhof, Raum 1, Eingang 27, Plantage 13, 28215 Bremen
END:VEVENT
BEGIN:VEVENT
DTSTAMP:20260421T061811
DTSTART;TZID=Europe/Berlin:20260706T083000
DTEND;TZID=Europe/Berlin:20260706T123000
UID:261M37-744-20260706T083000@VHSBREMEN
SUMMARY:Deutsch Intensiv - B2 (261M37-744) 
LOCATION:vhs - Plantage, Zugang vom Innenhof, Raum 1, Eingang 27, Plantage 13, 28215 Bremen
END:VEVENT
BEGIN:VEVENT
DTSTAMP:20260421T061811
DTSTART;TZID=Europe/Berlin:20260707T083000
DTEND;TZID=Europe/Berlin:20260707T123000
UID:261M37-744-20260707T083000@VHSBREMEN
SUMMARY:Deutsch Intensiv - B2 (261M37-744) 
LOCATION:vhs - Plantage, Zugang vom Innenhof, Raum 1, Eingang 27, Plantage 13, 28215 Bremen
END:VEVENT
BEGIN:VEVENT
DTSTAMP:20260421T061811
DTSTART;TZID=Europe/Berlin:20260708T083000
DTEND;TZID=Europe/Berlin:20260708T123000
UID:261M37-744-20260708T083000@VHSBREMEN
SUMMARY:Deutsch Intensiv - B2 (261M37-744) 
LOCATION:vhs - Plantage, Zugang vom Innenhof, Raum 1, Eingang 27, Plantage 13, 28215 Bremen
END:VEVENT
END:VCALENDAR