BEGIN:VCALENDAR
VERSION:2.0
PRODID:https://www.kufer.de/kuferweb / DE
METHOD:PUBLISH
CALSCALE:GREGORIAN
X-WR-TIMEZONE:Europe/Berlin
BEGIN:VTIMEZONE
TZID:Europe/Berlin
X-LIC-LOCATION:Europe/Berlin
BEGIN:DAYLIGHT
TZOFFSETFROM:+0100
TZOFFSETTO:+0200
TZNAME:CEST
DTSTART:19700329T020000
RRULE:FREQ=YEARLY;INTERVAL=1;BYDAY=-1SU;BYMONTH=3
END:DAYLIGHT
BEGIN:STANDARD
TZOFFSETFROM:+0200
TZOFFSETTO:+0100
TZNAME:CET
DTSTART:19701025T030000
RRULE:FREQ=YEARLY;INTERVAL=1;BYDAY=-1SU;BYMONTH=10
END:STANDARD
END:VTIMEZONE
BEGIN:VEVENT
DTSTAMP:20260421T082349
DTSTART;TZID=Europe/Berlin:20260512T133000
DTEND;TZID=Europe/Berlin:20260512T173000
UID:261M37-738-20260512T133000@VHSBREMEN
SUMMARY:Deutsch Intensiv - B1 (261M37-738) 
LOCATION:vhs - Sprachenzentrum, Raum 2.7, Faulenstraße 67, 28195 Bremen
END:VEVENT
BEGIN:VEVENT
DTSTAMP:20260421T082349
DTSTART;TZID=Europe/Berlin:20260513T133000
DTEND;TZID=Europe/Berlin:20260513T173000
UID:261M37-738-20260513T133000@VHSBREMEN
SUMMARY:Deutsch Intensiv - B1 (261M37-738) 
LOCATION:vhs - Sprachenzentrum, Raum 2.7, Faulenstraße 67, 28195 Bremen
END:VEVENT
BEGIN:VEVENT
DTSTAMP:20260421T082349
DTSTART;TZID=Europe/Berlin:20260519T133000
DTEND;TZID=Europe/Berlin:20260519T173000
UID:261M37-738-20260519T133000@VHSBREMEN
SUMMARY:Deutsch Intensiv - B1 (261M37-738) 
LOCATION:vhs - Sprachenzentrum, Raum 2.7, Faulenstraße 67, 28195 Bremen
END:VEVENT
BEGIN:VEVENT
DTSTAMP:20260421T082349
DTSTART;TZID=Europe/Berlin:20260520T133000
DTEND;TZID=Europe/Berlin:20260520T173000
UID:261M37-738-20260520T133000@VHSBREMEN
SUMMARY:Deutsch Intensiv - B1 (261M37-738) 
LOCATION:vhs - Sprachenzentrum, Raum 2.7, Faulenstraße 67, 28195 Bremen
END:VEVENT
BEGIN:VEVENT
DTSTAMP:20260421T082349
DTSTART;TZID=Europe/Berlin:20260521T133000
DTEND;TZID=Europe/Berlin:20260521T173000
UID:261M37-738-20260521T133000@VHSBREMEN
SUMMARY:Deutsch Intensiv - B1 (261M37-738) 
LOCATION:vhs - Sprachenzentrum, Raum 2.7, Faulenstraße 67, 28195 Bremen
END:VEVENT
BEGIN:VEVENT
DTSTAMP:20260421T082349
DTSTART;TZID=Europe/Berlin:20260522T133000
DTEND;TZID=Europe/Berlin:20260522T173000
UID:261M37-738-20260522T133000@VHSBREMEN
SUMMARY:Deutsch Intensiv - B1 (261M37-738) 
LOCATION:vhs - Sprachenzentrum, Raum 2.7, Faulenstraße 67, 28195 Bremen
END:VEVENT
BEGIN:VEVENT
DTSTAMP:20260421T082349
DTSTART;TZID=Europe/Berlin:20260527T133000
DTEND;TZID=Europe/Berlin:20260527T173000
UID:261M37-738-20260527T133000@VHSBREMEN
SUMMARY:Deutsch Intensiv - B1 (261M37-738) 
LOCATION:vhs - Sprachenzentrum, Raum 2.7, Faulenstraße 67, 28195 Bremen
END:VEVENT
BEGIN:VEVENT
DTSTAMP:20260421T082349
DTSTART;TZID=Europe/Berlin:20260528T133000
DTEND;TZID=Europe/Berlin:20260528T173000
UID:261M37-738-20260528T133000@VHSBREMEN
SUMMARY:Deutsch Intensiv - B1 (261M37-738) 
LOCATION:vhs - Sprachenzentrum, Raum 2.7, Faulenstraße 67, 28195 Bremen
END:VEVENT
BEGIN:VEVENT
DTSTAMP:20260421T082349
DTSTART;TZID=Europe/Berlin:20260529T133000
DTEND;TZID=Europe/Berlin:20260529T173000
UID:261M37-738-20260529T133000@VHSBREMEN
SUMMARY:Deutsch Intensiv - B1 (261M37-738) 
LOCATION:vhs - Sprachenzentrum, Raum 2.7, Faulenstraße 67, 28195 Bremen
END:VEVENT
BEGIN:VEVENT
DTSTAMP:20260421T082349
DTSTART;TZID=Europe/Berlin:20260602T133000
DTEND;TZID=Europe/Berlin:20260602T173000
UID:261M37-738-20260602T133000@VHSBREMEN
SUMMARY:Deutsch Intensiv - B1 (261M37-738) 
LOCATION:vhs - Sprachenzentrum, Raum 2.7, Faulenstraße 67, 28195 Bremen
END:VEVENT
BEGIN:VEVENT
DTSTAMP:20260421T082349
DTSTART;TZID=Europe/Berlin:20260603T133000
DTEND;TZID=Europe/Berlin:20260603T173000
UID:261M37-738-20260603T133000@VHSBREMEN
SUMMARY:Deutsch Intensiv - B1 (261M37-738) 
LOCATION:vhs - Sprachenzentrum, Raum 2.7, Faulenstraße 67, 28195 Bremen
END:VEVENT
BEGIN:VEVENT
DTSTAMP:20260421T082349
DTSTART;TZID=Europe/Berlin:20260604T133000
DTEND;TZID=Europe/Berlin:20260604T173000
UID:261M37-738-20260604T133000@VHSBREMEN
SUMMARY:Deutsch Intensiv - B1 (261M37-738) 
LOCATION:vhs - Sprachenzentrum, Raum 2.7, Faulenstraße 67, 28195 Bremen
END:VEVENT
BEGIN:VEVENT
DTSTAMP:20260421T082349
DTSTART;TZID=Europe/Berlin:20260605T133000
DTEND;TZID=Europe/Berlin:20260605T173000
UID:261M37-738-20260605T133000@VHSBREMEN
SUMMARY:Deutsch Intensiv - B1 (261M37-738) 
LOCATION:vhs - Sprachenzentrum, Raum 2.7, Faulenstraße 67, 28195 Bremen
END:VEVENT
BEGIN:VEVENT
DTSTAMP:20260421T082349
DTSTART;TZID=Europe/Berlin:20260609T133000
DTEND;TZID=Europe/Berlin:20260609T173000
UID:261M37-738-20260609T133000@VHSBREMEN
SUMMARY:Deutsch Intensiv - B1 (261M37-738) 
LOCATION:vhs - Sprachenzentrum, Raum 2.7, Faulenstraße 67, 28195 Bremen
END:VEVENT
BEGIN:VEVENT
DTSTAMP:20260421T082349
DTSTART;TZID=Europe/Berlin:20260610T133000
DTEND;TZID=Europe/Berlin:20260610T173000
UID:261M37-738-20260610T133000@VHSBREMEN
SUMMARY:Deutsch Intensiv - B1 (261M37-738) 
LOCATION:vhs - Sprachenzentrum, Raum 2.7, Faulenstraße 67, 28195 Bremen
END:VEVENT
BEGIN:VEVENT
DTSTAMP:20260421T082349
DTSTART;TZID=Europe/Berlin:20260611T133000
DTEND;TZID=Europe/Berlin:20260611T173000
UID:261M37-738-20260611T133000@VHSBREMEN
SUMMARY:Deutsch Intensiv - B1 (261M37-738) 
LOCATION:vhs - Sprachenzentrum, Raum 2.7, Faulenstraße 67, 28195 Bremen
END:VEVENT
BEGIN:VEVENT
DTSTAMP:20260421T082349
DTSTART;TZID=Europe/Berlin:20260612T133000
DTEND;TZID=Europe/Berlin:20260612T173000
UID:261M37-738-20260612T133000@VHSBREMEN
SUMMARY:Deutsch Intensiv - B1 (261M37-738) 
LOCATION:vhs - Sprachenzentrum, Raum 2.7, Faulenstraße 67, 28195 Bremen
END:VEVENT
BEGIN:VEVENT
DTSTAMP:20260421T082349
DTSTART;TZID=Europe/Berlin:20260616T133000
DTEND;TZID=Europe/Berlin:20260616T173000
UID:261M37-738-20260616T133000@VHSBREMEN
SUMMARY:Deutsch Intensiv - B1 (261M37-738) 
LOCATION:vhs - Sprachenzentrum, Raum 2.7, Faulenstraße 67, 28195 Bremen
END:VEVENT
BEGIN:VEVENT
DTSTAMP:20260421T082349
DTSTART;TZID=Europe/Berlin:20260617T133000
DTEND;TZID=Europe/Berlin:20260617T173000
UID:261M37-738-20260617T133000@VHSBREMEN
SUMMARY:Deutsch Intensiv - B1 (261M37-738) 
LOCATION:vhs - Sprachenzentrum, Raum 2.7, Faulenstraße 67, 28195 Bremen
END:VEVENT
BEGIN:VEVENT
DTSTAMP:20260421T082349
DTSTART;TZID=Europe/Berlin:20260618T133000
DTEND;TZID=Europe/Berlin:20260618T173000
UID:261M37-738-20260618T133000@VHSBREMEN
SUMMARY:Deutsch Intensiv - B1 (261M37-738) 
LOCATION:vhs - Sprachenzentrum, Raum 2.7, Faulenstraße 67, 28195 Bremen
END:VEVENT
BEGIN:VEVENT
DTSTAMP:20260421T082349
DTSTART;TZID=Europe/Berlin:20260619T133000
DTEND;TZID=Europe/Berlin:20260619T173000
UID:261M37-738-20260619T133000@VHSBREMEN
SUMMARY:Deutsch Intensiv - B1 (261M37-738) 
LOCATION:vhs - Sprachenzentrum, Raum 2.7, Faulenstraße 67, 28195 Bremen
END:VEVENT
BEGIN:VEVENT
DTSTAMP:20260421T082349
DTSTART;TZID=Europe/Berlin:20260623T133000
DTEND;TZID=Europe/Berlin:20260623T173000
UID:261M37-738-20260623T133000@VHSBREMEN
SUMMARY:Deutsch Intensiv - B1 (261M37-738) 
LOCATION:vhs - Sprachenzentrum, Raum 2.7, Faulenstraße 67, 28195 Bremen
END:VEVENT
BEGIN:VEVENT
DTSTAMP:20260421T082349
DTSTART;TZID=Europe/Berlin:20260624T133000
DTEND;TZID=Europe/Berlin:20260624T173000
UID:261M37-738-20260624T133000@VHSBREMEN
SUMMARY:Deutsch Intensiv - B1 (261M37-738) 
LOCATION:vhs - Sprachenzentrum, Raum 2.7, Faulenstraße 67, 28195 Bremen
END:VEVENT
BEGIN:VEVENT
DTSTAMP:20260421T082349
DTSTART;TZID=Europe/Berlin:20260625T133000
DTEND;TZID=Europe/Berlin:20260625T173000
UID:261M37-738-20260625T133000@VHSBREMEN
SUMMARY:Deutsch Intensiv - B1 (261M37-738) 
LOCATION:vhs - Sprachenzentrum, Raum 2.7, Faulenstraße 67, 28195 Bremen
END:VEVENT
BEGIN:VEVENT
DTSTAMP:20260421T082349
DTSTART;TZID=Europe/Berlin:20260626T133000
DTEND;TZID=Europe/Berlin:20260626T173000
UID:261M37-738-20260626T133000@VHSBREMEN
SUMMARY:Deutsch Intensiv - B1 (261M37-738) 
LOCATION:vhs - Sprachenzentrum, Raum 2.7, Faulenstraße 67, 28195 Bremen
END:VEVENT
BEGIN:VEVENT
DTSTAMP:20260421T082349
DTSTART;TZID=Europe/Berlin:20260630T133000
DTEND;TZID=Europe/Berlin:20260630T173000
UID:261M37-738-20260630T133000@VHSBREMEN
SUMMARY:Deutsch Intensiv - B1 (261M37-738) 
LOCATION:vhs - Sprachenzentrum, Raum 2.7, Faulenstraße 67, 28195 Bremen
END:VEVENT
BEGIN:VEVENT
DTSTAMP:20260421T082349
DTSTART;TZID=Europe/Berlin:20260701T133000
DTEND;TZID=Europe/Berlin:20260701T173000
UID:261M37-738-20260701T133000@VHSBREMEN
SUMMARY:Deutsch Intensiv - B1 (261M37-738) 
LOCATION:vhs - Sprachenzentrum, Raum 2.7, Faulenstraße 67, 28195 Bremen
END:VEVENT
BEGIN:VEVENT
DTSTAMP:20260421T082349
DTSTART;TZID=Europe/Berlin:20260702T133000
DTEND;TZID=Europe/Berlin:20260702T173000
UID:261M37-738-20260702T133000@VHSBREMEN
SUMMARY:Deutsch Intensiv - B1 (261M37-738) 
LOCATION:vhs - Sprachenzentrum, Raum 2.7, Faulenstraße 67, 28195 Bremen
END:VEVENT
BEGIN:VEVENT
DTSTAMP:20260421T082349
DTSTART;TZID=Europe/Berlin:20260703T133000
DTEND;TZID=Europe/Berlin:20260703T173000
UID:261M37-738-20260703T133000@VHSBREMEN
SUMMARY:Deutsch Intensiv - B1 (261M37-738) 
LOCATION:vhs - Sprachenzentrum, Raum 2.7, Faulenstraße 67, 28195 Bremen
END:VEVENT
BEGIN:VEVENT
DTSTAMP:20260421T082349
DTSTART;TZID=Europe/Berlin:20260707T133000
DTEND;TZID=Europe/Berlin:20260707T173000
UID:261M37-738-20260707T133000@VHSBREMEN
SUMMARY:Deutsch Intensiv - B1 (261M37-738) 
LOCATION:vhs - Sprachenzentrum, Raum 2.7, Faulenstraße 67, 28195 Bremen
END:VEVENT
BEGIN:VEVENT
DTSTAMP:20260421T082349
DTSTART;TZID=Europe/Berlin:20260708T133000
DTEND;TZID=Europe/Berlin:20260708T173000
UID:261M37-738-20260708T133000@VHSBREMEN
SUMMARY:Deutsch Intensiv - B1 (261M37-738) 
LOCATION:vhs - Sprachenzentrum, Raum 2.7, Faulenstraße 67, 28195 Bremen
END:VEVENT
BEGIN:VEVENT
DTSTAMP:20260421T082349
DTSTART;TZID=Europe/Berlin:20260709T133000
DTEND;TZID=Europe/Berlin:20260709T173000
UID:261M37-738-20260709T133000@VHSBREMEN
SUMMARY:Deutsch Intensiv - B1 (261M37-738) 
LOCATION:vhs - Sprachenzentrum, Raum 2.7, Faulenstraße 67, 28195 Bremen
END:VEVENT
END:VCALENDAR