BEGIN:VCALENDAR
VERSION:2.0
PRODID:https://www.kufer.de/kuferweb / DE
METHOD:PUBLISH
CALSCALE:GREGORIAN
X-WR-TIMEZONE:Europe/Berlin
BEGIN:VTIMEZONE
TZID:Europe/Berlin
X-LIC-LOCATION:Europe/Berlin
BEGIN:DAYLIGHT
TZOFFSETFROM:+0100
TZOFFSETTO:+0200
TZNAME:CEST
DTSTART:19700329T020000
RRULE:FREQ=YEARLY;INTERVAL=1;BYDAY=-1SU;BYMONTH=3
END:DAYLIGHT
BEGIN:STANDARD
TZOFFSETFROM:+0200
TZOFFSETTO:+0100
TZNAME:CET
DTSTART:19701025T030000
RRULE:FREQ=YEARLY;INTERVAL=1;BYDAY=-1SU;BYMONTH=10
END:STANDARD
END:VTIMEZONE
BEGIN:VEVENT
DTSTAMP:20260422T121122
DTSTART;TZID=Europe/Berlin:20260527T090000
DTEND;TZID=Europe/Berlin:20260527T130000
UID:261M37-728-20260527T090000@VHSBREMEN
SUMMARY:Deutsch Intensiv - A2 (261M37-728) 
LOCATION:vhs im Bamberger, Raum 301, Faulenstraße 69, 28195 Bremen
END:VEVENT
BEGIN:VEVENT
DTSTAMP:20260422T121122
DTSTART;TZID=Europe/Berlin:20260528T090000
DTEND;TZID=Europe/Berlin:20260528T130000
UID:261M37-728-20260528T090000@VHSBREMEN
SUMMARY:Deutsch Intensiv - A2 (261M37-728) 
LOCATION:vhs im Bamberger, Raum 301, Faulenstraße 69, 28195 Bremen
END:VEVENT
BEGIN:VEVENT
DTSTAMP:20260422T121122
DTSTART;TZID=Europe/Berlin:20260601T090000
DTEND;TZID=Europe/Berlin:20260601T130000
UID:261M37-728-20260601T090000@VHSBREMEN
SUMMARY:Deutsch Intensiv - A2 (261M37-728) 
LOCATION:vhs im Bamberger, Raum 301, Faulenstraße 69, 28195 Bremen
END:VEVENT
BEGIN:VEVENT
DTSTAMP:20260422T121122
DTSTART;TZID=Europe/Berlin:20260602T090000
DTEND;TZID=Europe/Berlin:20260602T130000
UID:261M37-728-20260602T090000@VHSBREMEN
SUMMARY:Deutsch Intensiv - A2 (261M37-728) 
LOCATION:vhs im Bamberger, Raum 301, Faulenstraße 69, 28195 Bremen
END:VEVENT
BEGIN:VEVENT
DTSTAMP:20260422T121122
DTSTART;TZID=Europe/Berlin:20260603T090000
DTEND;TZID=Europe/Berlin:20260603T130000
UID:261M37-728-20260603T090000@VHSBREMEN
SUMMARY:Deutsch Intensiv - A2 (261M37-728) 
LOCATION:vhs im Bamberger, Raum 301, Faulenstraße 69, 28195 Bremen
END:VEVENT
BEGIN:VEVENT
DTSTAMP:20260422T121122
DTSTART;TZID=Europe/Berlin:20260604T090000
DTEND;TZID=Europe/Berlin:20260604T130000
UID:261M37-728-20260604T090000@VHSBREMEN
SUMMARY:Deutsch Intensiv - A2 (261M37-728) 
LOCATION:vhs im Bamberger, Raum 301, Faulenstraße 69, 28195 Bremen
END:VEVENT
BEGIN:VEVENT
DTSTAMP:20260422T121122
DTSTART;TZID=Europe/Berlin:20260608T090000
DTEND;TZID=Europe/Berlin:20260608T130000
UID:261M37-728-20260608T090000@VHSBREMEN
SUMMARY:Deutsch Intensiv - A2 (261M37-728) 
LOCATION:vhs im Bamberger, Raum 301, Faulenstraße 69, 28195 Bremen
END:VEVENT
BEGIN:VEVENT
DTSTAMP:20260422T121122
DTSTART;TZID=Europe/Berlin:20260609T090000
DTEND;TZID=Europe/Berlin:20260609T130000
UID:261M37-728-20260609T090000@VHSBREMEN
SUMMARY:Deutsch Intensiv - A2 (261M37-728) 
LOCATION:vhs im Bamberger, Raum 301, Faulenstraße 69, 28195 Bremen
END:VEVENT
BEGIN:VEVENT
DTSTAMP:20260422T121122
DTSTART;TZID=Europe/Berlin:20260610T090000
DTEND;TZID=Europe/Berlin:20260610T130000
UID:261M37-728-20260610T090000@VHSBREMEN
SUMMARY:Deutsch Intensiv - A2 (261M37-728) 
LOCATION:vhs im Bamberger, Raum 301, Faulenstraße 69, 28195 Bremen
END:VEVENT
BEGIN:VEVENT
DTSTAMP:20260422T121122
DTSTART;TZID=Europe/Berlin:20260611T090000
DTEND;TZID=Europe/Berlin:20260611T130000
UID:261M37-728-20260611T090000@VHSBREMEN
SUMMARY:Deutsch Intensiv - A2 (261M37-728) 
LOCATION:vhs im Bamberger, Raum 301, Faulenstraße 69, 28195 Bremen
END:VEVENT
BEGIN:VEVENT
DTSTAMP:20260422T121122
DTSTART;TZID=Europe/Berlin:20260615T090000
DTEND;TZID=Europe/Berlin:20260615T130000
UID:261M37-728-20260615T090000@VHSBREMEN
SUMMARY:Deutsch Intensiv - A2 (261M37-728) 
LOCATION:vhs im Bamberger, Raum 301, Faulenstraße 69, 28195 Bremen
END:VEVENT
BEGIN:VEVENT
DTSTAMP:20260422T121122
DTSTART;TZID=Europe/Berlin:20260616T090000
DTEND;TZID=Europe/Berlin:20260616T130000
UID:261M37-728-20260616T090000@VHSBREMEN
SUMMARY:Deutsch Intensiv - A2 (261M37-728) 
LOCATION:vhs im Bamberger, Raum 301, Faulenstraße 69, 28195 Bremen
END:VEVENT
BEGIN:VEVENT
DTSTAMP:20260422T121122
DTSTART;TZID=Europe/Berlin:20260617T090000
DTEND;TZID=Europe/Berlin:20260617T130000
UID:261M37-728-20260617T090000@VHSBREMEN
SUMMARY:Deutsch Intensiv - A2 (261M37-728) 
LOCATION:vhs im Bamberger, Raum 301, Faulenstraße 69, 28195 Bremen
END:VEVENT
BEGIN:VEVENT
DTSTAMP:20260422T121122
DTSTART;TZID=Europe/Berlin:20260618T090000
DTEND;TZID=Europe/Berlin:20260618T130000
UID:261M37-728-20260618T090000@VHSBREMEN
SUMMARY:Deutsch Intensiv - A2 (261M37-728) 
LOCATION:vhs im Bamberger, Raum 301, Faulenstraße 69, 28195 Bremen
END:VEVENT
BEGIN:VEVENT
DTSTAMP:20260422T121122
DTSTART;TZID=Europe/Berlin:20260622T090000
DTEND;TZID=Europe/Berlin:20260622T130000
UID:261M37-728-20260622T090000@VHSBREMEN
SUMMARY:Deutsch Intensiv - A2 (261M37-728) 
LOCATION:vhs im Bamberger, Raum 301, Faulenstraße 69, 28195 Bremen
END:VEVENT
BEGIN:VEVENT
DTSTAMP:20260422T121122
DTSTART;TZID=Europe/Berlin:20260623T090000
DTEND;TZID=Europe/Berlin:20260623T130000
UID:261M37-728-20260623T090000@VHSBREMEN
SUMMARY:Deutsch Intensiv - A2 (261M37-728) 
LOCATION:vhs im Bamberger, Raum 301, Faulenstraße 69, 28195 Bremen
END:VEVENT
BEGIN:VEVENT
DTSTAMP:20260422T121122
DTSTART;TZID=Europe/Berlin:20260624T090000
DTEND;TZID=Europe/Berlin:20260624T130000
UID:261M37-728-20260624T090000@VHSBREMEN
SUMMARY:Deutsch Intensiv - A2 (261M37-728) 
LOCATION:vhs im Bamberger, Raum 301, Faulenstraße 69, 28195 Bremen
END:VEVENT
BEGIN:VEVENT
DTSTAMP:20260422T121122
DTSTART;TZID=Europe/Berlin:20260625T090000
DTEND;TZID=Europe/Berlin:20260625T130000
UID:261M37-728-20260625T090000@VHSBREMEN
SUMMARY:Deutsch Intensiv - A2 (261M37-728) 
LOCATION:vhs im Bamberger, Raum 301, Faulenstraße 69, 28195 Bremen
END:VEVENT
BEGIN:VEVENT
DTSTAMP:20260422T121122
DTSTART;TZID=Europe/Berlin:20260629T090000
DTEND;TZID=Europe/Berlin:20260629T130000
UID:261M37-728-20260629T090000@VHSBREMEN
SUMMARY:Deutsch Intensiv - A2 (261M37-728) 
LOCATION:vhs im Bamberger, Raum 301, Faulenstraße 69, 28195 Bremen
END:VEVENT
BEGIN:VEVENT
DTSTAMP:20260422T121122
DTSTART;TZID=Europe/Berlin:20260630T090000
DTEND;TZID=Europe/Berlin:20260630T130000
UID:261M37-728-20260630T090000@VHSBREMEN
SUMMARY:Deutsch Intensiv - A2 (261M37-728) 
LOCATION:vhs im Bamberger, Raum 301, Faulenstraße 69, 28195 Bremen
END:VEVENT
BEGIN:VEVENT
DTSTAMP:20260422T121122
DTSTART;TZID=Europe/Berlin:20260701T090000
DTEND;TZID=Europe/Berlin:20260701T130000
UID:261M37-728-20260701T090000@VHSBREMEN
SUMMARY:Deutsch Intensiv - A2 (261M37-728) 
LOCATION:vhs im Bamberger, Raum 301, Faulenstraße 69, 28195 Bremen
END:VEVENT
BEGIN:VEVENT
DTSTAMP:20260422T121122
DTSTART;TZID=Europe/Berlin:20260813T090000
DTEND;TZID=Europe/Berlin:20260813T130000
UID:261M37-728-20260813T090000@VHSBREMEN
SUMMARY:Deutsch Intensiv - A2 (261M37-728) 
LOCATION:vhs im Bamberger, Raum 301, Faulenstraße 69, 28195 Bremen
END:VEVENT
BEGIN:VEVENT
DTSTAMP:20260422T121122
DTSTART;TZID=Europe/Berlin:20260817T090000
DTEND;TZID=Europe/Berlin:20260817T130000
UID:261M37-728-20260817T090000@VHSBREMEN
SUMMARY:Deutsch Intensiv - A2 (261M37-728) 
LOCATION:vhs im Bamberger, Raum 301, Faulenstraße 69, 28195 Bremen
END:VEVENT
BEGIN:VEVENT
DTSTAMP:20260422T121122
DTSTART;TZID=Europe/Berlin:20260818T090000
DTEND;TZID=Europe/Berlin:20260818T130000
UID:261M37-728-20260818T090000@VHSBREMEN
SUMMARY:Deutsch Intensiv - A2 (261M37-728) 
LOCATION:vhs im Bamberger, Raum 301, Faulenstraße 69, 28195 Bremen
END:VEVENT
BEGIN:VEVENT
DTSTAMP:20260422T121122
DTSTART;TZID=Europe/Berlin:20260819T090000
DTEND;TZID=Europe/Berlin:20260819T130000
UID:261M37-728-20260819T090000@VHSBREMEN
SUMMARY:Deutsch Intensiv - A2 (261M37-728) 
LOCATION:vhs im Bamberger, Raum 301, Faulenstraße 69, 28195 Bremen
END:VEVENT
BEGIN:VEVENT
DTSTAMP:20260422T121122
DTSTART;TZID=Europe/Berlin:20260820T090000
DTEND;TZID=Europe/Berlin:20260820T130000
UID:261M37-728-20260820T090000@VHSBREMEN
SUMMARY:Deutsch Intensiv - A2 (261M37-728) 
LOCATION:vhs im Bamberger, Raum 301, Faulenstraße 69, 28195 Bremen
END:VEVENT
BEGIN:VEVENT
DTSTAMP:20260422T121122
DTSTART;TZID=Europe/Berlin:20260824T090000
DTEND;TZID=Europe/Berlin:20260824T130000
UID:261M37-728-20260824T090000@VHSBREMEN
SUMMARY:Deutsch Intensiv - A2 (261M37-728) 
LOCATION:vhs im Bamberger, Raum 301, Faulenstraße 69, 28195 Bremen
END:VEVENT
BEGIN:VEVENT
DTSTAMP:20260422T121122
DTSTART;TZID=Europe/Berlin:20260825T090000
DTEND;TZID=Europe/Berlin:20260825T130000
UID:261M37-728-20260825T090000@VHSBREMEN
SUMMARY:Deutsch Intensiv - A2 (261M37-728) 
LOCATION:vhs im Bamberger, Raum 301, Faulenstraße 69, 28195 Bremen
END:VEVENT
BEGIN:VEVENT
DTSTAMP:20260422T121122
DTSTART;TZID=Europe/Berlin:20260826T090000
DTEND;TZID=Europe/Berlin:20260826T130000
UID:261M37-728-20260826T090000@VHSBREMEN
SUMMARY:Deutsch Intensiv - A2 (261M37-728) 
LOCATION:vhs im Bamberger, Raum 301, Faulenstraße 69, 28195 Bremen
END:VEVENT
BEGIN:VEVENT
DTSTAMP:20260422T121122
DTSTART;TZID=Europe/Berlin:20260827T090000
DTEND;TZID=Europe/Berlin:20260827T130000
UID:261M37-728-20260827T090000@VHSBREMEN
SUMMARY:Deutsch Intensiv - A2 (261M37-728) 
LOCATION:vhs im Bamberger, Raum 301, Faulenstraße 69, 28195 Bremen
END:VEVENT
BEGIN:VEVENT
DTSTAMP:20260422T121122
DTSTART;TZID=Europe/Berlin:20260831T090000
DTEND;TZID=Europe/Berlin:20260831T130000
UID:261M37-728-20260831T090000@VHSBREMEN
SUMMARY:Deutsch Intensiv - A2 (261M37-728) 
LOCATION:vhs im Bamberger, Raum 301, Faulenstraße 69, 28195 Bremen
END:VEVENT
BEGIN:VEVENT
DTSTAMP:20260422T121122
DTSTART;TZID=Europe/Berlin:20260901T090000
DTEND;TZID=Europe/Berlin:20260901T130000
UID:261M37-728-20260901T090000@VHSBREMEN
SUMMARY:Deutsch Intensiv - A2 (261M37-728) 
LOCATION:vhs im Bamberger, Raum 301, Faulenstraße 69, 28195 Bremen
END:VEVENT
END:VCALENDAR