BEGIN:VCALENDAR
VERSION:2.0
PRODID:https://www.kufer.de/kuferweb / DE
METHOD:PUBLISH
CALSCALE:GREGORIAN
X-WR-TIMEZONE:Europe/Berlin
BEGIN:VTIMEZONE
TZID:Europe/Berlin
X-LIC-LOCATION:Europe/Berlin
BEGIN:DAYLIGHT
TZOFFSETFROM:+0100
TZOFFSETTO:+0200
TZNAME:CEST
DTSTART:19700329T020000
RRULE:FREQ=YEARLY;INTERVAL=1;BYDAY=-1SU;BYMONTH=3
END:DAYLIGHT
BEGIN:STANDARD
TZOFFSETFROM:+0200
TZOFFSETTO:+0100
TZNAME:CET
DTSTART:19701025T030000
RRULE:FREQ=YEARLY;INTERVAL=1;BYDAY=-1SU;BYMONTH=10
END:STANDARD
END:VTIMEZONE
BEGIN:VEVENT
DTSTAMP:20260424T161322
DTSTART;TZID=Europe/Berlin:20260226T090000
DTEND;TZID=Europe/Berlin:20260226T130000
UID:261M37-716-20260226T090000@VHSBREMEN
SUMMARY:Deutsch Intensiv - A1 (261M37-716) 
LOCATION:vhs - Sprachenzentrum, Raum 4.4, Faulenstraße 67, 28195 Bremen
END:VEVENT
BEGIN:VEVENT
DTSTAMP:20260424T161322
DTSTART;TZID=Europe/Berlin:20260227T090000
DTEND;TZID=Europe/Berlin:20260227T130000
UID:261M37-716-20260227T090000@VHSBREMEN
SUMMARY:Deutsch Intensiv - A1 (261M37-716) 
LOCATION:vhs - Sprachenzentrum, Raum 4.4, Faulenstraße 67, 28195 Bremen
END:VEVENT
BEGIN:VEVENT
DTSTAMP:20260424T161322
DTSTART;TZID=Europe/Berlin:20260302T090000
DTEND;TZID=Europe/Berlin:20260302T130000
UID:261M37-716-20260302T090000@VHSBREMEN
SUMMARY:Deutsch Intensiv - A1 (261M37-716) 
LOCATION:vhs - Sprachenzentrum, Raum 4.4, Faulenstraße 67, 28195 Bremen
END:VEVENT
BEGIN:VEVENT
DTSTAMP:20260424T161322
DTSTART;TZID=Europe/Berlin:20260303T090000
DTEND;TZID=Europe/Berlin:20260303T130000
UID:261M37-716-20260303T090000@VHSBREMEN
SUMMARY:Deutsch Intensiv - A1 (261M37-716) 
LOCATION:vhs - Sprachenzentrum, Raum 4.4, Faulenstraße 67, 28195 Bremen
END:VEVENT
BEGIN:VEVENT
DTSTAMP:20260424T161322
DTSTART;TZID=Europe/Berlin:20260305T090000
DTEND;TZID=Europe/Berlin:20260305T130000
UID:261M37-716-20260305T090000@VHSBREMEN
SUMMARY:Deutsch Intensiv - A1 (261M37-716) 
LOCATION:vhs - Sprachenzentrum, Raum 4.4, Faulenstraße 67, 28195 Bremen
END:VEVENT
BEGIN:VEVENT
DTSTAMP:20260424T161322
DTSTART;TZID=Europe/Berlin:20260306T090000
DTEND;TZID=Europe/Berlin:20260306T130000
UID:261M37-716-20260306T090000@VHSBREMEN
SUMMARY:Deutsch Intensiv - A1 (261M37-716) 
LOCATION:vhs - Sprachenzentrum, Raum 4.4, Faulenstraße 67, 28195 Bremen
END:VEVENT
BEGIN:VEVENT
DTSTAMP:20260424T161322
DTSTART;TZID=Europe/Berlin:20260309T090000
DTEND;TZID=Europe/Berlin:20260309T130000
UID:261M37-716-20260309T090000@VHSBREMEN
SUMMARY:Deutsch Intensiv - A1 (261M37-716) 
LOCATION:vhs - Sprachenzentrum, Raum 4.4, Faulenstraße 67, 28195 Bremen
END:VEVENT
BEGIN:VEVENT
DTSTAMP:20260424T161322
DTSTART;TZID=Europe/Berlin:20260310T090000
DTEND;TZID=Europe/Berlin:20260310T130000
UID:261M37-716-20260310T090000@VHSBREMEN
SUMMARY:Deutsch Intensiv - A1 (261M37-716) 
LOCATION:vhs - Sprachenzentrum, Raum 4.4, Faulenstraße 67, 28195 Bremen
END:VEVENT
BEGIN:VEVENT
DTSTAMP:20260424T161322
DTSTART;TZID=Europe/Berlin:20260312T090000
DTEND;TZID=Europe/Berlin:20260312T130000
UID:261M37-716-20260312T090000@VHSBREMEN
SUMMARY:Deutsch Intensiv - A1 (261M37-716) 
LOCATION:vhs - Sprachenzentrum, Raum 4.4, Faulenstraße 67, 28195 Bremen
END:VEVENT
BEGIN:VEVENT
DTSTAMP:20260424T161322
DTSTART;TZID=Europe/Berlin:20260313T090000
DTEND;TZID=Europe/Berlin:20260313T130000
UID:261M37-716-20260313T090000@VHSBREMEN
SUMMARY:Deutsch Intensiv - A1 (261M37-716) 
LOCATION:vhs - Sprachenzentrum, Raum 4.4, Faulenstraße 67, 28195 Bremen
END:VEVENT
BEGIN:VEVENT
DTSTAMP:20260424T161322
DTSTART;TZID=Europe/Berlin:20260316T090000
DTEND;TZID=Europe/Berlin:20260316T130000
UID:261M37-716-20260316T090000@VHSBREMEN
SUMMARY:Deutsch Intensiv - A1 (261M37-716) 
LOCATION:vhs - Sprachenzentrum, Raum 4.4, Faulenstraße 67, 28195 Bremen
END:VEVENT
BEGIN:VEVENT
DTSTAMP:20260424T161322
DTSTART;TZID=Europe/Berlin:20260317T090000
DTEND;TZID=Europe/Berlin:20260317T130000
UID:261M37-716-20260317T090000@VHSBREMEN
SUMMARY:Deutsch Intensiv - A1 (261M37-716) 
LOCATION:vhs - Sprachenzentrum, Raum 4.4, Faulenstraße 67, 28195 Bremen
END:VEVENT
BEGIN:VEVENT
DTSTAMP:20260424T161322
DTSTART;TZID=Europe/Berlin:20260319T090000
DTEND;TZID=Europe/Berlin:20260319T130000
UID:261M37-716-20260319T090000@VHSBREMEN
SUMMARY:Deutsch Intensiv - A1 (261M37-716) 
LOCATION:vhs - Sprachenzentrum, Raum 4.4, Faulenstraße 67, 28195 Bremen
END:VEVENT
BEGIN:VEVENT
DTSTAMP:20260424T161322
DTSTART;TZID=Europe/Berlin:20260320T090000
DTEND;TZID=Europe/Berlin:20260320T130000
UID:261M37-716-20260320T090000@VHSBREMEN
SUMMARY:Deutsch Intensiv - A1 (261M37-716) 
LOCATION:vhs - Sprachenzentrum, Raum 4.4, Faulenstraße 67, 28195 Bremen
END:VEVENT
BEGIN:VEVENT
DTSTAMP:20260424T161322
DTSTART;TZID=Europe/Berlin:20260410T090000
DTEND;TZID=Europe/Berlin:20260410T130000
UID:261M37-716-20260410T090000@VHSBREMEN
SUMMARY:Deutsch Intensiv - A1 (261M37-716) 
LOCATION:vhs - Sprachenzentrum, Raum 4.4, Faulenstraße 67, 28195 Bremen
END:VEVENT
BEGIN:VEVENT
DTSTAMP:20260424T161322
DTSTART;TZID=Europe/Berlin:20260413T090000
DTEND;TZID=Europe/Berlin:20260413T130000
UID:261M37-716-20260413T090000@VHSBREMEN
SUMMARY:Deutsch Intensiv - A1 (261M37-716) 
LOCATION:vhs - Sprachenzentrum, Raum 4.4, Faulenstraße 67, 28195 Bremen
END:VEVENT
BEGIN:VEVENT
DTSTAMP:20260424T161322
DTSTART;TZID=Europe/Berlin:20260414T090000
DTEND;TZID=Europe/Berlin:20260414T130000
UID:261M37-716-20260414T090000@VHSBREMEN
SUMMARY:Deutsch Intensiv - A1 (261M37-716) 
LOCATION:vhs - Sprachenzentrum, Raum 4.4, Faulenstraße 67, 28195 Bremen
END:VEVENT
BEGIN:VEVENT
DTSTAMP:20260424T161322
DTSTART;TZID=Europe/Berlin:20260416T090000
DTEND;TZID=Europe/Berlin:20260416T130000
UID:261M37-716-20260416T090000@VHSBREMEN
SUMMARY:Deutsch Intensiv - A1 (261M37-716) 
LOCATION:vhs - Sprachenzentrum, Raum 4.4, Faulenstraße 67, 28195 Bremen
END:VEVENT
BEGIN:VEVENT
DTSTAMP:20260424T161322
DTSTART;TZID=Europe/Berlin:20260417T090000
DTEND;TZID=Europe/Berlin:20260417T130000
UID:261M37-716-20260417T090000@VHSBREMEN
SUMMARY:Deutsch Intensiv - A1 (261M37-716) 
LOCATION:vhs - Sprachenzentrum, Raum 4.4, Faulenstraße 67, 28195 Bremen
END:VEVENT
BEGIN:VEVENT
DTSTAMP:20260424T161322
DTSTART;TZID=Europe/Berlin:20260420T090000
DTEND;TZID=Europe/Berlin:20260420T130000
UID:261M37-716-20260420T090000@VHSBREMEN
SUMMARY:Deutsch Intensiv - A1 (261M37-716) 
LOCATION:vhs - Sprachenzentrum, Raum 4.4, Faulenstraße 67, 28195 Bremen
END:VEVENT
BEGIN:VEVENT
DTSTAMP:20260424T161322
DTSTART;TZID=Europe/Berlin:20260421T090000
DTEND;TZID=Europe/Berlin:20260421T130000
UID:261M37-716-20260421T090000@VHSBREMEN
SUMMARY:Deutsch Intensiv - A1 (261M37-716) 
LOCATION:vhs - Sprachenzentrum, Raum 4.4, Faulenstraße 67, 28195 Bremen
END:VEVENT
BEGIN:VEVENT
DTSTAMP:20260424T161322
DTSTART;TZID=Europe/Berlin:20260423T090000
DTEND;TZID=Europe/Berlin:20260423T130000
UID:261M37-716-20260423T090000@VHSBREMEN
SUMMARY:Deutsch Intensiv - A1 (261M37-716) 
LOCATION:vhs - Sprachenzentrum, Raum 4.4, Faulenstraße 67, 28195 Bremen
END:VEVENT
BEGIN:VEVENT
DTSTAMP:20260424T161322
DTSTART;TZID=Europe/Berlin:20260424T090000
DTEND;TZID=Europe/Berlin:20260424T130000
UID:261M37-716-20260424T090000@VHSBREMEN
SUMMARY:Deutsch Intensiv - A1 (261M37-716) 
LOCATION:vhs - Sprachenzentrum, Raum 4.4, Faulenstraße 67, 28195 Bremen
END:VEVENT
BEGIN:VEVENT
DTSTAMP:20260424T161322
DTSTART;TZID=Europe/Berlin:20260427T090000
DTEND;TZID=Europe/Berlin:20260427T130000
UID:261M37-716-20260427T090000@VHSBREMEN
SUMMARY:Deutsch Intensiv - A1 (261M37-716) 
LOCATION:vhs - Sprachenzentrum, Raum 4.4, Faulenstraße 67, 28195 Bremen
END:VEVENT
BEGIN:VEVENT
DTSTAMP:20260424T161322
DTSTART;TZID=Europe/Berlin:20260428T090000
DTEND;TZID=Europe/Berlin:20260428T130000
UID:261M37-716-20260428T090000@VHSBREMEN
SUMMARY:Deutsch Intensiv - A1 (261M37-716) 
LOCATION:vhs - Sprachenzentrum, Raum 4.4, Faulenstraße 67, 28195 Bremen
END:VEVENT
BEGIN:VEVENT
DTSTAMP:20260424T161322
DTSTART;TZID=Europe/Berlin:20260430T090000
DTEND;TZID=Europe/Berlin:20260430T130000
UID:261M37-716-20260430T090000@VHSBREMEN
SUMMARY:Deutsch Intensiv - A1 (261M37-716) 
LOCATION:vhs - Sprachenzentrum, Raum 4.4, Faulenstraße 67, 28195 Bremen
END:VEVENT
BEGIN:VEVENT
DTSTAMP:20260424T161322
DTSTART;TZID=Europe/Berlin:20260504T090000
DTEND;TZID=Europe/Berlin:20260504T130000
UID:261M37-716-20260504T090000@VHSBREMEN
SUMMARY:Deutsch Intensiv - A1 (261M37-716) 
LOCATION:vhs - Sprachenzentrum, Raum 4.4, Faulenstraße 67, 28195 Bremen
END:VEVENT
BEGIN:VEVENT
DTSTAMP:20260424T161322
DTSTART;TZID=Europe/Berlin:20260505T090000
DTEND;TZID=Europe/Berlin:20260505T130000
UID:261M37-716-20260505T090000@VHSBREMEN
SUMMARY:Deutsch Intensiv - A1 (261M37-716) 
LOCATION:vhs - Sprachenzentrum, Raum 4.4, Faulenstraße 67, 28195 Bremen
END:VEVENT
BEGIN:VEVENT
DTSTAMP:20260424T161322
DTSTART;TZID=Europe/Berlin:20260507T090000
DTEND;TZID=Europe/Berlin:20260507T130000
UID:261M37-716-20260507T090000@VHSBREMEN
SUMMARY:Deutsch Intensiv - A1 (261M37-716) 
LOCATION:vhs - Sprachenzentrum, Raum 4.4, Faulenstraße 67, 28195 Bremen
END:VEVENT
BEGIN:VEVENT
DTSTAMP:20260424T161322
DTSTART;TZID=Europe/Berlin:20260508T090000
DTEND;TZID=Europe/Berlin:20260508T130000
UID:261M37-716-20260508T090000@VHSBREMEN
SUMMARY:Deutsch Intensiv - A1 (261M37-716) 
LOCATION:vhs - Sprachenzentrum, Raum 4.4, Faulenstraße 67, 28195 Bremen
END:VEVENT
BEGIN:VEVENT
DTSTAMP:20260424T161322
DTSTART;TZID=Europe/Berlin:20260511T090000
DTEND;TZID=Europe/Berlin:20260511T130000
UID:261M37-716-20260511T090000@VHSBREMEN
SUMMARY:Deutsch Intensiv - A1 (261M37-716) 
LOCATION:vhs - Sprachenzentrum, Raum 4.4, Faulenstraße 67, 28195 Bremen
END:VEVENT
BEGIN:VEVENT
DTSTAMP:20260424T161322
DTSTART;TZID=Europe/Berlin:20260512T090000
DTEND;TZID=Europe/Berlin:20260512T130000
UID:261M37-716-20260512T090000@VHSBREMEN
DESCRIPTION:Ersatz für Ausfall am 09.04.2026
SUMMARY:Deutsch Intensiv - A1 (261M37-716) 
LOCATION:vhs - Sprachenzentrum, Raum 4.4, Faulenstraße 67, 28195 Bremen
END:VEVENT
END:VCALENDAR