BEGIN:VCALENDAR
VERSION:2.0
PRODID:https://www.kufer.de/kuferweb / DE
METHOD:PUBLISH
CALSCALE:GREGORIAN
X-WR-TIMEZONE:Europe/Berlin
BEGIN:VTIMEZONE
TZID:Europe/Berlin
X-LIC-LOCATION:Europe/Berlin
BEGIN:DAYLIGHT
TZOFFSETFROM:+0100
TZOFFSETTO:+0200
TZNAME:CEST
DTSTART:19700329T020000
RRULE:FREQ=YEARLY;INTERVAL=1;BYDAY=-1SU;BYMONTH=3
END:DAYLIGHT
BEGIN:STANDARD
TZOFFSETFROM:+0200
TZOFFSETTO:+0100
TZNAME:CET
DTSTART:19701025T030000
RRULE:FREQ=YEARLY;INTERVAL=1;BYDAY=-1SU;BYMONTH=10
END:STANDARD
END:VTIMEZONE
BEGIN:VEVENT
DTSTAMP:20260423T020235
DTSTART;TZID=Europe/Berlin:20260119T173000
DTEND;TZID=Europe/Berlin:20260119T194500
UID:261M37-707-20260119T173000@VHSBREMEN
SUMMARY:Deutsch Teilzeit 7 - B2.1 (261M37-707) 
LOCATION:vhs - Sprachenzentrum, Raum 4.2, Faulenstr. 67, 28195 Bremen
END:VEVENT
BEGIN:VEVENT
DTSTAMP:20260423T020235
DTSTART;TZID=Europe/Berlin:20260121T173000
DTEND;TZID=Europe/Berlin:20260121T194500
UID:261M37-707-20260121T173000@VHSBREMEN
SUMMARY:Deutsch Teilzeit 7 - B2.1 (261M37-707) 
LOCATION:vhs - Sprachenzentrum, Raum 4.2, Faulenstr. 67, 28195 Bremen
END:VEVENT
BEGIN:VEVENT
DTSTAMP:20260423T020235
DTSTART;TZID=Europe/Berlin:20260126T173000
DTEND;TZID=Europe/Berlin:20260126T194500
UID:261M37-707-20260126T173000@VHSBREMEN
SUMMARY:Deutsch Teilzeit 7 - B2.1 (261M37-707) 
LOCATION:vhs - Sprachenzentrum, Raum 4.2, Faulenstr. 67, 28195 Bremen
END:VEVENT
BEGIN:VEVENT
DTSTAMP:20260423T020235
DTSTART;TZID=Europe/Berlin:20260128T173000
DTEND;TZID=Europe/Berlin:20260128T194500
UID:261M37-707-20260128T173000@VHSBREMEN
SUMMARY:Deutsch Teilzeit 7 - B2.1 (261M37-707) 
LOCATION:vhs - Sprachenzentrum, Raum 4.2, Faulenstr. 67, 28195 Bremen
END:VEVENT
BEGIN:VEVENT
DTSTAMP:20260423T020235
DTSTART;TZID=Europe/Berlin:20260204T173000
DTEND;TZID=Europe/Berlin:20260204T194500
UID:261M37-707-20260204T173000@VHSBREMEN
SUMMARY:Deutsch Teilzeit 7 - B2.1 (261M37-707) 
LOCATION:vhs - Sprachenzentrum, Raum 4.2, Faulenstr. 67, 28195 Bremen
END:VEVENT
BEGIN:VEVENT
DTSTAMP:20260423T020235
DTSTART;TZID=Europe/Berlin:20260209T173000
DTEND;TZID=Europe/Berlin:20260209T194500
UID:261M37-707-20260209T173000@VHSBREMEN
SUMMARY:Deutsch Teilzeit 7 - B2.1 (261M37-707) 
LOCATION:vhs - Sprachenzentrum, Raum 4.2, Faulenstr. 67, 28195 Bremen
END:VEVENT
BEGIN:VEVENT
DTSTAMP:20260423T020235
DTSTART;TZID=Europe/Berlin:20260211T173000
DTEND;TZID=Europe/Berlin:20260211T194500
UID:261M37-707-20260211T173000@VHSBREMEN
SUMMARY:Deutsch Teilzeit 7 - B2.1 (261M37-707) 
LOCATION:vhs - Sprachenzentrum, Raum 4.2, Faulenstr. 67, 28195 Bremen
END:VEVENT
BEGIN:VEVENT
DTSTAMP:20260423T020235
DTSTART;TZID=Europe/Berlin:20260216T173000
DTEND;TZID=Europe/Berlin:20260216T194500
UID:261M37-707-20260216T173000@VHSBREMEN
SUMMARY:Deutsch Teilzeit 7 - B2.1 (261M37-707) 
LOCATION:vhs - Sprachenzentrum, Raum 4.2, Faulenstr. 67, 28195 Bremen
END:VEVENT
BEGIN:VEVENT
DTSTAMP:20260423T020235
DTSTART;TZID=Europe/Berlin:20260218T173000
DTEND;TZID=Europe/Berlin:20260218T194500
UID:261M37-707-20260218T173000@VHSBREMEN
SUMMARY:Deutsch Teilzeit 7 - B2.1 (261M37-707) 
LOCATION:vhs - Sprachenzentrum, Raum 4.2, Faulenstr. 67, 28195 Bremen
END:VEVENT
BEGIN:VEVENT
DTSTAMP:20260423T020235
DTSTART;TZID=Europe/Berlin:20260223T173000
DTEND;TZID=Europe/Berlin:20260223T194500
UID:261M37-707-20260223T173000@VHSBREMEN
SUMMARY:Deutsch Teilzeit 7 - B2.1 (261M37-707) 
LOCATION:vhs - Sprachenzentrum, Raum 4.2, Faulenstr. 67, 28195 Bremen
END:VEVENT
BEGIN:VEVENT
DTSTAMP:20260423T020235
DTSTART;TZID=Europe/Berlin:20260225T173000
DTEND;TZID=Europe/Berlin:20260225T194500
UID:261M37-707-20260225T173000@VHSBREMEN
SUMMARY:Deutsch Teilzeit 7 - B2.1 (261M37-707) 
LOCATION:vhs - Sprachenzentrum, Raum 4.2, Faulenstr. 67, 28195 Bremen
END:VEVENT
BEGIN:VEVENT
DTSTAMP:20260423T020235
DTSTART;TZID=Europe/Berlin:20260302T173000
DTEND;TZID=Europe/Berlin:20260302T194500
UID:261M37-707-20260302T173000@VHSBREMEN
SUMMARY:Deutsch Teilzeit 7 - B2.1 (261M37-707) 
LOCATION:vhs - Sprachenzentrum, Raum 4.2, Faulenstr. 67, 28195 Bremen
END:VEVENT
BEGIN:VEVENT
DTSTAMP:20260423T020235
DTSTART;TZID=Europe/Berlin:20260304T173000
DTEND;TZID=Europe/Berlin:20260304T194500
UID:261M37-707-20260304T173000@VHSBREMEN
SUMMARY:Deutsch Teilzeit 7 - B2.1 (261M37-707) 
LOCATION:vhs im Bamberger, Raum 415, Faulenstraße 69, 28195 Bremen
END:VEVENT
BEGIN:VEVENT
DTSTAMP:20260423T020235
DTSTART;TZID=Europe/Berlin:20260309T173000
DTEND;TZID=Europe/Berlin:20260309T194500
UID:261M37-707-20260309T173000@VHSBREMEN
SUMMARY:Deutsch Teilzeit 7 - B2.1 (261M37-707) 
LOCATION:vhs - Sprachenzentrum, Raum 4.2, Faulenstr. 67, 28195 Bremen
END:VEVENT
BEGIN:VEVENT
DTSTAMP:20260423T020235
DTSTART;TZID=Europe/Berlin:20260311T173000
DTEND;TZID=Europe/Berlin:20260311T194500
UID:261M37-707-20260311T173000@VHSBREMEN
SUMMARY:Deutsch Teilzeit 7 - B2.1 (261M37-707) 
LOCATION:vhs im Bamberger, Raum 415, Faulenstraße 69, 28195 Bremen
END:VEVENT
BEGIN:VEVENT
DTSTAMP:20260423T020235
DTSTART;TZID=Europe/Berlin:20260316T173000
DTEND;TZID=Europe/Berlin:20260316T194500
UID:261M37-707-20260316T173000@VHSBREMEN
SUMMARY:Deutsch Teilzeit 7 - B2.1 (261M37-707) 
LOCATION:vhs - Sprachenzentrum, Raum 4.2, Faulenstr. 67, 28195 Bremen
END:VEVENT
BEGIN:VEVENT
DTSTAMP:20260423T020235
DTSTART;TZID=Europe/Berlin:20260318T173000
DTEND;TZID=Europe/Berlin:20260318T194500
UID:261M37-707-20260318T173000@VHSBREMEN
SUMMARY:Deutsch Teilzeit 7 - B2.1 (261M37-707) 
LOCATION:vhs im Bamberger, Raum 415, Faulenstraße 69, 28195 Bremen
END:VEVENT
BEGIN:VEVENT
DTSTAMP:20260423T020235
DTSTART;TZID=Europe/Berlin:20260408T173000
DTEND;TZID=Europe/Berlin:20260408T194500
UID:261M37-707-20260408T173000@VHSBREMEN
SUMMARY:Deutsch Teilzeit 7 - B2.1 (261M37-707) 
LOCATION:vhs im Bamberger, Raum 415, Faulenstraße 69, 28195 Bremen
END:VEVENT
BEGIN:VEVENT
DTSTAMP:20260423T020235
DTSTART;TZID=Europe/Berlin:20260413T173000
DTEND;TZID=Europe/Berlin:20260413T194500
UID:261M37-707-20260413T173000@VHSBREMEN
SUMMARY:Deutsch Teilzeit 7 - B2.1 (261M37-707) 
LOCATION:vhs - Sprachenzentrum, Raum 4.2, Faulenstr. 67, 28195 Bremen
END:VEVENT
BEGIN:VEVENT
DTSTAMP:20260423T020235
DTSTART;TZID=Europe/Berlin:20260415T173000
DTEND;TZID=Europe/Berlin:20260415T194500
UID:261M37-707-20260415T173000@VHSBREMEN
SUMMARY:Deutsch Teilzeit 7 - B2.1 (261M37-707) 
LOCATION:vhs im Bamberger, Raum 415, Faulenstraße 69, 28195 Bremen
END:VEVENT
BEGIN:VEVENT
DTSTAMP:20260423T020235
DTSTART;TZID=Europe/Berlin:20260420T173000
DTEND;TZID=Europe/Berlin:20260420T194500
UID:261M37-707-20260420T173000@VHSBREMEN
SUMMARY:Deutsch Teilzeit 7 - B2.1 (261M37-707) 
LOCATION:vhs - Sprachenzentrum, Raum 4.2, Faulenstr. 67, 28195 Bremen
END:VEVENT
BEGIN:VEVENT
DTSTAMP:20260423T020235
DTSTART;TZID=Europe/Berlin:20260422T173000
DTEND;TZID=Europe/Berlin:20260422T194500
UID:261M37-707-20260422T173000@VHSBREMEN
SUMMARY:Deutsch Teilzeit 7 - B2.1 (261M37-707) 
LOCATION:vhs im Bamberger, Raum 415, Faulenstraße 69, 28195 Bremen
END:VEVENT
BEGIN:VEVENT
DTSTAMP:20260423T020235
DTSTART;TZID=Europe/Berlin:20260427T173000
DTEND;TZID=Europe/Berlin:20260427T194500
UID:261M37-707-20260427T173000@VHSBREMEN
SUMMARY:Deutsch Teilzeit 7 - B2.1 (261M37-707) 
LOCATION:vhs - Sprachenzentrum, Raum 4.2, Faulenstr. 67, 28195 Bremen
END:VEVENT
BEGIN:VEVENT
DTSTAMP:20260423T020235
DTSTART;TZID=Europe/Berlin:20260429T173000
DTEND;TZID=Europe/Berlin:20260429T194500
UID:261M37-707-20260429T173000@VHSBREMEN
SUMMARY:Deutsch Teilzeit 7 - B2.1 (261M37-707) 
LOCATION:vhs im Bamberger, Raum 415, Faulenstraße 69, 28195 Bremen
END:VEVENT
BEGIN:VEVENT
DTSTAMP:20260423T020235
DTSTART;TZID=Europe/Berlin:20260504T173000
DTEND;TZID=Europe/Berlin:20260504T194500
UID:261M37-707-20260504T173000@VHSBREMEN
SUMMARY:Deutsch Teilzeit 7 - B2.1 (261M37-707) 
LOCATION:vhs - Sprachenzentrum, Raum 4.2, Faulenstr. 67, 28195 Bremen
END:VEVENT
BEGIN:VEVENT
DTSTAMP:20260423T020235
DTSTART;TZID=Europe/Berlin:20260506T173000
DTEND;TZID=Europe/Berlin:20260506T194500
UID:261M37-707-20260506T173000@VHSBREMEN
SUMMARY:Deutsch Teilzeit 7 - B2.1 (261M37-707) 
LOCATION:vhs im Bamberger, Raum 601, Faulenstraße 69, 28195 Bremen
END:VEVENT
BEGIN:VEVENT
DTSTAMP:20260423T020235
DTSTART;TZID=Europe/Berlin:20260511T173000
DTEND;TZID=Europe/Berlin:20260511T194500
UID:261M37-707-20260511T173000@VHSBREMEN
SUMMARY:Deutsch Teilzeit 7 - B2.1 (261M37-707) 
LOCATION:vhs - Sprachenzentrum, Raum 4.2, Faulenstr. 67, 28195 Bremen
END:VEVENT
BEGIN:VEVENT
DTSTAMP:20260423T020235
DTSTART;TZID=Europe/Berlin:20260513T173000
DTEND;TZID=Europe/Berlin:20260513T194500
UID:261M37-707-20260513T173000@VHSBREMEN
SUMMARY:Deutsch Teilzeit 7 - B2.1 (261M37-707) 
LOCATION:vhs im Bamberger, Raum 601, Faulenstraße 69, 28195 Bremen
END:VEVENT
END:VCALENDAR