BEGIN:VCALENDAR
VERSION:2.0
PRODID:https://www.kufer.de/kuferweb / DE
METHOD:PUBLISH
CALSCALE:GREGORIAN
X-WR-TIMEZONE:Europe/Berlin
BEGIN:VTIMEZONE
TZID:Europe/Berlin
X-LIC-LOCATION:Europe/Berlin
BEGIN:DAYLIGHT
TZOFFSETFROM:+0100
TZOFFSETTO:+0200
TZNAME:CEST
DTSTART:19700329T020000
RRULE:FREQ=YEARLY;INTERVAL=1;BYDAY=-1SU;BYMONTH=3
END:DAYLIGHT
BEGIN:STANDARD
TZOFFSETFROM:+0200
TZOFFSETTO:+0100
TZNAME:CET
DTSTART:19701025T030000
RRULE:FREQ=YEARLY;INTERVAL=1;BYDAY=-1SU;BYMONTH=10
END:STANDARD
END:VTIMEZONE
BEGIN:VEVENT
DTSTAMP:20260422T000849
DTSTART;TZID=Europe/Berlin:20260824T090000
DTEND;TZID=Europe/Berlin:20260824T140000
UID:261M26-916-20260824T090000@VHSBREMEN
SUMMARY:Ökologische Gartengestaltung zur Steigerung der Lebensqualität für Mensch und Umwelt (261M26-916) 
LOCATION:Arbeit & Ökologie / Bürgerzentrum Huchting, Amersfoorter Straße 8, 28259 Bremen
END:VEVENT
BEGIN:VEVENT
DTSTAMP:20260422T000849
DTSTART;TZID=Europe/Berlin:20260825T090000
DTEND;TZID=Europe/Berlin:20260825T140000
UID:261M26-916-20260825T090000@VHSBREMEN
SUMMARY:Ökologische Gartengestaltung zur Steigerung der Lebensqualität für Mensch und Umwelt (261M26-916) 
LOCATION:Arbeit & Ökologie / Bürgerzentrum Huchting, Amersfoorter Straße 8, 28259 Bremen
END:VEVENT
BEGIN:VEVENT
DTSTAMP:20260422T000849
DTSTART;TZID=Europe/Berlin:20260826T090000
DTEND;TZID=Europe/Berlin:20260826T140000
UID:261M26-916-20260826T090000@VHSBREMEN
SUMMARY:Ökologische Gartengestaltung zur Steigerung der Lebensqualität für Mensch und Umwelt (261M26-916) 
LOCATION:Arbeit & Ökologie / Bürgerzentrum Huchting, Amersfoorter Straße 8, 28259 Bremen
END:VEVENT
BEGIN:VEVENT
DTSTAMP:20260422T000849
DTSTART;TZID=Europe/Berlin:20260827T090000
DTEND;TZID=Europe/Berlin:20260827T140000
UID:261M26-916-20260827T090000@VHSBREMEN
SUMMARY:Ökologische Gartengestaltung zur Steigerung der Lebensqualität für Mensch und Umwelt (261M26-916) 
LOCATION:Arbeit & Ökologie / Bürgerzentrum Huchting, Amersfoorter Straße 8, 28259 Bremen
END:VEVENT
BEGIN:VEVENT
DTSTAMP:20260422T000849
DTSTART;TZID=Europe/Berlin:20260828T090000
DTEND;TZID=Europe/Berlin:20260828T140000
UID:261M26-916-20260828T090000@VHSBREMEN
SUMMARY:Ökologische Gartengestaltung zur Steigerung der Lebensqualität für Mensch und Umwelt (261M26-916) 
LOCATION:Arbeit & Ökologie / Bürgerzentrum Huchting, Amersfoorter Straße 8, 28259 Bremen
END:VEVENT
END:VCALENDAR