BEGIN:VCALENDAR
VERSION:2.0
PRODID:https://www.kufer.de/kuferweb / DE
METHOD:PUBLISH
CALSCALE:GREGORIAN
X-WR-TIMEZONE:Europe/Berlin
BEGIN:VTIMEZONE
TZID:Europe/Berlin
X-LIC-LOCATION:Europe/Berlin
BEGIN:DAYLIGHT
TZOFFSETFROM:+0100
TZOFFSETTO:+0200
TZNAME:CEST
DTSTART:19700329T020000
RRULE:FREQ=YEARLY;INTERVAL=1;BYDAY=-1SU;BYMONTH=3
END:DAYLIGHT
BEGIN:STANDARD
TZOFFSETFROM:+0200
TZOFFSETTO:+0100
TZNAME:CET
DTSTART:19701025T030000
RRULE:FREQ=YEARLY;INTERVAL=1;BYDAY=-1SU;BYMONTH=10
END:STANDARD
END:VTIMEZONE
BEGIN:VEVENT
DTSTAMP:20260423T020255
DTSTART;TZID=Europe/Berlin:20260503T170000
DTEND;TZID=Europe/Berlin:20260503T200000
UID:261M25-104-20260503T170000@VHSBREMEN
SUMMARY:Mensch, Umwelt und Tourismus im Wattenmeer (Amrum) (261M25-104) 
LOCATION:Haus Eckart, Wittdün/Amrum, Mittelstraße 20, 25942 Wittdün/Amrum
END:VEVENT
BEGIN:VEVENT
DTSTAMP:20260423T020255
DTSTART;TZID=Europe/Berlin:20260504T090000
DTEND;TZID=Europe/Berlin:20260504T180000
UID:261M25-104-20260504T090000@VHSBREMEN
SUMMARY:Mensch, Umwelt und Tourismus im Wattenmeer (Amrum) (261M25-104) 
LOCATION:Haus Eckart, Wittdün/Amrum, Mittelstraße 20, 25942 Wittdün/Amrum
END:VEVENT
BEGIN:VEVENT
DTSTAMP:20260423T020255
DTSTART;TZID=Europe/Berlin:20260505T090000
DTEND;TZID=Europe/Berlin:20260505T180000
UID:261M25-104-20260505T090000@VHSBREMEN
SUMMARY:Mensch, Umwelt und Tourismus im Wattenmeer (Amrum) (261M25-104) 
LOCATION:Haus Eckart, Wittdün/Amrum, Mittelstraße 20, 25942 Wittdün/Amrum
END:VEVENT
BEGIN:VEVENT
DTSTAMP:20260423T020255
DTSTART;TZID=Europe/Berlin:20260506T090000
DTEND;TZID=Europe/Berlin:20260506T180000
UID:261M25-104-20260506T090000@VHSBREMEN
SUMMARY:Mensch, Umwelt und Tourismus im Wattenmeer (Amrum) (261M25-104) 
LOCATION:Haus Eckart, Wittdün/Amrum, Mittelstraße 20, 25942 Wittdün/Amrum
END:VEVENT
BEGIN:VEVENT
DTSTAMP:20260423T020255
DTSTART;TZID=Europe/Berlin:20260507T090000
DTEND;TZID=Europe/Berlin:20260507T180000
UID:261M25-104-20260507T090000@VHSBREMEN
SUMMARY:Mensch, Umwelt und Tourismus im Wattenmeer (Amrum) (261M25-104) 
LOCATION:Haus Eckart, Wittdün/Amrum, Mittelstraße 20, 25942 Wittdün/Amrum
END:VEVENT
BEGIN:VEVENT
DTSTAMP:20260423T020255
DTSTART;TZID=Europe/Berlin:20260508T083000
DTEND;TZID=Europe/Berlin:20260508T120000
UID:261M25-104-20260508T083000@VHSBREMEN
SUMMARY:Mensch, Umwelt und Tourismus im Wattenmeer (Amrum) (261M25-104) 
LOCATION:Haus Eckart, Wittdün/Amrum, Mittelstraße 20, 25942 Wittdün/Amrum
END:VEVENT
END:VCALENDAR