BEGIN:VCALENDAR
VERSION:2.0
PRODID:https://www.kufer.de/kuferweb / DE
METHOD:PUBLISH
CALSCALE:GREGORIAN
X-WR-TIMEZONE:Europe/Berlin
BEGIN:VTIMEZONE
TZID:Europe/Berlin
X-LIC-LOCATION:Europe/Berlin
BEGIN:DAYLIGHT
TZOFFSETFROM:+0100
TZOFFSETTO:+0200
TZNAME:CEST
DTSTART:19700329T020000
RRULE:FREQ=YEARLY;INTERVAL=1;BYDAY=-1SU;BYMONTH=3
END:DAYLIGHT
BEGIN:STANDARD
TZOFFSETFROM:+0200
TZOFFSETTO:+0100
TZNAME:CET
DTSTART:19701025T030000
RRULE:FREQ=YEARLY;INTERVAL=1;BYDAY=-1SU;BYMONTH=10
END:STANDARD
END:VTIMEZONE
BEGIN:VEVENT
DTSTAMP:20260419T214402
DTSTART;TZID=Europe/Berlin:20260529T084500
DTEND;TZID=Europe/Berlin:20260529T124500
UID:252N31-359-20260529T084500@VHSBREMEN
SUMMARY:Deutsch Alpha Modul 9 Für Wiederholer*innen (252N31-359) 
LOCATION:vhs - Nord, Raum D30, Kirchheide 49, 28757 Bremen
END:VEVENT
BEGIN:VEVENT
DTSTAMP:20260419T214402
DTSTART;TZID=Europe/Berlin:20260603T084500
DTEND;TZID=Europe/Berlin:20260603T124500
UID:252N31-359-20260603T084500@VHSBREMEN
SUMMARY:Deutsch Alpha Modul 9 Für Wiederholer*innen (252N31-359) 
LOCATION:vhs - Nord, Raum D30, Kirchheide 49, 28757 Bremen
END:VEVENT
BEGIN:VEVENT
DTSTAMP:20260419T214402
DTSTART;TZID=Europe/Berlin:20260604T084500
DTEND;TZID=Europe/Berlin:20260604T124500
UID:252N31-359-20260604T084500@VHSBREMEN
SUMMARY:Deutsch Alpha Modul 9 Für Wiederholer*innen (252N31-359) 
LOCATION:vhs - Nord, Raum D30, Kirchheide 49, 28757 Bremen
END:VEVENT
BEGIN:VEVENT
DTSTAMP:20260419T214402
DTSTART;TZID=Europe/Berlin:20260605T084500
DTEND;TZID=Europe/Berlin:20260605T124500
UID:252N31-359-20260605T084500@VHSBREMEN
SUMMARY:Deutsch Alpha Modul 9 Für Wiederholer*innen (252N31-359) 
LOCATION:vhs - Nord, Raum D30, Kirchheide 49, 28757 Bremen
END:VEVENT
BEGIN:VEVENT
DTSTAMP:20260419T214402
DTSTART;TZID=Europe/Berlin:20260610T084500
DTEND;TZID=Europe/Berlin:20260610T124500
UID:252N31-359-20260610T084500@VHSBREMEN
SUMMARY:Deutsch Alpha Modul 9 Für Wiederholer*innen (252N31-359) 
LOCATION:vhs - Nord, Raum D30, Kirchheide 49, 28757 Bremen
END:VEVENT
BEGIN:VEVENT
DTSTAMP:20260419T214402
DTSTART;TZID=Europe/Berlin:20260611T084500
DTEND;TZID=Europe/Berlin:20260611T124500
UID:252N31-359-20260611T084500@VHSBREMEN
SUMMARY:Deutsch Alpha Modul 9 Für Wiederholer*innen (252N31-359) 
LOCATION:vhs - Nord, Raum D30, Kirchheide 49, 28757 Bremen
END:VEVENT
BEGIN:VEVENT
DTSTAMP:20260419T214402
DTSTART;TZID=Europe/Berlin:20260612T084500
DTEND;TZID=Europe/Berlin:20260612T124500
UID:252N31-359-20260612T084500@VHSBREMEN
SUMMARY:Deutsch Alpha Modul 9 Für Wiederholer*innen (252N31-359) 
LOCATION:vhs - Nord, Raum D30, Kirchheide 49, 28757 Bremen
END:VEVENT
BEGIN:VEVENT
DTSTAMP:20260419T214402
DTSTART;TZID=Europe/Berlin:20260617T084500
DTEND;TZID=Europe/Berlin:20260617T124500
UID:252N31-359-20260617T084500@VHSBREMEN
SUMMARY:Deutsch Alpha Modul 9 Für Wiederholer*innen (252N31-359) 
LOCATION:vhs - Nord, Raum D30, Kirchheide 49, 28757 Bremen
END:VEVENT
BEGIN:VEVENT
DTSTAMP:20260419T214402
DTSTART;TZID=Europe/Berlin:20260618T084500
DTEND;TZID=Europe/Berlin:20260618T124500
UID:252N31-359-20260618T084500@VHSBREMEN
SUMMARY:Deutsch Alpha Modul 9 Für Wiederholer*innen (252N31-359) 
LOCATION:vhs - Nord, Raum D30, Kirchheide 49, 28757 Bremen
END:VEVENT
BEGIN:VEVENT
DTSTAMP:20260419T214402
DTSTART;TZID=Europe/Berlin:20260619T084500
DTEND;TZID=Europe/Berlin:20260619T124500
UID:252N31-359-20260619T084500@VHSBREMEN
SUMMARY:Deutsch Alpha Modul 9 Für Wiederholer*innen (252N31-359) 
LOCATION:vhs - Nord, Raum D30, Kirchheide 49, 28757 Bremen
END:VEVENT
BEGIN:VEVENT
DTSTAMP:20260419T214402
DTSTART;TZID=Europe/Berlin:20260624T084500
DTEND;TZID=Europe/Berlin:20260624T124500
UID:252N31-359-20260624T084500@VHSBREMEN
SUMMARY:Deutsch Alpha Modul 9 Für Wiederholer*innen (252N31-359) 
LOCATION:vhs - Nord, Raum D30, Kirchheide 49, 28757 Bremen
END:VEVENT
BEGIN:VEVENT
DTSTAMP:20260419T214402
DTSTART;TZID=Europe/Berlin:20260625T084500
DTEND;TZID=Europe/Berlin:20260625T124500
UID:252N31-359-20260625T084500@VHSBREMEN
SUMMARY:Deutsch Alpha Modul 9 Für Wiederholer*innen (252N31-359) 
LOCATION:vhs - Nord, Raum D30, Kirchheide 49, 28757 Bremen
END:VEVENT
BEGIN:VEVENT
DTSTAMP:20260419T214402
DTSTART;TZID=Europe/Berlin:20260626T084500
DTEND;TZID=Europe/Berlin:20260626T124500
UID:252N31-359-20260626T084500@VHSBREMEN
SUMMARY:Deutsch Alpha Modul 9 Für Wiederholer*innen (252N31-359) 
LOCATION:vhs - Nord, Raum D30, Kirchheide 49, 28757 Bremen
END:VEVENT
BEGIN:VEVENT
DTSTAMP:20260419T214402
DTSTART;TZID=Europe/Berlin:20260701T084500
DTEND;TZID=Europe/Berlin:20260701T124500
UID:252N31-359-20260701T084500@VHSBREMEN
SUMMARY:Deutsch Alpha Modul 9 Für Wiederholer*innen (252N31-359) 
LOCATION:vhs - Nord, Raum D30, Kirchheide 49, 28757 Bremen
END:VEVENT
BEGIN:VEVENT
DTSTAMP:20260419T214402
DTSTART;TZID=Europe/Berlin:20260819T084500
DTEND;TZID=Europe/Berlin:20260819T124500
UID:252N31-359-20260819T084500@VHSBREMEN
SUMMARY:Deutsch Alpha Modul 9 Für Wiederholer*innen (252N31-359) 
LOCATION:vhs - Nord, Raum D30, Kirchheide 49, 28757 Bremen
END:VEVENT
BEGIN:VEVENT
DTSTAMP:20260419T214402
DTSTART;TZID=Europe/Berlin:20260820T084500
DTEND;TZID=Europe/Berlin:20260820T124500
UID:252N31-359-20260820T084500@VHSBREMEN
SUMMARY:Deutsch Alpha Modul 9 Für Wiederholer*innen (252N31-359) 
LOCATION:vhs - Nord, Raum D30, Kirchheide 49, 28757 Bremen
END:VEVENT
BEGIN:VEVENT
DTSTAMP:20260419T214402
DTSTART;TZID=Europe/Berlin:20260821T084500
DTEND;TZID=Europe/Berlin:20260821T124500
UID:252N31-359-20260821T084500@VHSBREMEN
SUMMARY:Deutsch Alpha Modul 9 Für Wiederholer*innen (252N31-359) 
LOCATION:vhs - Nord, Raum D30, Kirchheide 49, 28757 Bremen
END:VEVENT
BEGIN:VEVENT
DTSTAMP:20260419T214402
DTSTART;TZID=Europe/Berlin:20260826T084500
DTEND;TZID=Europe/Berlin:20260826T124500
UID:252N31-359-20260826T084500@VHSBREMEN
SUMMARY:Deutsch Alpha Modul 9 Für Wiederholer*innen (252N31-359) 
LOCATION:vhs - Nord, Raum D30, Kirchheide 49, 28757 Bremen
END:VEVENT
BEGIN:VEVENT
DTSTAMP:20260419T214402
DTSTART;TZID=Europe/Berlin:20260827T084500
DTEND;TZID=Europe/Berlin:20260827T124500
UID:252N31-359-20260827T084500@VHSBREMEN
SUMMARY:Deutsch Alpha Modul 9 Für Wiederholer*innen (252N31-359) 
LOCATION:vhs - Nord, Raum D30, Kirchheide 49, 28757 Bremen
END:VEVENT
BEGIN:VEVENT
DTSTAMP:20260419T214402
DTSTART;TZID=Europe/Berlin:20260828T084500
DTEND;TZID=Europe/Berlin:20260828T124500
UID:252N31-359-20260828T084500@VHSBREMEN
SUMMARY:Deutsch Alpha Modul 9 Für Wiederholer*innen (252N31-359) 
LOCATION:vhs - Nord, Raum D30, Kirchheide 49, 28757 Bremen
END:VEVENT
END:VCALENDAR